BEGIN:VCALENDAR
VERSION:2.0
PRODID:-//Savannah Food Truck Force - ECPv6.15.12.2//NONSGML v1.0//EN
CALSCALE:GREGORIAN
METHOD:PUBLISH
X-WR-CALNAME:Savannah Food Truck Force
X-ORIGINAL-URL:https://savannahfoodtruckforce.com
X-WR-CALDESC:Events for Savannah Food Truck Force
REFRESH-INTERVAL;VALUE=DURATION:PT1H
X-Robots-Tag:noindex
X-PUBLISHED-TTL:PT1H
BEGIN:VTIMEZONE
TZID:America/New_York
BEGIN:DAYLIGHT
TZOFFSETFROM:-0500
TZOFFSETTO:-0400
TZNAME:EDT
DTSTART:20230312T070000
END:DAYLIGHT
BEGIN:STANDARD
TZOFFSETFROM:-0400
TZOFFSETTO:-0500
TZNAME:EST
DTSTART:20231105T060000
END:STANDARD
BEGIN:DAYLIGHT
TZOFFSETFROM:-0500
TZOFFSETTO:-0400
TZNAME:EDT
DTSTART:20240310T070000
END:DAYLIGHT
BEGIN:STANDARD
TZOFFSETFROM:-0400
TZOFFSETTO:-0500
TZNAME:EST
DTSTART:20241103T060000
END:STANDARD
BEGIN:DAYLIGHT
TZOFFSETFROM:-0500
TZOFFSETTO:-0400
TZNAME:EDT
DTSTART:20250309T070000
END:DAYLIGHT
BEGIN:STANDARD
TZOFFSETFROM:-0400
TZOFFSETTO:-0500
TZNAME:EST
DTSTART:20251102T060000
END:STANDARD
END:VTIMEZONE
BEGIN:VEVENT
DTSTART;TZID=America/New_York:20240904T110000
DTEND;TZID=America/New_York:20240904T140000
DTSTAMP:20260425T215828
CREATED:20240823T193518Z
LAST-MODIFIED:20240823T193518Z
UID:10010378-1725447600-1725458400@savannahfoodtruckforce.com
SUMMARY:-
DESCRIPTION:
URL:https://savannahfoodtruckforce.com/schedule/51150/
LOCATION:Red Gate Farms\, 136 Red Gate Farms Trail\, Savannah\, GA\, 31405\, United States
END:VEVENT
BEGIN:VEVENT
DTSTART;TZID=America/New_York:20240904T170000
DTEND;TZID=America/New_York:20240904T193000
DTSTAMP:20260425T215828
CREATED:20240823T193447Z
LAST-MODIFIED:20240904T174736Z
UID:10010447-1725469200-1725478200@savannahfoodtruckforce.com
SUMMARY:-
DESCRIPTION:
URL:https://savannahfoodtruckforce.com/schedule/51288/
LOCATION:The Ellis\, 3 Woodcock Rd\, Savannah\, GA\, 31404\, United States
ORGANIZER;CN="The Naked Dog":MAILTO:nakeddogfoodtruck@gmail.com
END:VEVENT
BEGIN:VEVENT
DTSTART;TZID=America/New_York:20240904T170000
DTEND;TZID=America/New_York:20240904T193000
DTSTAMP:20260425T215828
CREATED:20240823T193457Z
LAST-MODIFIED:20240823T193457Z
UID:10010410-1725469200-1725478200@savannahfoodtruckforce.com
SUMMARY:-
DESCRIPTION:
URL:https://savannahfoodtruckforce.com/schedule/51214/
LOCATION:Coastal Cathedral @ Berwick\, 275 Berwick Blvd\, Savannah\, GA\, 31419\, United States
ORGANIZER;CN="Sweet Spice":MAILTO:sweetspice960@gmail.com
END:VEVENT
BEGIN:VEVENT
DTSTART;TZID=America/New_York:20240904T170000
DTEND;TZID=America/New_York:20240904T193000
DTSTAMP:20260425T215828
CREATED:20240823T193457Z
LAST-MODIFIED:20240904T182909Z
UID:10010414-1725469200-1725478200@savannahfoodtruckforce.com
SUMMARY:-
DESCRIPTION:
URL:https://savannahfoodtruckforce.com/schedule/51222/
LOCATION:MAA Hammocks\, 25 Johnny Mercer Blvd\, Savannah\, GA\, 31410\, United States
ORGANIZER;CN="Krazian":MAILTO:krazian2@gmail.com
END:VEVENT
BEGIN:VEVENT
DTSTART;TZID=America/New_York:20240904T170000
DTEND;TZID=America/New_York:20240904T193000
DTSTAMP:20260425T215828
CREATED:20240823T193457Z
LAST-MODIFIED:20240823T193457Z
UID:10010423-1725469200-1725478200@savannahfoodtruckforce.com
SUMMARY:-
DESCRIPTION:
URL:https://savannahfoodtruckforce.com/schedule/51240/
LOCATION:Village at Rice Hope\, 203 Magnolia Blvd.\, Port Wentworth\, GA\, 31407\, United States
ORGANIZER;CN="Food Boxx":MAILTO:thefoodboxx@yahoo.com
END:VEVENT
BEGIN:VEVENT
DTSTART;TZID=America/New_York:20240904T170000
DTEND;TZID=America/New_York:20240904T193000
DTSTAMP:20260425T215828
CREATED:20240823T193508Z
LAST-MODIFIED:20240831T160124Z
UID:10010394-1725469200-1725478200@savannahfoodtruckforce.com
SUMMARY:-
DESCRIPTION:
URL:https://savannahfoodtruckforce.com/schedule/51182/
LOCATION:Westwind Landing\, 450 Johnny Mercer Blvd\, Savannah\, GA\, 31401\, United States
ORGANIZER;CN="Pie Society":MAILTO:hello@thebritishpiecompany.com
END:VEVENT
BEGIN:VEVENT
DTSTART;TZID=America/New_York:20240904T170000
DTEND;TZID=America/New_York:20240904T193000
DTSTAMP:20260425T215828
CREATED:20240823T193508Z
LAST-MODIFIED:20240823T193508Z
UID:10010407-1725469200-1725478200@savannahfoodtruckforce.com
SUMMARY:-
DESCRIPTION:
URL:https://savannahfoodtruckforce.com/schedule/51208/
LOCATION:RiverMoor West Apartments\, 1601 Riddick Lane\, Savannah\, GA\, 31407\, United States
ORGANIZER;CN="Royal Tasty Avenue":MAILTO:royaltastyavenuefoodtruck@gmail.com
END:VEVENT
BEGIN:VEVENT
DTSTART;TZID=America/New_York:20240904T170000
DTEND;TZID=America/New_York:20240904T193000
DTSTAMP:20260425T215828
CREATED:20240823T193518Z
LAST-MODIFIED:20240823T193518Z
UID:10010383-1725469200-1725478200@savannahfoodtruckforce.com
SUMMARY:-
DESCRIPTION:
URL:https://savannahfoodtruckforce.com/schedule/51160/
LOCATION:Olde Towne\, 101 Olde Town Rd\, Savannah\, GA\, 31410\, United States
ORGANIZER;CN="Chazitos Latin Cuisine":MAILTO:Chazitosfoodtruck@gmail.com
END:VEVENT
BEGIN:VEVENT
DTSTART;TZID=America/New_York:20240904T170000
DTEND;TZID=America/New_York:20240904T193000
DTSTAMP:20260425T215828
CREATED:20240823T193519Z
LAST-MODIFIED:20240823T193519Z
UID:10010373-1725469200-1725478200@savannahfoodtruckforce.com
SUMMARY:-
DESCRIPTION:
URL:https://savannahfoodtruckforce.com/schedule/51139/
LOCATION:The Carlyle at Godley Station – Pooler\, GA\, 385 Godley Station Blvd\,\, Pooler\, GA\, 31322\, United States
ORGANIZER;CN="Bowtie Barbecue Co.":MAILTO:Danielle@donaldsonenterprises.com
END:VEVENT
BEGIN:VEVENT
DTSTART;TZID=America/New_York:20240904T170000
DTEND;TZID=America/New_York:20240904T193000
DTSTAMP:20260425T215828
CREATED:20240826T152136Z
LAST-MODIFIED:20240826T152136Z
UID:10010459-1725469200-1725478200@savannahfoodtruckforce.com
SUMMARY:-
DESCRIPTION:
URL:https://savannahfoodtruckforce.com/schedule/51312/
LOCATION:Coastal Cathedral @ Berwick\, 275 Berwick Blvd\, Savannah\, GA\, 31419\, United States
ORGANIZER;CN="Jonny Boy Cookies":MAILTO:info@jonnyboycookies.com
END:VEVENT
END:VCALENDAR