BEGIN:VCALENDAR
VERSION:2.0
PRODID:-//Savannah Food Truck Force - ECPv6.15.12.2//NONSGML v1.0//EN
CALSCALE:GREGORIAN
METHOD:PUBLISH
X-ORIGINAL-URL:https://savannahfoodtruckforce.com
X-WR-CALDESC:Events for Savannah Food Truck Force
REFRESH-INTERVAL;VALUE=DURATION:PT1H
X-Robots-Tag:noindex
X-PUBLISHED-TTL:PT1H
BEGIN:VTIMEZONE
TZID:America/New_York
BEGIN:DAYLIGHT
TZOFFSETFROM:-0500
TZOFFSETTO:-0400
TZNAME:EDT
DTSTART:20230312T070000
END:DAYLIGHT
BEGIN:STANDARD
TZOFFSETFROM:-0400
TZOFFSETTO:-0500
TZNAME:EST
DTSTART:20231105T060000
END:STANDARD
BEGIN:DAYLIGHT
TZOFFSETFROM:-0500
TZOFFSETTO:-0400
TZNAME:EDT
DTSTART:20240310T070000
END:DAYLIGHT
BEGIN:STANDARD
TZOFFSETFROM:-0400
TZOFFSETTO:-0500
TZNAME:EST
DTSTART:20241103T060000
END:STANDARD
BEGIN:DAYLIGHT
TZOFFSETFROM:-0500
TZOFFSETTO:-0400
TZNAME:EDT
DTSTART:20250309T070000
END:DAYLIGHT
BEGIN:STANDARD
TZOFFSETFROM:-0400
TZOFFSETTO:-0500
TZNAME:EST
DTSTART:20251102T060000
END:STANDARD
END:VTIMEZONE
BEGIN:VEVENT
DTSTART;TZID=America/New_York:20240910T110000
DTEND;TZID=America/New_York:20240910T140000
DTSTAMP:20260425T113558
CREATED:20240823T193457Z
LAST-MODIFIED:20240828T185854Z
UID:10010421-1725966000-1725976800@savannahfoodtruckforce.com
SUMMARY:-
DESCRIPTION:
URL:https://savannahfoodtruckforce.com/schedule/51236/
LOCATION:Savannah Convention Center\, 1 International Dr.\, Savannah\, GA\, 31421\, United States
ORGANIZER;CN="The Naked Dog":MAILTO:nakeddogfoodtruck@gmail.com
END:VEVENT
BEGIN:VEVENT
DTSTART;TZID=America/New_York:20240910T110000
DTEND;TZID=America/New_York:20240910T140000
DTSTAMP:20260425T113558
CREATED:20240823T193457Z
LAST-MODIFIED:20240823T193457Z
UID:10010431-1725966000-1725976800@savannahfoodtruckforce.com
SUMMARY:-
DESCRIPTION:
URL:https://savannahfoodtruckforce.com/schedule/51256/
LOCATION:Savannah Convention Center\, 1 International Dr.\, Savannah\, GA\, 31421\, United States
ORGANIZER;CN="Jonny Boy Cookies":MAILTO:info@jonnyboycookies.com
END:VEVENT
BEGIN:VEVENT
DTSTART;TZID=America/New_York:20240910T110000
DTEND;TZID=America/New_York:20240910T140000
DTSTAMP:20260425T113558
CREATED:20240823T193508Z
LAST-MODIFIED:20240823T193508Z
UID:10010408-1725966000-1725976800@savannahfoodtruckforce.com
SUMMARY:-
DESCRIPTION:
URL:https://savannahfoodtruckforce.com/schedule/51210/
LOCATION:Savannah Convention Center\, 1 International Dr.\, Savannah\, GA\, 31421\, United States
ORGANIZER;CN="Royal Tasty Avenue":MAILTO:royaltastyavenuefoodtruck@gmail.com
END:VEVENT
BEGIN:VEVENT
DTSTART;TZID=America/New_York:20240910T110000
DTEND;TZID=America/New_York:20240910T140000
DTSTAMP:20260425T113558
CREATED:20240901T152700Z
LAST-MODIFIED:20240901T152700Z
UID:10010462-1725966000-1725976800@savannahfoodtruckforce.com
SUMMARY:-
DESCRIPTION:
URL:https://savannahfoodtruckforce.com/schedule/51321/
LOCATION:Savannah Convention Center\, 1 International Dr.\, Savannah\, GA\, 31421\, United States
ORGANIZER;CN="Food Boxx":MAILTO:thefoodboxx@yahoo.com
END:VEVENT
BEGIN:VEVENT
DTSTART;TZID=America/New_York:20240910T120000
DTEND;TZID=America/New_York:20240910T140000
DTSTAMP:20260425T113558
CREATED:20240823T193447Z
LAST-MODIFIED:20240910T155217Z
UID:10010437-1725969600-1725976800@savannahfoodtruckforce.com
SUMMARY:-
DESCRIPTION:
URL:https://savannahfoodtruckforce.com/schedule/51268/
LOCATION:Savannah Convention Center\, 1 International Dr.\, Savannah\, GA\, 31421\, United States
ORGANIZER;CN="Latin Chicks":MAILTO:latinchicks.bookings@gmail.com
END:VEVENT
BEGIN:VEVENT
DTSTART;TZID=America/New_York:20240910T170000
DTEND;TZID=America/New_York:20240910T193000
DTSTAMP:20260425T113558
CREATED:20240907T160911Z
LAST-MODIFIED:20240910T195710Z
UID:10010516-1725987600-1725996600@savannahfoodtruckforce.com
SUMMARY:-
DESCRIPTION:
URL:https://savannahfoodtruckforce.com/schedule/51483/
LOCATION:Avala\, 300 Blue Moon Crossing\, Pooler\, GA\, 31322\, United States
ORGANIZER;CN="The Naked Dog":MAILTO:nakeddogfoodtruck@gmail.com
END:VEVENT
BEGIN:VEVENT
DTSTART;TZID=America/New_York:20240910T170000
DTEND;TZID=America/New_York:20240910T193000
DTSTAMP:20260425T113558
CREATED:20240907T160923Z
LAST-MODIFIED:20240907T160923Z
UID:10010488-1725987600-1725996600@savannahfoodtruckforce.com
SUMMARY:-
DESCRIPTION:
URL:https://savannahfoodtruckforce.com/schedule/51403/
LOCATION:Adara\, 101 Spring Lakes Drive\, Savannah\, GA\, 31407\, United States
ORGANIZER;CN="Chazitos Latin Cuisine":MAILTO:Chazitosfoodtruck@gmail.com
END:VEVENT
END:VCALENDAR