BEGIN:VCALENDAR
VERSION:2.0
PRODID:-//Savannah Food Truck Force - ECPv6.15.12.2//NONSGML v1.0//EN
CALSCALE:GREGORIAN
METHOD:PUBLISH
X-ORIGINAL-URL:https://savannahfoodtruckforce.com
X-WR-CALDESC:Events for Savannah Food Truck Force
REFRESH-INTERVAL;VALUE=DURATION:PT1H
X-Robots-Tag:noindex
X-PUBLISHED-TTL:PT1H
BEGIN:VTIMEZONE
TZID:America/New_York
BEGIN:DAYLIGHT
TZOFFSETFROM:-0500
TZOFFSETTO:-0400
TZNAME:EDT
DTSTART:20230312T070000
END:DAYLIGHT
BEGIN:STANDARD
TZOFFSETFROM:-0400
TZOFFSETTO:-0500
TZNAME:EST
DTSTART:20231105T060000
END:STANDARD
BEGIN:DAYLIGHT
TZOFFSETFROM:-0500
TZOFFSETTO:-0400
TZNAME:EDT
DTSTART:20240310T070000
END:DAYLIGHT
BEGIN:STANDARD
TZOFFSETFROM:-0400
TZOFFSETTO:-0500
TZNAME:EST
DTSTART:20241103T060000
END:STANDARD
BEGIN:DAYLIGHT
TZOFFSETFROM:-0500
TZOFFSETTO:-0400
TZNAME:EDT
DTSTART:20250309T070000
END:DAYLIGHT
BEGIN:STANDARD
TZOFFSETFROM:-0400
TZOFFSETTO:-0500
TZNAME:EST
DTSTART:20251102T060000
END:STANDARD
END:VTIMEZONE
BEGIN:VEVENT
DTSTART;TZID=America/New_York:20240912T170000
DTEND;TZID=America/New_York:20240912T193000
DTSTAMP:20260425T082502
CREATED:20240907T160858Z
LAST-MODIFIED:20240907T160858Z
UID:10010521-1726160400-1726169400@savannahfoodtruckforce.com
SUMMARY:-
DESCRIPTION:
URL:https://savannahfoodtruckforce.com/schedule/51495/
LOCATION:Coastal Cathedral @ Berwick\, 275 Berwick Blvd\, Savannah\, GA\, 31419\, United States
ORGANIZER;CN="Mac Attack":MAILTO:macattackfs@yahoo.com
END:VEVENT
BEGIN:VEVENT
DTSTART;TZID=America/New_York:20240912T170000
DTEND;TZID=America/New_York:20240912T193000
DTSTAMP:20260425T082502
CREATED:20240907T160858Z
LAST-MODIFIED:20240907T160858Z
UID:10010522-1726160400-1726169400@savannahfoodtruckforce.com
SUMMARY:-
DESCRIPTION:
URL:https://savannahfoodtruckforce.com/schedule/51497/
LOCATION:Coastal Cathedral @ Berwick\, 275 Berwick Blvd\, Savannah\, GA\, 31419\, United States
ORGANIZER;CN="Mac Attack":MAILTO:macattackfs@yahoo.com
END:VEVENT
BEGIN:VEVENT
DTSTART;TZID=America/New_York:20240912T170000
DTEND;TZID=America/New_York:20240912T193000
DTSTAMP:20260425T082502
CREATED:20240907T160858Z
LAST-MODIFIED:20240907T160858Z
UID:10010535-1726160400-1726169400@savannahfoodtruckforce.com
SUMMARY:-
DESCRIPTION:
URL:https://savannahfoodtruckforce.com/schedule/51525/
LOCATION:The Park at Eastern Wharf\, 101 Port St.\, Savannah\, GA\, 31401\, United States
ORGANIZER;CN="Top Dog":MAILTO:Topdogsfoodtruck@gmail.com
END:VEVENT
BEGIN:VEVENT
DTSTART;TZID=America/New_York:20240912T170000
DTEND;TZID=America/New_York:20240912T193000
DTSTAMP:20260425T082502
CREATED:20240907T160911Z
LAST-MODIFIED:20240913T123314Z
UID:10010512-1726160400-1726169400@savannahfoodtruckforce.com
SUMMARY:-
DESCRIPTION:
URL:https://savannahfoodtruckforce.com/schedule/51475/
LOCATION:Lighthouse Baptist Church – WI\, 401 Quarterman Dr\, Savannah\, United States
ORGANIZER;CN="Krazian":MAILTO:krazian2@gmail.com
END:VEVENT
BEGIN:VEVENT
DTSTART;TZID=America/New_York:20240912T170000
DTEND;TZID=America/New_York:20240912T193000
DTSTAMP:20260425T082502
CREATED:20240907T160911Z
LAST-MODIFIED:20240907T160911Z
UID:10010517-1726160400-1726169400@savannahfoodtruckforce.com
SUMMARY:-
DESCRIPTION:
URL:https://savannahfoodtruckforce.com/schedule/51485/
LOCATION:Olde Towne\, 101 Olde Town Rd\, Savannah\, GA\, 31410\, United States
ORGANIZER;CN="The Naked Dog":MAILTO:nakeddogfoodtruck@gmail.com
END:VEVENT
BEGIN:VEVENT
DTSTART;TZID=America/New_York:20240912T170000
DTEND;TZID=America/New_York:20240912T193000
DTSTAMP:20260425T082502
CREATED:20240907T160923Z
LAST-MODIFIED:20240907T160923Z
UID:10010484-1726160400-1726169400@savannahfoodtruckforce.com
SUMMARY:-
DESCRIPTION:
URL:https://savannahfoodtruckforce.com/schedule/51395/
LOCATION:Long Point\, 1 Lymann Hall\, Savannah\, GA\, 31410\, United States
END:VEVENT
BEGIN:VEVENT
DTSTART;TZID=America/New_York:20240912T170000
DTEND;TZID=America/New_York:20240912T193000
DTSTAMP:20260425T082502
CREATED:20240907T160932Z
LAST-MODIFIED:20240907T160932Z
UID:10010468-1726160400-1726169400@savannahfoodtruckforce.com
SUMMARY:-
DESCRIPTION:
URL:https://savannahfoodtruckforce.com/schedule/51351/
LOCATION:Wentworth Park Apartments\, 7450 Highway 21\, Port Wentworth\, GA\, 31407\, United States
ORGANIZER;CN="Bayou Cafe":MAILTO:Bayousavannah@gmail.com
END:VEVENT
BEGIN:VEVENT
DTSTART;TZID=America/New_York:20240912T170000
DTEND;TZID=America/New_York:20240912T193000
DTSTAMP:20260425T082502
CREATED:20240907T160932Z
LAST-MODIFIED:20240907T160932Z
UID:10010474-1726160400-1726169400@savannahfoodtruckforce.com
SUMMARY:-
DESCRIPTION:
URL:https://savannahfoodtruckforce.com/schedule/51376/
LOCATION:The Sycamore Church\, 2031 Grove Point Rd.\, Savannah\, GA\, 31419\, United States
ORGANIZER;CN="Bowtie Barbecue Co.":MAILTO:Danielle@donaldsonenterprises.com
END:VEVENT
END:VCALENDAR