BEGIN:VCALENDAR
VERSION:2.0
PRODID:-//Savannah Food Truck Force - ECPv6.15.12.2//NONSGML v1.0//EN
CALSCALE:GREGORIAN
METHOD:PUBLISH
X-WR-CALNAME:Savannah Food Truck Force
X-ORIGINAL-URL:https://savannahfoodtruckforce.com
X-WR-CALDESC:Events for Savannah Food Truck Force
REFRESH-INTERVAL;VALUE=DURATION:PT1H
X-Robots-Tag:noindex
X-PUBLISHED-TTL:PT1H
BEGIN:VTIMEZONE
TZID:America/New_York
BEGIN:DAYLIGHT
TZOFFSETFROM:-0500
TZOFFSETTO:-0400
TZNAME:EDT
DTSTART:20230312T070000
END:DAYLIGHT
BEGIN:STANDARD
TZOFFSETFROM:-0400
TZOFFSETTO:-0500
TZNAME:EST
DTSTART:20231105T060000
END:STANDARD
BEGIN:DAYLIGHT
TZOFFSETFROM:-0500
TZOFFSETTO:-0400
TZNAME:EDT
DTSTART:20240310T070000
END:DAYLIGHT
BEGIN:STANDARD
TZOFFSETFROM:-0400
TZOFFSETTO:-0500
TZNAME:EST
DTSTART:20241103T060000
END:STANDARD
BEGIN:DAYLIGHT
TZOFFSETFROM:-0500
TZOFFSETTO:-0400
TZNAME:EDT
DTSTART:20250309T070000
END:DAYLIGHT
BEGIN:STANDARD
TZOFFSETFROM:-0400
TZOFFSETTO:-0500
TZNAME:EST
DTSTART:20251102T060000
END:STANDARD
END:VTIMEZONE
BEGIN:VEVENT
DTSTART;TZID=America/New_York:20240929T123000
DTEND;TZID=America/New_York:20240929T170000
DTSTAMP:20260424T043510
CREATED:20240921T011020Z
LAST-MODIFIED:20240921T011020Z
UID:10010553-1727613000-1727629200@savannahfoodtruckforce.com
SUMMARY:-
DESCRIPTION:
URL:https://savannahfoodtruckforce.com/schedule/51635/
LOCATION:Service Brewing\, 574 Indian Street\, Savannah\, GA\, 31401\, United States
END:VEVENT
BEGIN:VEVENT
DTSTART;TZID=America/New_York:20240929T170000
DTEND;TZID=America/New_York:20240929T193000
DTSTAMP:20260424T043510
CREATED:20240921T011012Z
LAST-MODIFIED:20240921T011012Z
UID:10010570-1727629200-1727638200@savannahfoodtruckforce.com
SUMMARY:-
DESCRIPTION:
URL:https://savannahfoodtruckforce.com/schedule/51669/
LOCATION:Dutch Island\, 120 Dutch Island Dr\, Savannah\, GA\, 31406\, United States
ORGANIZER;CN="Pie Society":MAILTO:hello@thebritishpiecompany.com
END:VEVENT
END:VCALENDAR