BEGIN:VCALENDAR
VERSION:2.0
PRODID:-//Savannah Food Truck Force - ECPv6.15.12.2//NONSGML v1.0//EN
CALSCALE:GREGORIAN
METHOD:PUBLISH
X-ORIGINAL-URL:https://savannahfoodtruckforce.com
X-WR-CALDESC:Events for Savannah Food Truck Force
REFRESH-INTERVAL;VALUE=DURATION:PT1H
X-Robots-Tag:noindex
X-PUBLISHED-TTL:PT1H
BEGIN:VTIMEZONE
TZID:America/New_York
BEGIN:DAYLIGHT
TZOFFSETFROM:-0500
TZOFFSETTO:-0400
TZNAME:EDT
DTSTART:20230312T070000
END:DAYLIGHT
BEGIN:STANDARD
TZOFFSETFROM:-0400
TZOFFSETTO:-0500
TZNAME:EST
DTSTART:20231105T060000
END:STANDARD
BEGIN:DAYLIGHT
TZOFFSETFROM:-0500
TZOFFSETTO:-0400
TZNAME:EDT
DTSTART:20240310T070000
END:DAYLIGHT
BEGIN:STANDARD
TZOFFSETFROM:-0400
TZOFFSETTO:-0500
TZNAME:EST
DTSTART:20241103T060000
END:STANDARD
BEGIN:DAYLIGHT
TZOFFSETFROM:-0500
TZOFFSETTO:-0400
TZNAME:EDT
DTSTART:20250309T070000
END:DAYLIGHT
BEGIN:STANDARD
TZOFFSETFROM:-0400
TZOFFSETTO:-0500
TZNAME:EST
DTSTART:20251102T060000
END:STANDARD
END:VTIMEZONE
BEGIN:VEVENT
DTSTART;TZID=America/New_York:20241005T160000
DTEND;TZID=America/New_York:20241005T203000
DTSTAMP:20260423T193550
CREATED:20240921T011002Z
LAST-MODIFIED:20240921T011407Z
UID:10010596-1728144000-1728160200@savannahfoodtruckforce.com
SUMMARY:-
DESCRIPTION:
URL:https://savannahfoodtruckforce.com/schedule/51722/
LOCATION:Forsyth Park – Philharmonic in the Park\, Forsyth Park\, Savannah\, GA\, 31401\, United States
ORGANIZER;CN="The Naked Dog":MAILTO:nakeddogfoodtruck@gmail.com
GEO:32.04;-81.096757190943
X-APPLE-STRUCTURED-LOCATION;VALUE=URI;X-ADDRESS=Forsyth Park – Philharmonic in the Park Forsyth Park Savannah GA 31401 United States;X-APPLE-RADIUS=500;X-TITLE=Forsyth Park:geo:-81.096757190943,32.04
END:VEVENT
BEGIN:VEVENT
DTSTART;TZID=America/New_York:20241005T160000
DTEND;TZID=America/New_York:20241005T203000
DTSTAMP:20260423T193550
CREATED:20240921T011002Z
LAST-MODIFIED:20240921T011002Z
UID:10010601-1728144000-1728160200@savannahfoodtruckforce.com
SUMMARY:-
DESCRIPTION:
URL:https://savannahfoodtruckforce.com/schedule/51732/
LOCATION:Forsyth Park – Philharmonic in the Park\, Forsyth Park\, Savannah\, GA\, 31401\, United States
ORGANIZER;CN="Food Boxx":MAILTO:thefoodboxx@yahoo.com
GEO:32.04;-81.096757190943
X-APPLE-STRUCTURED-LOCATION;VALUE=URI;X-ADDRESS=Forsyth Park – Philharmonic in the Park Forsyth Park Savannah GA 31401 United States;X-APPLE-RADIUS=500;X-TITLE=Forsyth Park:geo:-81.096757190943,32.04
END:VEVENT
BEGIN:VEVENT
DTSTART;TZID=America/New_York:20241005T160000
DTEND;TZID=America/New_York:20241005T203000
DTSTAMP:20260423T193550
CREATED:20240921T011003Z
LAST-MODIFIED:20240921T011003Z
UID:10010591-1728144000-1728160200@savannahfoodtruckforce.com
SUMMARY:-
DESCRIPTION:
URL:https://savannahfoodtruckforce.com/schedule/51711/
LOCATION:Forsyth Park – Philharmonic in the Park\, Forsyth Park\, Savannah\, GA\, 31401\, United States
ORGANIZER;CN="Krazian":MAILTO:krazian2@gmail.com
GEO:32.04;-81.096757190943
X-APPLE-STRUCTURED-LOCATION;VALUE=URI;X-ADDRESS=Forsyth Park – Philharmonic in the Park Forsyth Park Savannah GA 31401 United States;X-APPLE-RADIUS=500;X-TITLE=Forsyth Park:geo:-81.096757190943,32.04
END:VEVENT
BEGIN:VEVENT
DTSTART;TZID=America/New_York:20241005T160000
DTEND;TZID=America/New_York:20241005T203000
DTSTAMP:20260423T193550
CREATED:20240921T011011Z
LAST-MODIFIED:20240921T011011Z
UID:10010578-1728144000-1728160200@savannahfoodtruckforce.com
SUMMARY:-
DESCRIPTION:
URL:https://savannahfoodtruckforce.com/schedule/51685/
LOCATION:Forsyth Park – Philharmonic in the Park\, Forsyth Park\, Savannah\, GA\, 31401\, United States
ORGANIZER;CN="Sweet Spice":MAILTO:sweetspice960@gmail.com
GEO:32.04;-81.096757190943
X-APPLE-STRUCTURED-LOCATION;VALUE=URI;X-ADDRESS=Forsyth Park – Philharmonic in the Park Forsyth Park Savannah GA 31401 United States;X-APPLE-RADIUS=500;X-TITLE=Forsyth Park:geo:-81.096757190943,32.04
END:VEVENT
BEGIN:VEVENT
DTSTART;TZID=America/New_York:20241005T160000
DTEND;TZID=America/New_York:20241005T203000
DTSTAMP:20260423T193550
CREATED:20240921T011012Z
LAST-MODIFIED:20240921T011259Z
UID:10010575-1728144000-1728160200@savannahfoodtruckforce.com
SUMMARY:-
DESCRIPTION:
URL:https://savannahfoodtruckforce.com/schedule/51679/
LOCATION:Forsyth Park – Philharmonic in the Park\, Forsyth Park\, Savannah\, GA\, 31401\, United States
ORGANIZER;CN="Royal Tasty Avenue":MAILTO:royaltastyavenuefoodtruck@gmail.com
GEO:32.04;-81.096757190943
X-APPLE-STRUCTURED-LOCATION;VALUE=URI;X-ADDRESS=Forsyth Park – Philharmonic in the Park Forsyth Park Savannah GA 31401 United States;X-APPLE-RADIUS=500;X-TITLE=Forsyth Park:geo:-81.096757190943,32.04
END:VEVENT
BEGIN:VEVENT
DTSTART;TZID=America/New_York:20241005T160000
DTEND;TZID=America/New_York:20241005T203000
DTSTAMP:20260423T193550
CREATED:20240921T011020Z
LAST-MODIFIED:20240921T011020Z
UID:10010547-1728144000-1728160200@savannahfoodtruckforce.com
SUMMARY:-
DESCRIPTION:
URL:https://savannahfoodtruckforce.com/schedule/51623/
LOCATION:Forsyth Park – Philharmonic in the Park\, Forsyth Park\, Savannah\, GA\, 31401\, United States
ORGANIZER;CN="Bowtie Barbecue Co.":MAILTO:Danielle@donaldsonenterprises.com
GEO:32.04;-81.096757190943
X-APPLE-STRUCTURED-LOCATION;VALUE=URI;X-ADDRESS=Forsyth Park – Philharmonic in the Park Forsyth Park Savannah GA 31401 United States;X-APPLE-RADIUS=500;X-TITLE=Forsyth Park:geo:-81.096757190943,32.04
END:VEVENT
BEGIN:VEVENT
DTSTART;TZID=America/New_York:20241005T160000
DTEND;TZID=America/New_York:20241005T203000
DTSTAMP:20260423T193550
CREATED:20240921T011020Z
LAST-MODIFIED:20240921T011020Z
UID:10010554-1728144000-1728160200@savannahfoodtruckforce.com
SUMMARY:-
DESCRIPTION:
URL:https://savannahfoodtruckforce.com/schedule/51637/
LOCATION:Forsyth Park – Philharmonic in the Park\, Forsyth Park\, Savannah\, GA\, 31401\, United States
GEO:32.04;-81.096757190943
X-APPLE-STRUCTURED-LOCATION;VALUE=URI;X-ADDRESS=Forsyth Park – Philharmonic in the Park Forsyth Park Savannah GA 31401 United States;X-APPLE-RADIUS=500;X-TITLE=Forsyth Park:geo:-81.096757190943,32.04
END:VEVENT
BEGIN:VEVENT
DTSTART;TZID=America/New_York:20241005T160000
DTEND;TZID=America/New_York:20241005T203000
DTSTAMP:20260423T193550
CREATED:20240921T011020Z
LAST-MODIFIED:20240921T011020Z
UID:10010560-1728144000-1728160200@savannahfoodtruckforce.com
SUMMARY:-
DESCRIPTION:
URL:https://savannahfoodtruckforce.com/schedule/51649/
LOCATION:Forsyth Park – Philharmonic in the Park\, Forsyth Park\, Savannah\, GA\, 31401\, United States
ORGANIZER;CN="Chazitos Latin Cuisine":MAILTO:Chazitosfoodtruck@gmail.com
GEO:32.04;-81.096757190943
X-APPLE-STRUCTURED-LOCATION;VALUE=URI;X-ADDRESS=Forsyth Park – Philharmonic in the Park Forsyth Park Savannah GA 31401 United States;X-APPLE-RADIUS=500;X-TITLE=Forsyth Park:geo:-81.096757190943,32.04
END:VEVENT
BEGIN:VEVENT
DTSTART;TZID=America/New_York:20241005T160000
DTEND;TZID=America/New_York:20241005T203000
DTSTAMP:20260423T193550
CREATED:20240921T011030Z
LAST-MODIFIED:20240921T011030Z
UID:10010542-1728144000-1728160200@savannahfoodtruckforce.com
SUMMARY:-
DESCRIPTION:
URL:https://savannahfoodtruckforce.com/schedule/51611/
LOCATION:Forsyth Park – Philharmonic in the Park\, Forsyth Park\, Savannah\, GA\, 31401\, United States
ORGANIZER;CN="Bayou Cafe":MAILTO:Bayousavannah@gmail.com
GEO:32.04;-81.096757190943
X-APPLE-STRUCTURED-LOCATION;VALUE=URI;X-ADDRESS=Forsyth Park – Philharmonic in the Park Forsyth Park Savannah GA 31401 United States;X-APPLE-RADIUS=500;X-TITLE=Forsyth Park:geo:-81.096757190943,32.04
END:VEVENT
BEGIN:VEVENT
DTSTART;TZID=America/New_York:20241005T160000
DTEND;TZID=America/New_York:20241005T203000
DTSTAMP:20260423T193550
CREATED:20240921T011040Z
LAST-MODIFIED:20240921T011040Z
UID:10010603-1728144000-1728160200@savannahfoodtruckforce.com
SUMMARY:-
DESCRIPTION:
URL:https://savannahfoodtruckforce.com/schedule/51736/
LOCATION:Forsyth Park – Philharmonic in the Park\, Forsyth Park\, Savannah\, GA\, 31401\, United States
ORGANIZER;CN="Mac Attack":MAILTO:macattackfs@yahoo.com
GEO:32.04;-81.096757190943
X-APPLE-STRUCTURED-LOCATION;VALUE=URI;X-ADDRESS=Forsyth Park – Philharmonic in the Park Forsyth Park Savannah GA 31401 United States;X-APPLE-RADIUS=500;X-TITLE=Forsyth Park:geo:-81.096757190943,32.04
END:VEVENT
BEGIN:VEVENT
DTSTART;TZID=America/New_York:20241005T160000
DTEND;TZID=America/New_York:20241005T203000
DTSTAMP:20260423T193550
CREATED:20240921T011040Z
LAST-MODIFIED:20240921T011040Z
UID:10010608-1728144000-1728160200@savannahfoodtruckforce.com
SUMMARY:-
DESCRIPTION:
URL:https://savannahfoodtruckforce.com/schedule/51746/
LOCATION:Forsyth Park – Philharmonic in the Park\, Forsyth Park\, Savannah\, GA\, 31401\, United States
ORGANIZER;CN="Jonny Boy Cookies":MAILTO:info@jonnyboycookies.com
GEO:32.04;-81.096757190943
X-APPLE-STRUCTURED-LOCATION;VALUE=URI;X-ADDRESS=Forsyth Park – Philharmonic in the Park Forsyth Park Savannah GA 31401 United States;X-APPLE-RADIUS=500;X-TITLE=Forsyth Park:geo:-81.096757190943,32.04
END:VEVENT
BEGIN:VEVENT
DTSTART;TZID=America/New_York:20241005T160000
DTEND;TZID=America/New_York:20241005T203000
DTSTAMP:20260423T193550
CREATED:20240921T011040Z
LAST-MODIFIED:20240921T011040Z
UID:10010614-1728144000-1728160200@savannahfoodtruckforce.com
SUMMARY:-
DESCRIPTION:
URL:https://savannahfoodtruckforce.com/schedule/51760/
LOCATION:Forsyth Park – Philharmonic in the Park\, Forsyth Park\, Savannah\, GA\, 31401\, United States
ORGANIZER;CN="Slow Fire BBQ":MAILTO:Contact@slowfirebbq.com
GEO:32.04;-81.096757190943
X-APPLE-STRUCTURED-LOCATION;VALUE=URI;X-ADDRESS=Forsyth Park – Philharmonic in the Park Forsyth Park Savannah GA 31401 United States;X-APPLE-RADIUS=500;X-TITLE=Forsyth Park:geo:-81.096757190943,32.04
END:VEVENT
BEGIN:VEVENT
DTSTART;TZID=America/New_York:20241005T160000
DTEND;TZID=America/New_York:20241005T203000
DTSTAMP:20260423T193550
CREATED:20240921T011040Z
LAST-MODIFIED:20240921T011040Z
UID:10010616-1728144000-1728160200@savannahfoodtruckforce.com
SUMMARY:-
DESCRIPTION:
URL:https://savannahfoodtruckforce.com/schedule/51762/
LOCATION:Forsyth Park – Philharmonic in the Park\, Forsyth Park\, Savannah\, GA\, 31401\, United States
ORGANIZER;CN="Mahalo Shave Ice":MAILTO:mahaloshaveicesavannah@gmail.com
GEO:32.04;-81.096757190943
X-APPLE-STRUCTURED-LOCATION;VALUE=URI;X-ADDRESS=Forsyth Park – Philharmonic in the Park Forsyth Park Savannah GA 31401 United States;X-APPLE-RADIUS=500;X-TITLE=Forsyth Park:geo:-81.096757190943,32.04
END:VEVENT
BEGIN:VEVENT
DTSTART;TZID=America/New_York:20241005T160000
DTEND;TZID=America/New_York:20241005T203000
DTSTAMP:20260423T193550
CREATED:20240921T011040Z
LAST-MODIFIED:20240921T011040Z
UID:10010624-1728144000-1728160200@savannahfoodtruckforce.com
SUMMARY:-
DESCRIPTION:
URL:https://savannahfoodtruckforce.com/schedule/51778/
LOCATION:Forsyth Park – Philharmonic in the Park\, Forsyth Park\, Savannah\, GA\, 31401\, United States
ORGANIZER;CN="Top Dog":MAILTO:Topdogsfoodtruck@gmail.com
GEO:32.04;-81.096757190943
X-APPLE-STRUCTURED-LOCATION;VALUE=URI;X-ADDRESS=Forsyth Park – Philharmonic in the Park Forsyth Park Savannah GA 31401 United States;X-APPLE-RADIUS=500;X-TITLE=Forsyth Park:geo:-81.096757190943,32.04
END:VEVENT
END:VCALENDAR