BEGIN:VCALENDAR
VERSION:2.0
PRODID:-//Savannah Food Truck Force - ECPv6.15.12.2//NONSGML v1.0//EN
CALSCALE:GREGORIAN
METHOD:PUBLISH
X-ORIGINAL-URL:https://savannahfoodtruckforce.com
X-WR-CALDESC:Events for Savannah Food Truck Force
REFRESH-INTERVAL;VALUE=DURATION:PT1H
X-Robots-Tag:noindex
X-PUBLISHED-TTL:PT1H
BEGIN:VTIMEZONE
TZID:America/New_York
BEGIN:DAYLIGHT
TZOFFSETFROM:-0500
TZOFFSETTO:-0400
TZNAME:EDT
DTSTART:20230312T070000
END:DAYLIGHT
BEGIN:STANDARD
TZOFFSETFROM:-0400
TZOFFSETTO:-0500
TZNAME:EST
DTSTART:20231105T060000
END:STANDARD
BEGIN:DAYLIGHT
TZOFFSETFROM:-0500
TZOFFSETTO:-0400
TZNAME:EDT
DTSTART:20240310T070000
END:DAYLIGHT
BEGIN:STANDARD
TZOFFSETFROM:-0400
TZOFFSETTO:-0500
TZNAME:EST
DTSTART:20241103T060000
END:STANDARD
BEGIN:DAYLIGHT
TZOFFSETFROM:-0500
TZOFFSETTO:-0400
TZNAME:EDT
DTSTART:20250309T070000
END:DAYLIGHT
BEGIN:STANDARD
TZOFFSETFROM:-0400
TZOFFSETTO:-0500
TZNAME:EST
DTSTART:20251102T060000
END:STANDARD
END:VTIMEZONE
BEGIN:VEVENT
DTSTART;TZID=America/New_York:20241015T110000
DTEND;TZID=America/New_York:20241015T130000
DTSTAMP:20260423T031224
CREATED:20241004T160217Z
LAST-MODIFIED:20241004T160217Z
UID:10010651-1728990000-1728997200@savannahfoodtruckforce.com
SUMMARY:-
DESCRIPTION:
URL:https://savannahfoodtruckforce.com/schedule/51842/
LOCATION:Savannah Convention Center\, 1 International Dr.\, Savannah\, GA\, 31421\, United States
ORGANIZER;CN="Chazitos Latin Cuisine":MAILTO:Chazitosfoodtruck@gmail.com
END:VEVENT
BEGIN:VEVENT
DTSTART;TZID=America/New_York:20241015T110000
DTEND;TZID=America/New_York:20241015T130000
DTSTAMP:20260423T031224
CREATED:20241004T160217Z
LAST-MODIFIED:20241004T160217Z
UID:10010667-1728990000-1728997200@savannahfoodtruckforce.com
SUMMARY:-
DESCRIPTION:
URL:https://savannahfoodtruckforce.com/schedule/51874/
LOCATION:Savannah Convention Center\, 1 International Dr.\, Savannah\, GA\, 31421\, United States
ORGANIZER;CN="Royal Tasty Avenue":MAILTO:royaltastyavenuefoodtruck@gmail.com
END:VEVENT
BEGIN:VEVENT
DTSTART;TZID=America/New_York:20241015T110000
DTEND;TZID=America/New_York:20241015T130000
DTSTAMP:20260423T031224
CREATED:20241004T160228Z
LAST-MODIFIED:20241004T160228Z
UID:10010639-1728990000-1728997200@savannahfoodtruckforce.com
SUMMARY:-
DESCRIPTION:
URL:https://savannahfoodtruckforce.com/schedule/51818/
LOCATION:Savannah Convention Center\, 1 International Dr.\, Savannah\, GA\, 31421\, United States
ORGANIZER;CN="Bowtie Barbecue Co.":MAILTO:Danielle@donaldsonenterprises.com
END:VEVENT
BEGIN:VEVENT
DTSTART;TZID=America/New_York:20241015T170000
DTEND;TZID=America/New_York:20241015T193000
DTSTAMP:20260423T031224
CREATED:20241004T160207Z
LAST-MODIFIED:20241004T160207Z
UID:10010683-1729011600-1729020600@savannahfoodtruckforce.com
SUMMARY:-
DESCRIPTION:
URL:https://savannahfoodtruckforce.com/schedule/51906/
LOCATION:Mariner Grove\, 2010 East President St.\, Savannah\, GA\, 31404\, United States
ORGANIZER;CN="Krazian":MAILTO:krazian2@gmail.com
END:VEVENT
BEGIN:VEVENT
DTSTART;TZID=America/New_York:20241015T170000
DTEND;TZID=America/New_York:20241015T193000
DTSTAMP:20260423T031224
CREATED:20241004T160216Z
LAST-MODIFIED:20241004T160216Z
UID:10010668-1729011600-1729020600@savannahfoodtruckforce.com
SUMMARY:-
DESCRIPTION:
URL:https://savannahfoodtruckforce.com/schedule/51876/
LOCATION:The Preserve at Quacco Woods\, 601 Quacco Road\, Savannah\, GA\, 31419\, United States
ORGANIZER;CN="Royal Tasty Avenue":MAILTO:royaltastyavenuefoodtruck@gmail.com
END:VEVENT
BEGIN:VEVENT
DTSTART;TZID=America/New_York:20241015T170000
DTEND;TZID=America/New_York:20241015T193000
DTSTAMP:20260423T031224
CREATED:20241004T160217Z
LAST-MODIFIED:20241004T160217Z
UID:10010652-1729011600-1729020600@savannahfoodtruckforce.com
SUMMARY:-
DESCRIPTION:
URL:https://savannahfoodtruckforce.com/schedule/51844/
LOCATION:The Merritt\, 15 Johnny Mercer Blvd\, Savannah\, GA\, 31401\, United States
ORGANIZER;CN="Chazitos Latin Cuisine":MAILTO:Chazitosfoodtruck@gmail.com
END:VEVENT
END:VCALENDAR