BEGIN:VCALENDAR
VERSION:2.0
PRODID:-//Savannah Food Truck Force - ECPv6.15.12.2//NONSGML v1.0//EN
CALSCALE:GREGORIAN
METHOD:PUBLISH
X-ORIGINAL-URL:https://savannahfoodtruckforce.com
X-WR-CALDESC:Events for Savannah Food Truck Force
REFRESH-INTERVAL;VALUE=DURATION:PT1H
X-Robots-Tag:noindex
X-PUBLISHED-TTL:PT1H
BEGIN:VTIMEZONE
TZID:America/New_York
BEGIN:DAYLIGHT
TZOFFSETFROM:-0500
TZOFFSETTO:-0400
TZNAME:EDT
DTSTART:20230312T070000
END:DAYLIGHT
BEGIN:STANDARD
TZOFFSETFROM:-0400
TZOFFSETTO:-0500
TZNAME:EST
DTSTART:20231105T060000
END:STANDARD
BEGIN:DAYLIGHT
TZOFFSETFROM:-0500
TZOFFSETTO:-0400
TZNAME:EDT
DTSTART:20240310T070000
END:DAYLIGHT
BEGIN:STANDARD
TZOFFSETFROM:-0400
TZOFFSETTO:-0500
TZNAME:EST
DTSTART:20241103T060000
END:STANDARD
BEGIN:DAYLIGHT
TZOFFSETFROM:-0500
TZOFFSETTO:-0400
TZNAME:EDT
DTSTART:20250309T070000
END:DAYLIGHT
BEGIN:STANDARD
TZOFFSETFROM:-0400
TZOFFSETTO:-0500
TZNAME:EST
DTSTART:20251102T060000
END:STANDARD
END:VTIMEZONE
BEGIN:VEVENT
DTSTART;TZID=America/New_York:20241017T110000
DTEND;TZID=America/New_York:20241017T130000
DTSTAMP:20260422T234544
CREATED:20241004T160158Z
LAST-MODIFIED:20241015T195725Z
UID:10010705-1729162800-1729170000@savannahfoodtruckforce.com
SUMMARY:-
DESCRIPTION:
URL:https://savannahfoodtruckforce.com/schedule/51950/
LOCATION:Savannah Convention Center\, 1 International Dr.\, Savannah\, GA\, 31421\, United States
ORGANIZER;CN="Top Dog":MAILTO:Topdogsfoodtruck@gmail.com
END:VEVENT
BEGIN:VEVENT
DTSTART;TZID=America/New_York:20241017T110000
DTEND;TZID=America/New_York:20241017T130000
DTSTAMP:20260422T234544
CREATED:20241004T160217Z
LAST-MODIFIED:20241004T160217Z
UID:10010657-1729162800-1729170000@savannahfoodtruckforce.com
SUMMARY:-
DESCRIPTION:
URL:https://savannahfoodtruckforce.com/schedule/51854/
LOCATION:Savannah Convention Center\, 1 International Dr.\, Savannah\, GA\, 31421\, United States
ORGANIZER;CN="Latin Chicks":MAILTO:latinchicks.bookings@gmail.com
END:VEVENT
BEGIN:VEVENT
DTSTART;TZID=America/New_York:20241017T110000
DTEND;TZID=America/New_York:20241017T130000
DTSTAMP:20260422T234544
CREATED:20241004T160217Z
LAST-MODIFIED:20241004T160217Z
UID:10010660-1729162800-1729170000@savannahfoodtruckforce.com
SUMMARY:-
DESCRIPTION:
URL:https://savannahfoodtruckforce.com/schedule/51860/
LOCATION:Savannah Convention Center\, 1 International Dr.\, Savannah\, GA\, 31421\, United States
ORGANIZER;CN="Ark Royal Burgers":MAILTO:arkroyalburgers@gmail.com
END:VEVENT
BEGIN:VEVENT
DTSTART;TZID=America/New_York:20241017T110000
DTEND;TZID=America/New_York:20241017T140000
DTSTAMP:20260422T234544
CREATED:20241004T160159Z
LAST-MODIFIED:20241004T160159Z
UID:10010693-1729162800-1729173600@savannahfoodtruckforce.com
SUMMARY:-
DESCRIPTION:
URL:https://savannahfoodtruckforce.com/schedule/51926/
LOCATION:Savannah Bee Company\, 313 Stiles Ave\, Savannah\, GA\, 31415\, United States
ORGANIZER;CN="Food Boxx":MAILTO:thefoodboxx@yahoo.com
END:VEVENT
BEGIN:VEVENT
DTSTART;TZID=America/New_York:20241017T170000
DTEND;TZID=America/New_York:20241017T193000
DTSTAMP:20260422T234544
CREATED:20241004T160158Z
LAST-MODIFIED:20241004T160158Z
UID:10010697-1729184400-1729193400@savannahfoodtruckforce.com
SUMMARY:-
DESCRIPTION:
URL:https://savannahfoodtruckforce.com/schedule/51934/
LOCATION:Coastal Cathedral @ Berwick\, 275 Berwick Blvd\, Savannah\, GA\, 31419\, United States
ORGANIZER;CN="Mac Attack":MAILTO:macattackfs@yahoo.com
END:VEVENT
BEGIN:VEVENT
DTSTART;TZID=America/New_York:20241017T170000
DTEND;TZID=America/New_York:20241017T193000
DTSTAMP:20260422T234544
CREATED:20241004T160158Z
LAST-MODIFIED:20241004T160158Z
UID:10010701-1729184400-1729193400@savannahfoodtruckforce.com
SUMMARY:-
DESCRIPTION:
URL:https://savannahfoodtruckforce.com/schedule/51942/
LOCATION:Service Brewing\, 574 Indian Street\, Savannah\, GA\, 31401\, United States
ORGANIZER;CN="Jonny Boy Cookies":MAILTO:info@jonnyboycookies.com
END:VEVENT
BEGIN:VEVENT
DTSTART;TZID=America/New_York:20241017T170000
DTEND;TZID=America/New_York:20241017T193000
DTSTAMP:20260422T234544
CREATED:20241004T160207Z
LAST-MODIFIED:20241017T184030Z
UID:10010671-1729184400-1729193400@savannahfoodtruckforce.com
SUMMARY:-
DESCRIPTION:
URL:https://savannahfoodtruckforce.com/schedule/51882/
LOCATION:Emma James Apartments\, 101 Cay Plaza\, Savannah\, GA\, 31421\, United States
ORGANIZER;CN="Royal Tasty Avenue":MAILTO:royaltastyavenuefoodtruck@gmail.com
END:VEVENT
BEGIN:VEVENT
DTSTART;TZID=America/New_York:20241017T170000
DTEND;TZID=America/New_York:20241017T193000
DTSTAMP:20260422T234544
CREATED:20241004T160207Z
LAST-MODIFIED:20241004T160207Z
UID:10010678-1729184400-1729193400@savannahfoodtruckforce.com
SUMMARY:-
DESCRIPTION:
URL:https://savannahfoodtruckforce.com/schedule/51896/
LOCATION:Wentworth Park Apartments\, 7450 Highway 21\, Port Wentworth\, GA\, 31407\, United States
ORGANIZER;CN="It's a Jerk Shack":MAILTO:itsajerkshack@gmail.com
END:VEVENT
BEGIN:VEVENT
DTSTART;TZID=America/New_York:20241017T170000
DTEND;TZID=America/New_York:20241017T193000
DTSTAMP:20260422T234544
CREATED:20241004T160207Z
LAST-MODIFIED:20241017T184059Z
UID:10010688-1729184400-1729193400@savannahfoodtruckforce.com
SUMMARY:-
DESCRIPTION:
URL:https://savannahfoodtruckforce.com/schedule/51916/
LOCATION:Long Point\, 1 Lymann Hall\, Savannah\, GA\, 31410\, United States
ORGANIZER;CN="The Naked Dog":MAILTO:nakeddogfoodtruck@gmail.com
END:VEVENT
BEGIN:VEVENT
DTSTART;TZID=America/New_York:20241017T170000
DTEND;TZID=America/New_York:20241017T193000
DTSTAMP:20260422T234544
CREATED:20241004T160217Z
LAST-MODIFIED:20241004T160217Z
UID:10010661-1729184400-1729193400@savannahfoodtruckforce.com
SUMMARY:-
DESCRIPTION:
URL:https://savannahfoodtruckforce.com/schedule/51862/
LOCATION:The Park at Eastern Wharf\, 101 Port St.\, Savannah\, GA\, 31401\, United States
ORGANIZER;CN="Ark Royal Burgers":MAILTO:arkroyalburgers@gmail.com
END:VEVENT
BEGIN:VEVENT
DTSTART;TZID=America/New_York:20241017T170000
DTEND;TZID=America/New_York:20241017T193000
DTSTAMP:20260422T234544
CREATED:20241004T160217Z
LAST-MODIFIED:20241004T160217Z
UID:10010658-1729184400-1729193400@savannahfoodtruckforce.com
SUMMARY:-
DESCRIPTION:
URL:https://savannahfoodtruckforce.com/schedule/51856/
LOCATION:The Park at Eastern Wharf\, 101 Port St.\, Savannah\, GA\, 31401\, United States
ORGANIZER;CN="Latin Chicks":MAILTO:latinchicks.bookings@gmail.com
END:VEVENT
BEGIN:VEVENT
DTSTART;TZID=America/New_York:20241017T170000
DTEND;TZID=America/New_York:20241017T193000
DTSTAMP:20260422T234544
CREATED:20241004T160228Z
LAST-MODIFIED:20241015T181009Z
UID:10010635-1729184400-1729193400@savannahfoodtruckforce.com
SUMMARY:-
DESCRIPTION:
URL:https://savannahfoodtruckforce.com/schedule/51808/
LOCATION:MAA Wilmington Island\, 909 Penn Waller Rd\, Savannah\, GA\, 31410\, United States
ORGANIZER;CN="Bowtie Barbecue Co.":MAILTO:Danielle@donaldsonenterprises.com
END:VEVENT
END:VCALENDAR