BEGIN:VCALENDAR
VERSION:2.0
PRODID:-//Savannah Food Truck Force - ECPv6.15.12.2//NONSGML v1.0//EN
CALSCALE:GREGORIAN
METHOD:PUBLISH
X-WR-CALNAME:Savannah Food Truck Force
X-ORIGINAL-URL:https://savannahfoodtruckforce.com
X-WR-CALDESC:Events for Savannah Food Truck Force
REFRESH-INTERVAL;VALUE=DURATION:PT1H
X-Robots-Tag:noindex
X-PUBLISHED-TTL:PT1H
BEGIN:VTIMEZONE
TZID:America/New_York
BEGIN:DAYLIGHT
TZOFFSETFROM:-0500
TZOFFSETTO:-0400
TZNAME:EDT
DTSTART:20230312T070000
END:DAYLIGHT
BEGIN:STANDARD
TZOFFSETFROM:-0400
TZOFFSETTO:-0500
TZNAME:EST
DTSTART:20231105T060000
END:STANDARD
BEGIN:DAYLIGHT
TZOFFSETFROM:-0500
TZOFFSETTO:-0400
TZNAME:EDT
DTSTART:20240310T070000
END:DAYLIGHT
BEGIN:STANDARD
TZOFFSETFROM:-0400
TZOFFSETTO:-0500
TZNAME:EST
DTSTART:20241103T060000
END:STANDARD
BEGIN:DAYLIGHT
TZOFFSETFROM:-0500
TZOFFSETTO:-0400
TZNAME:EDT
DTSTART:20250309T070000
END:DAYLIGHT
BEGIN:STANDARD
TZOFFSETFROM:-0400
TZOFFSETTO:-0500
TZNAME:EST
DTSTART:20251102T060000
END:STANDARD
END:VTIMEZONE
BEGIN:VEVENT
DTSTART;TZID=America/New_York:20241018T100000
DTEND;TZID=America/New_York:20241018T140000
DTSTAMP:20260422T220151
CREATED:20241004T160159Z
LAST-MODIFIED:20241004T160159Z
UID:10010689-1729245600-1729260000@savannahfoodtruckforce.com
SUMMARY:-
DESCRIPTION:
URL:https://savannahfoodtruckforce.com/schedule/51918/
LOCATION:Nine Line Apparel\, 450 Fort Argyle Rd.\, Savannah\, GA\, 31419\, United States
ORGANIZER;CN="The Naked Dog":MAILTO:nakeddogfoodtruck@gmail.com
END:VEVENT
BEGIN:VEVENT
DTSTART;TZID=America/New_York:20241018T110000
DTEND;TZID=America/New_York:20241018T140000
DTSTAMP:20260422T220151
CREATED:20241004T160158Z
LAST-MODIFIED:20241004T160158Z
UID:10010698-1729249200-1729260000@savannahfoodtruckforce.com
SUMMARY:-
DESCRIPTION:
URL:https://savannahfoodtruckforce.com/schedule/51936/
LOCATION:Memorial Health – Parking Deck C\, 4700 Waters Ave.\, Savannah\, GA\, 31404\, United States
ORGANIZER;CN="Mac Attack":MAILTO:macattackfs@yahoo.com
GEO:32.0303424;-81.089434
X-APPLE-STRUCTURED-LOCATION;VALUE=URI;X-ADDRESS=Memorial Health – Parking Deck C 4700 Waters Ave. Savannah GA 31404 United States;X-APPLE-RADIUS=500;X-TITLE=4700 Waters Ave.:geo:-81.089434,32.0303424
END:VEVENT
BEGIN:VEVENT
DTSTART;TZID=America/New_York:20241018T110000
DTEND;TZID=America/New_York:20241018T140000
DTSTAMP:20260422T220151
CREATED:20241004T160158Z
LAST-MODIFIED:20241004T160158Z
UID:10010702-1729249200-1729260000@savannahfoodtruckforce.com
SUMMARY:-
DESCRIPTION:
URL:https://savannahfoodtruckforce.com/schedule/51944/
LOCATION:Memorial Health – Parking Deck C\, 4700 Waters Ave.\, Savannah\, GA\, 31404\, United States
ORGANIZER;CN="Jonny Boy Cookies":MAILTO:info@jonnyboycookies.com
GEO:32.0303424;-81.089434
X-APPLE-STRUCTURED-LOCATION;VALUE=URI;X-ADDRESS=Memorial Health – Parking Deck C 4700 Waters Ave. Savannah GA 31404 United States;X-APPLE-RADIUS=500;X-TITLE=4700 Waters Ave.:geo:-81.089434,32.0303424
END:VEVENT
BEGIN:VEVENT
DTSTART;TZID=America/New_York:20241018T110000
DTEND;TZID=America/New_York:20241018T140000
DTSTAMP:20260422T220151
CREATED:20241004T160158Z
LAST-MODIFIED:20241004T160158Z
UID:10010707-1729249200-1729260000@savannahfoodtruckforce.com
SUMMARY:-
DESCRIPTION:
URL:https://savannahfoodtruckforce.com/schedule/51954/
LOCATION:Flight Safety Int. – Maintenance Side\, 301 Rober Miller Jr. Rd.\, Savannah\, GA\, 31408\, United States
ORGANIZER;CN="Top Dog":MAILTO:Topdogsfoodtruck@gmail.com
END:VEVENT
BEGIN:VEVENT
DTSTART;TZID=America/New_York:20241018T110000
DTEND;TZID=America/New_York:20241018T140000
DTSTAMP:20260422T220151
CREATED:20241004T160159Z
LAST-MODIFIED:20241017T184703Z
UID:10010694-1729249200-1729260000@savannahfoodtruckforce.com
SUMMARY:-
DESCRIPTION:
URL:https://savannahfoodtruckforce.com/schedule/51928/
LOCATION:Memorial Health – Parking Deck C\, 4700 Waters Ave.\, Savannah\, GA\, 31404\, United States
ORGANIZER;CN="It's a Jerk Shack":MAILTO:itsajerkshack@gmail.com
GEO:32.0303424;-81.089434
X-APPLE-STRUCTURED-LOCATION;VALUE=URI;X-ADDRESS=Memorial Health – Parking Deck C 4700 Waters Ave. Savannah GA 31404 United States;X-APPLE-RADIUS=500;X-TITLE=4700 Waters Ave.:geo:-81.089434,32.0303424
END:VEVENT
BEGIN:VEVENT
DTSTART;TZID=America/New_York:20241018T110000
DTEND;TZID=America/New_York:20241018T140000
DTSTAMP:20260422T220151
CREATED:20241004T160217Z
LAST-MODIFIED:20241004T160217Z
UID:10010654-1729249200-1729260000@savannahfoodtruckforce.com
SUMMARY:-
DESCRIPTION:
URL:https://savannahfoodtruckforce.com/schedule/51848/
LOCATION:Memorial Health – Parking Deck C\, 4700 Waters Ave.\, Savannah\, GA\, 31404\, United States
ORGANIZER;CN="Chazitos Latin Cuisine":MAILTO:Chazitosfoodtruck@gmail.com
GEO:32.0303424;-81.089434
X-APPLE-STRUCTURED-LOCATION;VALUE=URI;X-ADDRESS=Memorial Health – Parking Deck C 4700 Waters Ave. Savannah GA 31404 United States;X-APPLE-RADIUS=500;X-TITLE=4700 Waters Ave.:geo:-81.089434,32.0303424
END:VEVENT
BEGIN:VEVENT
DTSTART;TZID=America/New_York:20241018T110000
DTEND;TZID=America/New_York:20241018T140000
DTSTAMP:20260422T220151
CREATED:20241004T160228Z
LAST-MODIFIED:20241004T160228Z
UID:10010631-1729249200-1729260000@savannahfoodtruckforce.com
SUMMARY:-
DESCRIPTION:
URL:https://savannahfoodtruckforce.com/schedule/51800/
LOCATION:Savannah Chatham Manufacturing Center\, 300 Monahan Dr.\, Savannah\, GA\, 31302\, United States
ORGANIZER;CN="Bayou Cafe":MAILTO:Bayousavannah@gmail.com
END:VEVENT
BEGIN:VEVENT
DTSTART;TZID=America/New_York:20241018T110000
DTEND;TZID=America/New_York:20241018T140000
DTSTAMP:20260422T220151
CREATED:20241004T160228Z
LAST-MODIFIED:20241004T160228Z
UID:10010644-1729249200-1729260000@savannahfoodtruckforce.com
SUMMARY:-
DESCRIPTION:
URL:https://savannahfoodtruckforce.com/schedule/51828/
LOCATION:Memorial Health – Parking Deck C\, 4700 Waters Ave.\, Savannah\, GA\, 31404\, United States
GEO:32.0303424;-81.089434
X-APPLE-STRUCTURED-LOCATION;VALUE=URI;X-ADDRESS=Memorial Health – Parking Deck C 4700 Waters Ave. Savannah GA 31404 United States;X-APPLE-RADIUS=500;X-TITLE=4700 Waters Ave.:geo:-81.089434,32.0303424
END:VEVENT
BEGIN:VEVENT
DTSTART;TZID=America/New_York:20241018T170000
DTEND;TZID=America/New_York:20241018T193000
DTSTAMP:20260422T220151
CREATED:20241004T160158Z
LAST-MODIFIED:20241004T160158Z
UID:10010703-1729270800-1729279800@savannahfoodtruckforce.com
SUMMARY:-
DESCRIPTION:
URL:https://savannahfoodtruckforce.com/schedule/51946/
LOCATION:Dutch Island\, 120 Dutch Island Dr\, Savannah\, GA\, 31406\, United States
ORGANIZER;CN="Jonny Boy Cookies":MAILTO:info@jonnyboycookies.com
END:VEVENT
BEGIN:VEVENT
DTSTART;TZID=America/New_York:20241018T170000
DTEND;TZID=America/New_York:20241018T193000
DTSTAMP:20260422T220151
CREATED:20241004T160207Z
LAST-MODIFIED:20241017T184635Z
UID:10010679-1729270800-1729279800@savannahfoodtruckforce.com
SUMMARY:-
DESCRIPTION:
URL:https://savannahfoodtruckforce.com/schedule/51898/
LOCATION:Georgetowne Grove\, 1800 Grove Point Rd\, Savannah\, GA\, 31419\, United States
ORGANIZER;CN="It's a Jerk Shack":MAILTO:itsajerkshack@gmail.com
END:VEVENT
BEGIN:VEVENT
DTSTART;TZID=America/New_York:20241018T170000
DTEND;TZID=America/New_York:20241018T193000
DTSTAMP:20260422T220151
CREATED:20241004T160207Z
LAST-MODIFIED:20241018T200120Z
UID:10010686-1729270800-1729279800@savannahfoodtruckforce.com
SUMMARY:-
DESCRIPTION:
URL:https://savannahfoodtruckforce.com/schedule/51912/
LOCATION:Dutch Island\, 120 Dutch Island Dr\, Savannah\, GA\, 31406\, United States
ORGANIZER;CN="Krazian":MAILTO:krazian2@gmail.com
END:VEVENT
END:VCALENDAR