BEGIN:VCALENDAR
VERSION:2.0
PRODID:-//Savannah Food Truck Force - ECPv6.15.12.2//NONSGML v1.0//EN
CALSCALE:GREGORIAN
METHOD:PUBLISH
X-ORIGINAL-URL:https://savannahfoodtruckforce.com
X-WR-CALDESC:Events for Savannah Food Truck Force
REFRESH-INTERVAL;VALUE=DURATION:PT1H
X-Robots-Tag:noindex
X-PUBLISHED-TTL:PT1H
BEGIN:VTIMEZONE
TZID:America/New_York
BEGIN:DAYLIGHT
TZOFFSETFROM:-0500
TZOFFSETTO:-0400
TZNAME:EDT
DTSTART:20230312T070000
END:DAYLIGHT
BEGIN:STANDARD
TZOFFSETFROM:-0400
TZOFFSETTO:-0500
TZNAME:EST
DTSTART:20231105T060000
END:STANDARD
BEGIN:DAYLIGHT
TZOFFSETFROM:-0500
TZOFFSETTO:-0400
TZNAME:EDT
DTSTART:20240310T070000
END:DAYLIGHT
BEGIN:STANDARD
TZOFFSETFROM:-0400
TZOFFSETTO:-0500
TZNAME:EST
DTSTART:20241103T060000
END:STANDARD
BEGIN:DAYLIGHT
TZOFFSETFROM:-0500
TZOFFSETTO:-0400
TZNAME:EDT
DTSTART:20250309T070000
END:DAYLIGHT
BEGIN:STANDARD
TZOFFSETFROM:-0400
TZOFFSETTO:-0500
TZNAME:EST
DTSTART:20251102T060000
END:STANDARD
END:VTIMEZONE
BEGIN:VEVENT
DTSTART;TZID=America/New_York:20241126T110000
DTEND;TZID=America/New_York:20241126T140000
DTSTAMP:20260419T103348
CREATED:20241117T194734Z
LAST-MODIFIED:20241117T194734Z
UID:10010918-1732618800-1732629600@savannahfoodtruckforce.com
SUMMARY:-
DESCRIPTION:
URL:https://savannahfoodtruckforce.com/schedule/52402/
LOCATION:Savannah Bee Company\, 313 Stiles Ave\, Savannah\, GA\, 31415\, United States
ORGANIZER;CN="Top Dog":MAILTO:Topdogsfoodtruck@gmail.com
END:VEVENT
BEGIN:VEVENT
DTSTART;TZID=America/New_York:20241126T170000
DTEND;TZID=America/New_York:20241126T193000
DTSTAMP:20260419T103348
CREATED:20241117T194752Z
LAST-MODIFIED:20241117T194752Z
UID:10010893-1732640400-1732649400@savannahfoodtruckforce.com
SUMMARY:-
DESCRIPTION:
URL:https://savannahfoodtruckforce.com/schedule/52350/
LOCATION:The Merritt\, 15 Johnny Mercer Blvd\, Savannah\, GA\, 31401\, United States
ORGANIZER;CN="Royal Tasty Avenue":MAILTO:royaltastyavenuefoodtruck@gmail.com
END:VEVENT
BEGIN:VEVENT
DTSTART;TZID=America/New_York:20241126T170000
DTEND;TZID=America/New_York:20241126T193000
DTSTAMP:20260419T103348
CREATED:20241123T171502Z
LAST-MODIFIED:20241123T171502Z
UID:10010926-1732640400-1732649400@savannahfoodtruckforce.com
SUMMARY:-
DESCRIPTION:
URL:https://savannahfoodtruckforce.com/schedule/52420/
LOCATION:Coastal Cathedral @ Berwick\, 275 Berwick Blvd\, Savannah\, GA\, 31419\, United States
ORGANIZER;CN="Pie Society":MAILTO:hello@thebritishpiecompany.com
END:VEVENT
END:VCALENDAR