BEGIN:VCALENDAR
VERSION:2.0
PRODID:-//Savannah Food Truck Force - ECPv6.15.12.2//NONSGML v1.0//EN
CALSCALE:GREGORIAN
METHOD:PUBLISH
X-WR-CALNAME:Savannah Food Truck Force
X-ORIGINAL-URL:https://savannahfoodtruckforce.com
X-WR-CALDESC:Events for Savannah Food Truck Force
REFRESH-INTERVAL;VALUE=DURATION:PT1H
X-Robots-Tag:noindex
X-PUBLISHED-TTL:PT1H
BEGIN:VTIMEZONE
TZID:America/New_York
BEGIN:DAYLIGHT
TZOFFSETFROM:-0500
TZOFFSETTO:-0400
TZNAME:EDT
DTSTART:20230312T070000
END:DAYLIGHT
BEGIN:STANDARD
TZOFFSETFROM:-0400
TZOFFSETTO:-0500
TZNAME:EST
DTSTART:20231105T060000
END:STANDARD
BEGIN:DAYLIGHT
TZOFFSETFROM:-0500
TZOFFSETTO:-0400
TZNAME:EDT
DTSTART:20240310T070000
END:DAYLIGHT
BEGIN:STANDARD
TZOFFSETFROM:-0400
TZOFFSETTO:-0500
TZNAME:EST
DTSTART:20241103T060000
END:STANDARD
BEGIN:DAYLIGHT
TZOFFSETFROM:-0500
TZOFFSETTO:-0400
TZNAME:EDT
DTSTART:20250309T070000
END:DAYLIGHT
BEGIN:STANDARD
TZOFFSETFROM:-0400
TZOFFSETTO:-0500
TZNAME:EST
DTSTART:20251102T060000
END:STANDARD
END:VTIMEZONE
BEGIN:VEVENT
DTSTART;TZID=America/New_York:20241218T170000
DTEND;TZID=America/New_York:20241218T193000
DTSTAMP:20260422T224727
CREATED:20241214T153959Z
LAST-MODIFIED:20241214T153959Z
UID:10011020-1734541200-1734550200@savannahfoodtruckforce.com
SUMMARY:-
DESCRIPTION:
URL:https://savannahfoodtruckforce.com/schedule/52621/
LOCATION:MAA Hammocks\, 25 Johnny Mercer Blvd\, Savannah\, GA\, 31410\, United States
ORGANIZER;CN="Krazian":MAILTO:krazian2@gmail.com
END:VEVENT
BEGIN:VEVENT
DTSTART;TZID=America/New_York:20241218T170000
DTEND;TZID=America/New_York:20241218T193000
DTSTAMP:20260422T224727
CREATED:20241214T153959Z
LAST-MODIFIED:20241214T153959Z
UID:10011023-1734541200-1734550200@savannahfoodtruckforce.com
SUMMARY:-
DESCRIPTION:
URL:https://savannahfoodtruckforce.com/schedule/52628/
LOCATION:Covey Homes at New Hampstead\, 201 Powers Pass\, Savannah\, GA\, 31401\, United States
ORGANIZER;CN="Food Boxx":MAILTO:thefoodboxx@yahoo.com
GEO:32.0765847;-81.3183852
X-APPLE-STRUCTURED-LOCATION;VALUE=URI;X-ADDRESS=Covey Homes at New Hampstead 201 Powers Pass Savannah GA 31401 United States;X-APPLE-RADIUS=500;X-TITLE=201 Powers Pass:geo:-81.3183852,32.0765847
END:VEVENT
BEGIN:VEVENT
DTSTART;TZID=America/New_York:20241218T170000
DTEND;TZID=America/New_York:20241218T193000
DTSTAMP:20260422T224727
CREATED:20241214T153959Z
LAST-MODIFIED:20241214T153959Z
UID:10011028-1734541200-1734550200@savannahfoodtruckforce.com
SUMMARY:-
DESCRIPTION:
URL:https://savannahfoodtruckforce.com/schedule/52638/
LOCATION:Red Gate Farms\, 136 Red Gate Farms Trail\, Savannah\, GA\, 31405\, United States
ORGANIZER;CN="Oh Crepe!":MAILTO:ohcrepesav@gmail.com
END:VEVENT
BEGIN:VEVENT
DTSTART;TZID=America/New_York:20241218T170000
DTEND;TZID=America/New_York:20241218T193000
DTSTAMP:20260422T224727
CREATED:20241214T153959Z
LAST-MODIFIED:20241214T153959Z
UID:10011032-1734541200-1734550200@savannahfoodtruckforce.com
SUMMARY:-
DESCRIPTION:
URL:https://savannahfoodtruckforce.com/schedule/52646/
LOCATION:The Preserve at Henderson Lakes\, 653 Little Neck Road\, Savannah\, GA\, 31419\, United States
ORGANIZER;CN="Top Dog":MAILTO:Topdogsfoodtruck@gmail.com
END:VEVENT
BEGIN:VEVENT
DTSTART;TZID=America/New_York:20241218T170000
DTEND;TZID=America/New_York:20241218T193000
DTSTAMP:20260422T224727
CREATED:20241214T154014Z
LAST-MODIFIED:20241214T154014Z
UID:10010999-1734541200-1734550200@savannahfoodtruckforce.com
SUMMARY:-
DESCRIPTION:
URL:https://savannahfoodtruckforce.com/schedule/52579/
LOCATION:The Carlyle at Godley Station – Pooler\, GA\, 385 Godley Station Blvd\,\, Pooler\, GA\, 31322\, United States
ORGANIZER;CN="Pie Society":MAILTO:hello@thebritishpiecompany.com
END:VEVENT
BEGIN:VEVENT
DTSTART;TZID=America/New_York:20241218T170000
DTEND;TZID=America/New_York:20241218T193000
DTSTAMP:20260422T224727
CREATED:20241214T154014Z
LAST-MODIFIED:20241214T154014Z
UID:10011010-1734541200-1734550200@savannahfoodtruckforce.com
SUMMARY:-
DESCRIPTION:
URL:https://savannahfoodtruckforce.com/schedule/52601/
LOCATION:Coastal Cathedral @ Berwick\, 275 Berwick Blvd\, Savannah\, GA\, 31419\, United States
ORGANIZER;CN="Sweet Spice":MAILTO:sweetspice960@gmail.com
END:VEVENT
BEGIN:VEVENT
DTSTART;TZID=America/New_York:20241218T170000
DTEND;TZID=America/New_York:20241218T193000
DTSTAMP:20260422T224727
CREATED:20241214T154014Z
LAST-MODIFIED:20241214T154014Z
UID:10011013-1734541200-1734550200@savannahfoodtruckforce.com
SUMMARY:-
DESCRIPTION:
URL:https://savannahfoodtruckforce.com/schedule/52607/
LOCATION:Botanic Luxury Apartments\, 3002 Benton Grove\, Pooler\, GA\, 31322\, United States
ORGANIZER;CN="It's a Jerk Shack":MAILTO:itsajerkshack@gmail.com
END:VEVENT
END:VCALENDAR