BEGIN:VCALENDAR
VERSION:2.0
PRODID:-//Savannah Food Truck Force - ECPv6.15.12.2//NONSGML v1.0//EN
CALSCALE:GREGORIAN
METHOD:PUBLISH
X-ORIGINAL-URL:https://savannahfoodtruckforce.com
X-WR-CALDESC:Events for Savannah Food Truck Force
REFRESH-INTERVAL;VALUE=DURATION:PT1H
X-Robots-Tag:noindex
X-PUBLISHED-TTL:PT1H
BEGIN:VTIMEZONE
TZID:America/New_York
BEGIN:DAYLIGHT
TZOFFSETFROM:-0500
TZOFFSETTO:-0400
TZNAME:EDT
DTSTART:20240310T070000
END:DAYLIGHT
BEGIN:STANDARD
TZOFFSETFROM:-0400
TZOFFSETTO:-0500
TZNAME:EST
DTSTART:20241103T060000
END:STANDARD
BEGIN:DAYLIGHT
TZOFFSETFROM:-0500
TZOFFSETTO:-0400
TZNAME:EDT
DTSTART:20250309T070000
END:DAYLIGHT
BEGIN:STANDARD
TZOFFSETFROM:-0400
TZOFFSETTO:-0500
TZNAME:EST
DTSTART:20251102T060000
END:STANDARD
BEGIN:DAYLIGHT
TZOFFSETFROM:-0500
TZOFFSETTO:-0400
TZNAME:EDT
DTSTART:20260308T070000
END:DAYLIGHT
BEGIN:STANDARD
TZOFFSETFROM:-0400
TZOFFSETTO:-0500
TZNAME:EST
DTSTART:20261101T060000
END:STANDARD
END:VTIMEZONE
BEGIN:VEVENT
DTSTART;TZID=America/New_York:20250204T170000
DTEND;TZID=America/New_York:20250204T193000
DTSTAMP:20260422T225159
CREATED:20250124T212749Z
LAST-MODIFIED:20250124T212749Z
UID:10011169-1738688400-1738697400@savannahfoodtruckforce.com
SUMMARY:-
DESCRIPTION:
URL:https://savannahfoodtruckforce.com/schedule/52979/
LOCATION:The Carlyle at Godley Station – Pooler\, GA\, 385 Godley Station Blvd\,\, Pooler\, GA\, 31322\, United States
ORGANIZER;CN="Chazitos Latin Cuisine":MAILTO:Chazitosfoodtruck@gmail.com
END:VEVENT
BEGIN:VEVENT
DTSTART;TZID=America/New_York:20250204T170000
DTEND;TZID=America/New_York:20250204T193000
DTSTAMP:20260422T225159
CREATED:20250124T212807Z
LAST-MODIFIED:20250124T212807Z
UID:10011177-1738688400-1738697400@savannahfoodtruckforce.com
SUMMARY:-
DESCRIPTION:
URL:https://savannahfoodtruckforce.com/schedule/52995/
LOCATION:Osprey on the Bluffs\, 11900 White Bluff Rd.\, Savannah\, GA\, 31419\, United States
ORGANIZER;CN="Philly Boyz Cheese Steaks":MAILTO:phillyboyzga@gmail.com
END:VEVENT
BEGIN:VEVENT
DTSTART;TZID=America/New_York:20250204T170000
DTEND;TZID=America/New_York:20250204T193000
DTSTAMP:20260422T225159
CREATED:20250124T212807Z
LAST-MODIFIED:20250204T211248Z
UID:10011190-1738688400-1738697400@savannahfoodtruckforce.com
SUMMARY:-
DESCRIPTION:
URL:https://savannahfoodtruckforce.com/schedule/53022/
LOCATION:Fountains at Chatham Parkway\, 1699 Chatham Pkwy\, Savannah\, GA\, 31405\, United States
ORGANIZER;CN="Royal Tasty Avenue":MAILTO:royaltastyavenuefoodtruck@gmail.com
END:VEVENT
BEGIN:VEVENT
DTSTART;TZID=America/New_York:20250204T170000
DTEND;TZID=America/New_York:20250204T193000
DTSTAMP:20260422T225159
CREATED:20250124T212807Z
LAST-MODIFIED:20250124T212807Z
UID:10011196-1738688400-1738697400@savannahfoodtruckforce.com
SUMMARY:-
DESCRIPTION:
URL:https://savannahfoodtruckforce.com/schedule/53034/
LOCATION:Leo @ the Sanctuary\, 103 Moultrie Dr\, Rincon\,\, Rincon\, GA\, 31326\, United States
ORGANIZER;CN="It's a Jerk Shack":MAILTO:itsajerkshack@gmail.com
END:VEVENT
BEGIN:VEVENT
DTSTART;TZID=America/New_York:20250204T170000
DTEND;TZID=America/New_York:20250204T193000
DTSTAMP:20260422T225159
CREATED:20250124T212821Z
LAST-MODIFIED:20250203T142703Z
UID:10011209-1738688400-1738697400@savannahfoodtruckforce.com
SUMMARY:-
DESCRIPTION:
URL:https://savannahfoodtruckforce.com/schedule/53060/
LOCATION:Two Addison Place\, 2 Addison Place\, Pooler\, GA\, 31322\, United States
ORGANIZER;CN="Food Boxx":MAILTO:thefoodboxx@yahoo.com
END:VEVENT
BEGIN:VEVENT
DTSTART;TZID=America/New_York:20250204T170000
DTEND;TZID=America/New_York:20250204T193000
DTSTAMP:20260422T225159
CREATED:20250124T214542Z
LAST-MODIFIED:20250203T130719Z
UID:10011223-1738688400-1738697400@savannahfoodtruckforce.com
SUMMARY:-
DESCRIPTION:
URL:https://savannahfoodtruckforce.com/schedule/53089/
LOCATION:The Merritt\, 15 Johnny Mercer Blvd\, Savannah\, GA\, 31401\, United States
ORGANIZER;CN="Top Dog":MAILTO:Topdogsfoodtruck@gmail.com
END:VEVENT
BEGIN:VEVENT
DTSTART;TZID=America/New_York:20250204T170000
DTEND;TZID=America/New_York:20250204T193000
DTSTAMP:20260422T225159
CREATED:20250128T192625Z
LAST-MODIFIED:20250128T192625Z
UID:10011229-1738688400-1738697400@savannahfoodtruckforce.com
SUMMARY:-
DESCRIPTION:
URL:https://savannahfoodtruckforce.com/schedule/53102/
LOCATION:Windsor Forest Largo\, 525 Windsor Rd\, Savannah\, GA\, 31419\, United States
ORGANIZER;CN="Krazian":MAILTO:krazian2@gmail.com
END:VEVENT
END:VCALENDAR