BEGIN:VCALENDAR
VERSION:2.0
PRODID:-//Savannah Food Truck Force - ECPv6.15.12.2//NONSGML v1.0//EN
CALSCALE:GREGORIAN
METHOD:PUBLISH
X-WR-CALNAME:Savannah Food Truck Force
X-ORIGINAL-URL:https://savannahfoodtruckforce.com
X-WR-CALDESC:Events for Savannah Food Truck Force
REFRESH-INTERVAL;VALUE=DURATION:PT1H
X-Robots-Tag:noindex
X-PUBLISHED-TTL:PT1H
BEGIN:VTIMEZONE
TZID:America/New_York
BEGIN:DAYLIGHT
TZOFFSETFROM:-0500
TZOFFSETTO:-0400
TZNAME:EDT
DTSTART:20240310T070000
END:DAYLIGHT
BEGIN:STANDARD
TZOFFSETFROM:-0400
TZOFFSETTO:-0500
TZNAME:EST
DTSTART:20241103T060000
END:STANDARD
BEGIN:DAYLIGHT
TZOFFSETFROM:-0500
TZOFFSETTO:-0400
TZNAME:EDT
DTSTART:20250309T070000
END:DAYLIGHT
BEGIN:STANDARD
TZOFFSETFROM:-0400
TZOFFSETTO:-0500
TZNAME:EST
DTSTART:20251102T060000
END:STANDARD
BEGIN:DAYLIGHT
TZOFFSETFROM:-0500
TZOFFSETTO:-0400
TZNAME:EDT
DTSTART:20260308T070000
END:DAYLIGHT
BEGIN:STANDARD
TZOFFSETFROM:-0400
TZOFFSETTO:-0500
TZNAME:EST
DTSTART:20261101T060000
END:STANDARD
END:VTIMEZONE
BEGIN:VEVENT
DTSTART;TZID=America/New_York:20250207T103000
DTEND;TZID=America/New_York:20250207T140000
DTSTAMP:20260423T034424
CREATED:20250124T212807Z
LAST-MODIFIED:20250124T212807Z
UID:10011179-1738924200-1738936800@savannahfoodtruckforce.com
SUMMARY:-
DESCRIPTION:
URL:https://savannahfoodtruckforce.com/schedule/53001/
LOCATION:Nine Line Apparel\, 450 Fort Argyle Rd.\, Savannah\, GA\, 31419\, United States
ORGANIZER;CN="Philly Boyz Cheese Steaks":MAILTO:phillyboyzga@gmail.com
END:VEVENT
BEGIN:VEVENT
DTSTART;TZID=America/New_York:20250207T110000
DTEND;TZID=America/New_York:20250207T140000
DTSTAMP:20260423T034424
CREATED:20250124T212749Z
LAST-MODIFIED:20250206T125909Z
UID:10011172-1738926000-1738936800@savannahfoodtruckforce.com
SUMMARY:-
DESCRIPTION:
URL:https://savannahfoodtruckforce.com/schedule/52985/
LOCATION:Flight Safety Int. – Maintenance Side\, 301 Rober Miller Jr. Rd.\, Savannah\, GA\, 31408\, United States
ORGANIZER;CN="Chazitos Latin Cuisine":MAILTO:Chazitosfoodtruck@gmail.com
END:VEVENT
BEGIN:VEVENT
DTSTART;TZID=America/New_York:20250207T110000
DTEND;TZID=America/New_York:20250207T140000
DTSTAMP:20260423T034424
CREATED:20250124T212807Z
LAST-MODIFIED:20250124T212807Z
UID:10011182-1738926000-1738936800@savannahfoodtruckforce.com
SUMMARY:-
DESCRIPTION:
URL:https://savannahfoodtruckforce.com/schedule/53005/
LOCATION:Memorial Health – Parking Deck C\, 4700 Waters Ave.\, Savannah\, GA\, 31404\, United States
ORGANIZER;CN="Latin Chicks":MAILTO:latinchicks.bookings@gmail.com
GEO:32.0303424;-81.089434
X-APPLE-STRUCTURED-LOCATION;VALUE=URI;X-ADDRESS=Memorial Health – Parking Deck C 4700 Waters Ave. Savannah GA 31404 United States;X-APPLE-RADIUS=500;X-TITLE=4700 Waters Ave.:geo:-81.089434,32.0303424
END:VEVENT
BEGIN:VEVENT
DTSTART;TZID=America/New_York:20250207T110000
DTEND;TZID=America/New_York:20250207T140000
DTSTAMP:20260423T034424
CREATED:20250124T212821Z
LAST-MODIFIED:20250124T212821Z
UID:10011197-1738926000-1738936800@savannahfoodtruckforce.com
SUMMARY:-
DESCRIPTION:
URL:https://savannahfoodtruckforce.com/schedule/53036/
LOCATION:Memorial Health – Parking Deck C\, 4700 Waters Ave.\, Savannah\, GA\, 31404\, United States
ORGANIZER;CN="It's a Jerk Shack":MAILTO:itsajerkshack@gmail.com
GEO:32.0303424;-81.089434
X-APPLE-STRUCTURED-LOCATION;VALUE=URI;X-ADDRESS=Memorial Health – Parking Deck C 4700 Waters Ave. Savannah GA 31404 United States;X-APPLE-RADIUS=500;X-TITLE=4700 Waters Ave.:geo:-81.089434,32.0303424
END:VEVENT
BEGIN:VEVENT
DTSTART;TZID=America/New_York:20250207T110000
DTEND;TZID=America/New_York:20250207T140000
DTSTAMP:20260423T034424
CREATED:20250124T212821Z
LAST-MODIFIED:20250124T212821Z
UID:10011203-1738926000-1738936800@savannahfoodtruckforce.com
SUMMARY:-
DESCRIPTION:
URL:https://savannahfoodtruckforce.com/schedule/53048/
LOCATION:Total Quality Logistics\, 8001 Chatham Center Dr.\, Savannah\, GA\, 31405\, United States
ORGANIZER;CN="Krazian":MAILTO:krazian2@gmail.com
END:VEVENT
BEGIN:VEVENT
DTSTART;TZID=America/New_York:20250207T110000
DTEND;TZID=America/New_York:20250207T140000
DTSTAMP:20260423T034424
CREATED:20250124T212821Z
LAST-MODIFIED:20250206T204712Z
UID:10011208-1738926000-1738936800@savannahfoodtruckforce.com
SUMMARY:-
DESCRIPTION:
URL:https://savannahfoodtruckforce.com/schedule/53058/
LOCATION:Memorial Health – Parking Deck C\, 4700 Waters Ave.\, Savannah\, GA\, 31404\, United States
ORGANIZER;CN="Little Diddle%E2%80%99s Sweetery":MAILTO:nickyhamilt@gmail.com
GEO:32.0303424;-81.089434
X-APPLE-STRUCTURED-LOCATION;VALUE=URI;X-ADDRESS=Memorial Health – Parking Deck C 4700 Waters Ave. Savannah GA 31404 United States;X-APPLE-RADIUS=500;X-TITLE=4700 Waters Ave.:geo:-81.089434,32.0303424
END:VEVENT
BEGIN:VEVENT
DTSTART;TZID=America/New_York:20250207T110000
DTEND;TZID=America/New_York:20250207T140000
DTSTAMP:20260423T034424
CREATED:20250124T212821Z
LAST-MODIFIED:20250203T142802Z
UID:10011211-1738926000-1738936800@savannahfoodtruckforce.com
SUMMARY:-
DESCRIPTION:
URL:https://savannahfoodtruckforce.com/schedule/53064/
LOCATION:Memorial Health – Parking Deck C\, 4700 Waters Ave.\, Savannah\, GA\, 31404\, United States
ORGANIZER;CN="Royal Tasty Avenue":MAILTO:royaltastyavenuefoodtruck@gmail.com
GEO:32.0303424;-81.089434
X-APPLE-STRUCTURED-LOCATION;VALUE=URI;X-ADDRESS=Memorial Health – Parking Deck C 4700 Waters Ave. Savannah GA 31404 United States;X-APPLE-RADIUS=500;X-TITLE=4700 Waters Ave.:geo:-81.089434,32.0303424
END:VEVENT
BEGIN:VEVENT
DTSTART;TZID=America/New_York:20250207T110000
DTEND;TZID=America/New_York:20250207T140000
DTSTAMP:20260423T034424
CREATED:20250124T212821Z
LAST-MODIFIED:20250203T213747Z
UID:10011212-1738926000-1738936800@savannahfoodtruckforce.com
SUMMARY:-
DESCRIPTION:
URL:https://savannahfoodtruckforce.com/schedule/53066/
LOCATION:Savannah Bee Company\, 313 Stiles Ave\, Savannah\, GA\, 31415\, United States
ORGANIZER;CN="Pie Society":MAILTO:hello@thebritishpiecompany.com
END:VEVENT
BEGIN:VEVENT
DTSTART;TZID=America/New_York:20250207T110000
DTEND;TZID=America/New_York:20250207T140000
DTSTAMP:20260423T034424
CREATED:20250124T214542Z
LAST-MODIFIED:20250124T214542Z
UID:10011219-1738926000-1738936800@savannahfoodtruckforce.com
SUMMARY:-
DESCRIPTION:
URL:https://savannahfoodtruckforce.com/schedule/53081/
LOCATION:Memorial Health – Parking Deck C\, 4700 Waters Ave.\, Savannah\, GA\, 31404\, United States
ORGANIZER;CN="Oh Crepe!":MAILTO:ohcrepesav@gmail.com
GEO:32.0303424;-81.089434
X-APPLE-STRUCTURED-LOCATION;VALUE=URI;X-ADDRESS=Memorial Health – Parking Deck C 4700 Waters Ave. Savannah GA 31404 United States;X-APPLE-RADIUS=500;X-TITLE=4700 Waters Ave.:geo:-81.089434,32.0303424
END:VEVENT
BEGIN:VEVENT
DTSTART;TZID=America/New_York:20250207T170000
DTEND;TZID=America/New_York:20250207T193000
DTSTAMP:20260423T034424
CREATED:20250124T212807Z
LAST-MODIFIED:20250203T213810Z
UID:10011187-1738947600-1738956600@savannahfoodtruckforce.com
SUMMARY:-
DESCRIPTION:
URL:https://savannahfoodtruckforce.com/schedule/53015/
LOCATION:Georgetowne Grove\, 1800 Grove Point Rd\, Savannah\, GA\, 31419\, United States
ORGANIZER;CN="Ark Royal Burgers":MAILTO:arkroyalburgers@gmail.com
END:VEVENT
BEGIN:VEVENT
DTSTART;TZID=America/New_York:20250207T170000
DTEND;TZID=America/New_York:20250207T193000
DTSTAMP:20260423T034424
CREATED:20250124T214542Z
LAST-MODIFIED:20250127T235106Z
UID:10011220-1738947600-1738956600@savannahfoodtruckforce.com
SUMMARY:-
DESCRIPTION:
URL:https://savannahfoodtruckforce.com/schedule/53083/
LOCATION:Dutch Island\, 120 Dutch Island Dr\, Savannah\, GA\, 31406\, United States
ORGANIZER;CN="Latin Chicks":MAILTO:latinchicks.bookings@gmail.com
END:VEVENT
END:VCALENDAR