BEGIN:VCALENDAR
VERSION:2.0
PRODID:-//Savannah Food Truck Force - ECPv6.15.12.2//NONSGML v1.0//EN
CALSCALE:GREGORIAN
METHOD:PUBLISH
X-WR-CALNAME:Savannah Food Truck Force
X-ORIGINAL-URL:https://savannahfoodtruckforce.com
X-WR-CALDESC:Events for Savannah Food Truck Force
REFRESH-INTERVAL;VALUE=DURATION:PT1H
X-Robots-Tag:noindex
X-PUBLISHED-TTL:PT1H
BEGIN:VTIMEZONE
TZID:America/New_York
BEGIN:DAYLIGHT
TZOFFSETFROM:-0500
TZOFFSETTO:-0400
TZNAME:EDT
DTSTART:20240310T070000
END:DAYLIGHT
BEGIN:STANDARD
TZOFFSETFROM:-0400
TZOFFSETTO:-0500
TZNAME:EST
DTSTART:20241103T060000
END:STANDARD
BEGIN:DAYLIGHT
TZOFFSETFROM:-0500
TZOFFSETTO:-0400
TZNAME:EDT
DTSTART:20250309T070000
END:DAYLIGHT
BEGIN:STANDARD
TZOFFSETFROM:-0400
TZOFFSETTO:-0500
TZNAME:EST
DTSTART:20251102T060000
END:STANDARD
BEGIN:DAYLIGHT
TZOFFSETFROM:-0500
TZOFFSETTO:-0400
TZNAME:EDT
DTSTART:20260308T070000
END:DAYLIGHT
BEGIN:STANDARD
TZOFFSETFROM:-0400
TZOFFSETTO:-0500
TZNAME:EST
DTSTART:20261101T060000
END:STANDARD
END:VTIMEZONE
BEGIN:VEVENT
DTSTART;TZID=America/New_York:20250214T103000
DTEND;TZID=America/New_York:20250214T140000
DTSTAMP:20260423T151528
CREATED:20250208T232007Z
LAST-MODIFIED:20250208T232007Z
UID:10011251-1739529000-1739541600@savannahfoodtruckforce.com
SUMMARY:-
DESCRIPTION:
URL:https://savannahfoodtruckforce.com/schedule/53165/
LOCATION:Nine Line Apparel\, 450 Fort Argyle Rd.\, Savannah\, GA\, 31419\, United States
ORGANIZER;CN="Latin Chicks":MAILTO:latinchicks.bookings@gmail.com
END:VEVENT
BEGIN:VEVENT
DTSTART;TZID=America/New_York:20250214T110000
DTEND;TZID=America/New_York:20250214T140000
DTSTAMP:20260423T151528
CREATED:20250208T231948Z
LAST-MODIFIED:20250208T231948Z
UID:10011310-1739530800-1739541600@savannahfoodtruckforce.com
SUMMARY:-
DESCRIPTION:
URL:https://savannahfoodtruckforce.com/schedule/53298/
LOCATION:Memorial Health – Parking Deck C\, 4700 Waters Ave.\, Savannah\, GA\, 31404\, United States
ORGANIZER;CN="Mac Attack":MAILTO:macattackfs@yahoo.com
GEO:32.0303424;-81.089434
X-APPLE-STRUCTURED-LOCATION;VALUE=URI;X-ADDRESS=Memorial Health – Parking Deck C 4700 Waters Ave. Savannah GA 31404 United States;X-APPLE-RADIUS=500;X-TITLE=4700 Waters Ave.:geo:-81.089434,32.0303424
END:VEVENT
BEGIN:VEVENT
DTSTART;TZID=America/New_York:20250214T110000
DTEND;TZID=America/New_York:20250214T140000
DTSTAMP:20260423T151528
CREATED:20250208T231949Z
LAST-MODIFIED:20250214T152623Z
UID:10011294-1739530800-1739541600@savannahfoodtruckforce.com
SUMMARY:-
DESCRIPTION:
URL:https://savannahfoodtruckforce.com/schedule/53266/
LOCATION:Memorial Health – Parking Deck C\, 4700 Waters Ave.\, Savannah\, GA\, 31404\, United States
ORGANIZER;CN="Krazian":MAILTO:krazian2@gmail.com
GEO:32.0303424;-81.089434
X-APPLE-STRUCTURED-LOCATION;VALUE=URI;X-ADDRESS=Memorial Health – Parking Deck C 4700 Waters Ave. Savannah GA 31404 United States;X-APPLE-RADIUS=500;X-TITLE=4700 Waters Ave.:geo:-81.089434,32.0303424
END:VEVENT
BEGIN:VEVENT
DTSTART;TZID=America/New_York:20250214T110000
DTEND;TZID=America/New_York:20250214T140000
DTSTAMP:20260423T151528
CREATED:20250208T231957Z
LAST-MODIFIED:20250208T231957Z
UID:10011287-1739530800-1739541600@savannahfoodtruckforce.com
SUMMARY:-
DESCRIPTION:
URL:https://savannahfoodtruckforce.com/schedule/53252/
LOCATION:Flight Safety Int. – Maintenance Side\, 301 Rober Miller Jr. Rd.\, Savannah\, GA\, 31408\, United States
ORGANIZER;CN="It's a Jerk Shack":MAILTO:itsajerkshack@gmail.com
END:VEVENT
BEGIN:VEVENT
DTSTART;TZID=America/New_York:20250214T110000
DTEND;TZID=America/New_York:20250214T140000
DTSTAMP:20260423T151528
CREATED:20250208T232019Z
LAST-MODIFIED:20250214T135603Z
UID:10011233-1739530800-1739541600@savannahfoodtruckforce.com
SUMMARY:-
DESCRIPTION:
URL:https://savannahfoodtruckforce.com/schedule/53121/
LOCATION:Memorial Health – Parking Deck C\, 4700 Waters Ave.\, Savannah\, GA\, 31404\, United States
ORGANIZER;CN="Royal Tasty Avenue":MAILTO:royaltastyavenuefoodtruck@gmail.com
GEO:32.0303424;-81.089434
X-APPLE-STRUCTURED-LOCATION;VALUE=URI;X-ADDRESS=Memorial Health – Parking Deck C 4700 Waters Ave. Savannah GA 31404 United States;X-APPLE-RADIUS=500;X-TITLE=4700 Waters Ave.:geo:-81.089434,32.0303424
END:VEVENT
BEGIN:VEVENT
DTSTART;TZID=America/New_York:20250214T170000
DTEND;TZID=America/New_York:20250214T193000
DTSTAMP:20260423T151528
CREATED:20250208T231957Z
LAST-MODIFIED:20250214T134316Z
UID:10011288-1739552400-1739561400@savannahfoodtruckforce.com
SUMMARY:-
DESCRIPTION:
URL:https://savannahfoodtruckforce.com/schedule/53254/
LOCATION:Dutch Island\, 120 Dutch Island Dr\, Savannah\, GA\, 31406\, United States
ORGANIZER;CN="It's a Jerk Shack":MAILTO:itsajerkshack@gmail.com
END:VEVENT
BEGIN:VEVENT
DTSTART;TZID=America/New_York:20250214T170000
DTEND;TZID=America/New_York:20250214T193000
DTSTAMP:20260423T151528
CREATED:20250208T232006Z
LAST-MODIFIED:20250212T153442Z
UID:10011267-1739552400-1739561400@savannahfoodtruckforce.com
SUMMARY:-
DESCRIPTION:
URL:https://savannahfoodtruckforce.com/schedule/53198/
LOCATION:Coastal Cathedral @ Berwick\, 275 Berwick Blvd\, Savannah\, GA\, 31419\, United States
ORGANIZER;CN="Latin Chicks":MAILTO:latinchicks.bookings@gmail.com
END:VEVENT
END:VCALENDAR