BEGIN:VCALENDAR
VERSION:2.0
PRODID:-//Savannah Food Truck Force - ECPv6.15.12.2//NONSGML v1.0//EN
CALSCALE:GREGORIAN
METHOD:PUBLISH
X-WR-CALNAME:Savannah Food Truck Force
X-ORIGINAL-URL:https://savannahfoodtruckforce.com
X-WR-CALDESC:Events for Savannah Food Truck Force
REFRESH-INTERVAL;VALUE=DURATION:PT1H
X-Robots-Tag:noindex
X-PUBLISHED-TTL:PT1H
BEGIN:VTIMEZONE
TZID:America/New_York
BEGIN:DAYLIGHT
TZOFFSETFROM:-0500
TZOFFSETTO:-0400
TZNAME:EDT
DTSTART:20240310T070000
END:DAYLIGHT
BEGIN:STANDARD
TZOFFSETFROM:-0400
TZOFFSETTO:-0500
TZNAME:EST
DTSTART:20241103T060000
END:STANDARD
BEGIN:DAYLIGHT
TZOFFSETFROM:-0500
TZOFFSETTO:-0400
TZNAME:EDT
DTSTART:20250309T070000
END:DAYLIGHT
BEGIN:STANDARD
TZOFFSETFROM:-0400
TZOFFSETTO:-0500
TZNAME:EST
DTSTART:20251102T060000
END:STANDARD
BEGIN:DAYLIGHT
TZOFFSETFROM:-0500
TZOFFSETTO:-0400
TZNAME:EDT
DTSTART:20260308T070000
END:DAYLIGHT
BEGIN:STANDARD
TZOFFSETFROM:-0400
TZOFFSETTO:-0500
TZNAME:EST
DTSTART:20261101T060000
END:STANDARD
END:VTIMEZONE
BEGIN:VEVENT
DTSTART;TZID=America/New_York:20250220T170000
DTEND;TZID=America/New_York:20250220T193000
DTSTAMP:20260424T003657
CREATED:20250208T231937Z
LAST-MODIFIED:20250208T231937Z
UID:10011322-1740070800-1740079800@savannahfoodtruckforce.com
SUMMARY:-
DESCRIPTION:
URL:https://savannahfoodtruckforce.com/schedule/53322/
LOCATION:Olde Towne\, 101 Olde Town Rd\, Savannah\, GA\, 31410\, United States
ORGANIZER;CN="Oh Crepe!":MAILTO:ohcrepesav@gmail.com
END:VEVENT
BEGIN:VEVENT
DTSTART;TZID=America/New_York:20250220T170000
DTEND;TZID=America/New_York:20250220T193000
DTSTAMP:20260424T003657
CREATED:20250208T231937Z
LAST-MODIFIED:20250208T231937Z
UID:10011325-1740070800-1740079800@savannahfoodtruckforce.com
SUMMARY:-
DESCRIPTION:
URL:https://savannahfoodtruckforce.com/schedule/53328/
LOCATION:Crossings at Pooler\, 100 Galloway Drive\, Pooler\, GA\, 31322\, United States
ORGANIZER;CN="Top Dog":MAILTO:Topdogsfoodtruck@gmail.com
END:VEVENT
BEGIN:VEVENT
DTSTART;TZID=America/New_York:20250220T170000
DTEND;TZID=America/New_York:20250220T193000
DTSTAMP:20260424T003657
CREATED:20250208T231949Z
LAST-MODIFIED:20250208T231949Z
UID:10011290-1740070800-1740079800@savannahfoodtruckforce.com
SUMMARY:-
DESCRIPTION:
URL:https://savannahfoodtruckforce.com/schedule/53258/
LOCATION:Waverly Station\, 2155 Benton Blvd.\, Pooler\, GA\, 31407\, United States
ORGANIZER;CN="It's a Jerk Shack":MAILTO:itsajerkshack@gmail.com
END:VEVENT
BEGIN:VEVENT
DTSTART;TZID=America/New_York:20250220T170000
DTEND;TZID=America/New_York:20250220T193000
DTSTAMP:20260424T003657
CREATED:20250208T231949Z
LAST-MODIFIED:20250208T231949Z
UID:10011296-1740070800-1740079800@savannahfoodtruckforce.com
SUMMARY:-
DESCRIPTION:
URL:https://savannahfoodtruckforce.com/schedule/53270/
LOCATION:Long Point\, 1 Lymann Hall\, Savannah\, GA\, 31410\, United States
ORGANIZER;CN="Krazian":MAILTO:krazian2@gmail.com
END:VEVENT
BEGIN:VEVENT
DTSTART;TZID=America/New_York:20250220T170000
DTEND;TZID=America/New_York:20250220T193000
DTSTAMP:20260424T003657
CREATED:20250208T231949Z
LAST-MODIFIED:20250219T021321Z
UID:10011300-1740070800-1740079800@savannahfoodtruckforce.com
SUMMARY:-
DESCRIPTION:
URL:https://savannahfoodtruckforce.com/schedule/53278/
LOCATION:Adara\, 101 Spring Lakes Drive\, Savannah\, GA\, 31407\, United States
ORGANIZER;CN="The Naked Dog":MAILTO:nakeddogfoodtruck@gmail.com
END:VEVENT
BEGIN:VEVENT
DTSTART;TZID=America/New_York:20250220T170000
DTEND;TZID=America/New_York:20250220T193000
DTSTAMP:20260424T003657
CREATED:20250208T231957Z
LAST-MODIFIED:20250218T221553Z
UID:10011270-1740070800-1740079800@savannahfoodtruckforce.com
SUMMARY:-
DESCRIPTION:
URL:https://savannahfoodtruckforce.com/schedule/53208/
LOCATION:Wentworth Park Apartments\, 7450 Highway 21\, Port Wentworth\, GA\, 31407\, United States
ORGANIZER;CN="Pie Society":MAILTO:hello@thebritishpiecompany.com
END:VEVENT
BEGIN:VEVENT
DTSTART;TZID=America/New_York:20250220T170000
DTEND;TZID=America/New_York:20250220T193000
DTSTAMP:20260424T003657
CREATED:20250208T231957Z
LAST-MODIFIED:20250208T231957Z
UID:10011277-1740070800-1740079800@savannahfoodtruckforce.com
SUMMARY:-
DESCRIPTION:
URL:https://savannahfoodtruckforce.com/schedule/53230/
LOCATION:Leo @ the Sanctuary\, 103 Moultrie Dr\, Rincon\,\, Rincon\, GA\, 31326\, United States
ORGANIZER;CN="Royal Tasty Avenue":MAILTO:royaltastyavenuefoodtruck@gmail.com
END:VEVENT
BEGIN:VEVENT
DTSTART;TZID=America/New_York:20250220T170000
DTEND;TZID=America/New_York:20250220T193000
DTSTAMP:20260424T003657
CREATED:20250208T232007Z
LAST-MODIFIED:20250208T232007Z
UID:10011248-1740070800-1740079800@savannahfoodtruckforce.com
SUMMARY:-
DESCRIPTION:
URL:https://savannahfoodtruckforce.com/schedule/53159/
LOCATION:Riverworks at Eastern Wharf\, 301 Passage Way\, Savannah\, GA\, 31401\, United States
ORGANIZER;CN="Philly Boyz Cheese Steaks":MAILTO:phillyboyzga@gmail.com
END:VEVENT
BEGIN:VEVENT
DTSTART;TZID=America/New_York:20250220T170000
DTEND;TZID=America/New_York:20250220T193000
DTSTAMP:20260424T003657
CREATED:20250208T232018Z
LAST-MODIFIED:20250208T232018Z
UID:10011243-1740070800-1740079800@savannahfoodtruckforce.com
SUMMARY:-
DESCRIPTION:
URL:https://savannahfoodtruckforce.com/schedule/53142/
LOCATION:Preston Grove\, 1825 Grove Point Rd\, Savannah\, GA\, 31401\, United States
ORGANIZER;CN="Chazitos Latin Cuisine":MAILTO:Chazitosfoodtruck@gmail.com
END:VEVENT
BEGIN:VEVENT
DTSTART;TZID=America/New_York:20250220T170000
DTEND;TZID=America/New_York:20250220T193000
DTSTAMP:20260424T003657
CREATED:20250208T232019Z
LAST-MODIFIED:20250208T232019Z
UID:10011230-1740070800-1740079800@savannahfoodtruckforce.com
SUMMARY:-
DESCRIPTION:
URL:https://savannahfoodtruckforce.com/schedule/53104/
LOCATION:Coastal Cathedral @ Berwick\, 275 Berwick Blvd\, Savannah\, GA\, 31419\, United States
ORGANIZER;CN="Bayou Cafe":MAILTO:Bayousavannah@gmail.com
END:VEVENT
BEGIN:VEVENT
DTSTART;TZID=America/New_York:20250220T170000
DTEND;TZID=America/New_York:20250220T193000
DTSTAMP:20260424T003657
CREATED:20250220T232514Z
LAST-MODIFIED:20250220T232514Z
UID:10011388-1740070800-1740079800@savannahfoodtruckforce.com
SUMMARY:-
DESCRIPTION:
URL:https://savannahfoodtruckforce.com/schedule/53461/
LOCATION:Burnside Island\, 330 Island Rd @ the Park\, Savannah\, GA\, 31406\, United States
ORGANIZER;CN="Top Dog":MAILTO:Topdogsfoodtruck@gmail.com
END:VEVENT
END:VCALENDAR