BEGIN:VCALENDAR
VERSION:2.0
PRODID:-//Savannah Food Truck Force - ECPv6.15.12.2//NONSGML v1.0//EN
CALSCALE:GREGORIAN
METHOD:PUBLISH
X-WR-CALNAME:Savannah Food Truck Force
X-ORIGINAL-URL:https://savannahfoodtruckforce.com
X-WR-CALDESC:Events for Savannah Food Truck Force
REFRESH-INTERVAL;VALUE=DURATION:PT1H
X-Robots-Tag:noindex
X-PUBLISHED-TTL:PT1H
BEGIN:VTIMEZONE
TZID:America/New_York
BEGIN:DAYLIGHT
TZOFFSETFROM:-0500
TZOFFSETTO:-0400
TZNAME:EDT
DTSTART:20240310T070000
END:DAYLIGHT
BEGIN:STANDARD
TZOFFSETFROM:-0400
TZOFFSETTO:-0500
TZNAME:EST
DTSTART:20241103T060000
END:STANDARD
BEGIN:DAYLIGHT
TZOFFSETFROM:-0500
TZOFFSETTO:-0400
TZNAME:EDT
DTSTART:20250309T070000
END:DAYLIGHT
BEGIN:STANDARD
TZOFFSETFROM:-0400
TZOFFSETTO:-0500
TZNAME:EST
DTSTART:20251102T060000
END:STANDARD
BEGIN:DAYLIGHT
TZOFFSETFROM:-0500
TZOFFSETTO:-0400
TZNAME:EDT
DTSTART:20260308T070000
END:DAYLIGHT
BEGIN:STANDARD
TZOFFSETFROM:-0400
TZOFFSETTO:-0500
TZNAME:EST
DTSTART:20261101T060000
END:STANDARD
END:VTIMEZONE
BEGIN:VEVENT
DTSTART;TZID=America/New_York:20250321T110000
DTEND;TZID=America/New_York:20250321T140000
DTSTAMP:20260422T051001
CREATED:20250308T004926Z
LAST-MODIFIED:20250308T004926Z
UID:10011393-1742554800-1742565600@savannahfoodtruckforce.com
SUMMARY:-
DESCRIPTION:
URL:https://savannahfoodtruckforce.com/schedule/53473/
LOCATION:Total Quality Logistics\, 8001 Chatham Center Dr.\, Savannah\, GA\, 31405\, United States
ORGANIZER;CN="Bowtie Barbecue Co.":MAILTO:Danielle@donaldsonenterprises.com
END:VEVENT
BEGIN:VEVENT
DTSTART;TZID=America/New_York:20250321T110000
DTEND;TZID=America/New_York:20250321T140000
DTSTAMP:20260422T051001
CREATED:20250308T004926Z
LAST-MODIFIED:20250308T004926Z
UID:10011396-1742554800-1742565600@savannahfoodtruckforce.com
SUMMARY:-
DESCRIPTION:
URL:https://savannahfoodtruckforce.com/schedule/53479/
LOCATION:Memorial Health – Parking Deck C\, 4700 Waters Ave.\, Savannah\, GA\, 31404\, United States
ORGANIZER;CN="Chazitos Latin Cuisine":MAILTO:Chazitosfoodtruck@gmail.com
GEO:32.0303424;-81.089434
X-APPLE-STRUCTURED-LOCATION;VALUE=URI;X-ADDRESS=Memorial Health – Parking Deck C 4700 Waters Ave. Savannah GA 31404 United States;X-APPLE-RADIUS=500;X-TITLE=4700 Waters Ave.:geo:-81.089434,32.0303424
END:VEVENT
BEGIN:VEVENT
DTSTART;TZID=America/New_York:20250321T110000
DTEND;TZID=America/New_York:20250321T140000
DTSTAMP:20260422T051001
CREATED:20250308T004938Z
LAST-MODIFIED:20250308T004938Z
UID:10011415-1742554800-1742565600@savannahfoodtruckforce.com
SUMMARY:-
DESCRIPTION:
URL:https://savannahfoodtruckforce.com/schedule/53518/
LOCATION:Memorial Health – Parking Deck C\, 4700 Waters Ave.\, Savannah\, GA\, 31404\, United States
ORGANIZER;CN="It's a Jerk Shack":MAILTO:itsajerkshack@gmail.com
GEO:32.0303424;-81.089434
X-APPLE-STRUCTURED-LOCATION;VALUE=URI;X-ADDRESS=Memorial Health – Parking Deck C 4700 Waters Ave. Savannah GA 31404 United States;X-APPLE-RADIUS=500;X-TITLE=4700 Waters Ave.:geo:-81.089434,32.0303424
END:VEVENT
BEGIN:VEVENT
DTSTART;TZID=America/New_York:20250321T110000
DTEND;TZID=America/New_York:20250321T140000
DTSTAMP:20260422T051001
CREATED:20250308T004956Z
LAST-MODIFIED:20250320T222339Z
UID:10011421-1742554800-1742565600@savannahfoodtruckforce.com
SUMMARY:-
DESCRIPTION:
URL:https://savannahfoodtruckforce.com/schedule/53530/
LOCATION:Memorial Health – Parking Deck C\, 4700 Waters Ave.\, Savannah\, GA\, 31404\, United States
ORGANIZER;CN="Mac Attack":MAILTO:macattackfs@yahoo.com
GEO:32.0303424;-81.089434
X-APPLE-STRUCTURED-LOCATION;VALUE=URI;X-ADDRESS=Memorial Health – Parking Deck C 4700 Waters Ave. Savannah GA 31404 United States;X-APPLE-RADIUS=500;X-TITLE=4700 Waters Ave.:geo:-81.089434,32.0303424
END:VEVENT
BEGIN:VEVENT
DTSTART;TZID=America/New_York:20250321T110000
DTEND;TZID=America/New_York:20250321T140000
DTSTAMP:20260422T051001
CREATED:20250308T004956Z
LAST-MODIFIED:20250308T004956Z
UID:10011433-1742554800-1742565600@savannahfoodtruckforce.com
SUMMARY:-
DESCRIPTION:
URL:https://savannahfoodtruckforce.com/schedule/53555/
LOCATION:Flight Safety Int. – Maintenance Side\, 301 Rober Miller Jr. Rd.\, Savannah\, GA\, 31408\, United States
ORGANIZER;CN="Top Dog":MAILTO:Topdogsfoodtruck@gmail.com
END:VEVENT
BEGIN:VEVENT
DTSTART;TZID=America/New_York:20250321T110000
DTEND;TZID=America/New_York:20250321T140000
DTSTAMP:20260422T051001
CREATED:20250308T004956Z
LAST-MODIFIED:20250308T004956Z
UID:10011436-1742554800-1742565600@savannahfoodtruckforce.com
SUMMARY:-
DESCRIPTION:
URL:https://savannahfoodtruckforce.com/schedule/53561/
LOCATION:Memorial Health – Parking Deck C\, 4700 Waters Ave.\, Savannah\, GA\, 31404\, United States
ORGANIZER;CN="Oh Crepe!":MAILTO:ohcrepesav@gmail.com
GEO:32.0303424;-81.089434
X-APPLE-STRUCTURED-LOCATION;VALUE=URI;X-ADDRESS=Memorial Health – Parking Deck C 4700 Waters Ave. Savannah GA 31404 United States;X-APPLE-RADIUS=500;X-TITLE=4700 Waters Ave.:geo:-81.089434,32.0303424
END:VEVENT
BEGIN:VEVENT
DTSTART;TZID=America/New_York:20250321T170000
DTEND;TZID=America/New_York:20250321T190000
DTSTAMP:20260422T051001
CREATED:20250314T125722Z
LAST-MODIFIED:20250314T125722Z
UID:10011447-1742576400-1742583600@savannahfoodtruckforce.com
SUMMARY:-
DESCRIPTION:
URL:https://savannahfoodtruckforce.com/schedule/53585/
LOCATION:Leo @ the Sanctuary\, 103 Moultrie Dr\, Rincon\,\, Rincon\, GA\, 31326\, United States
ORGANIZER;CN="Pie Society":MAILTO:hello@thebritishpiecompany.com
END:VEVENT
BEGIN:VEVENT
DTSTART;TZID=America/New_York:20250321T170000
DTEND;TZID=America/New_York:20250321T193000
DTSTAMP:20260422T051001
CREATED:20250308T004939Z
LAST-MODIFIED:20250308T004939Z
UID:10011397-1742576400-1742585400@savannahfoodtruckforce.com
SUMMARY:-
DESCRIPTION:
URL:https://savannahfoodtruckforce.com/schedule/53481/
LOCATION:Dutch Island\, 120 Dutch Island Dr\, Savannah\, GA\, 31406\, United States
ORGANIZER;CN="Chazitos Latin Cuisine":MAILTO:Chazitosfoodtruck@gmail.com
END:VEVENT
BEGIN:VEVENT
DTSTART;TZID=America/New_York:20250321T170000
DTEND;TZID=America/New_York:20250321T193000
DTSTAMP:20260422T051001
CREATED:20250308T004956Z
LAST-MODIFIED:20250321T152144Z
UID:10011420-1742576400-1742585400@savannahfoodtruckforce.com
SUMMARY:-
DESCRIPTION:
URL:https://savannahfoodtruckforce.com/schedule/53528/
LOCATION:MAA Benton\, 1475 Benton Blvd.\, Savannah\, GA\, 31407\, United States
ORGANIZER;CN="Food Boxx":MAILTO:thefoodboxx@yahoo.com
END:VEVENT
BEGIN:VEVENT
DTSTART;TZID=America/New_York:20250321T170000
DTEND;TZID=America/New_York:20250321T193000
DTSTAMP:20260422T051001
CREATED:20250308T004956Z
LAST-MODIFIED:20250308T004956Z
UID:10011414-1742576400-1742585400@savannahfoodtruckforce.com
SUMMARY:-
DESCRIPTION:
URL:https://savannahfoodtruckforce.com/schedule/53516/
LOCATION:Windsor Forest Largo\, 525 Windsor Rd\, Savannah\, GA\, 31419\, United States
ORGANIZER;CN="It's a Jerk Shack":MAILTO:itsajerkshack@gmail.com
END:VEVENT
END:VCALENDAR