BEGIN:VCALENDAR
VERSION:2.0
PRODID:-//Savannah Food Truck Force - ECPv6.15.12.2//NONSGML v1.0//EN
CALSCALE:GREGORIAN
METHOD:PUBLISH
X-WR-CALNAME:Savannah Food Truck Force
X-ORIGINAL-URL:https://savannahfoodtruckforce.com
X-WR-CALDESC:Events for Savannah Food Truck Force
REFRESH-INTERVAL;VALUE=DURATION:PT1H
X-Robots-Tag:noindex
X-PUBLISHED-TTL:PT1H
BEGIN:VTIMEZONE
TZID:America/New_York
BEGIN:DAYLIGHT
TZOFFSETFROM:-0500
TZOFFSETTO:-0400
TZNAME:EDT
DTSTART:20240310T070000
END:DAYLIGHT
BEGIN:STANDARD
TZOFFSETFROM:-0400
TZOFFSETTO:-0500
TZNAME:EST
DTSTART:20241103T060000
END:STANDARD
BEGIN:DAYLIGHT
TZOFFSETFROM:-0500
TZOFFSETTO:-0400
TZNAME:EDT
DTSTART:20250309T070000
END:DAYLIGHT
BEGIN:STANDARD
TZOFFSETFROM:-0400
TZOFFSETTO:-0500
TZNAME:EST
DTSTART:20251102T060000
END:STANDARD
BEGIN:DAYLIGHT
TZOFFSETFROM:-0500
TZOFFSETTO:-0400
TZNAME:EDT
DTSTART:20260308T070000
END:DAYLIGHT
BEGIN:STANDARD
TZOFFSETFROM:-0400
TZOFFSETTO:-0500
TZNAME:EST
DTSTART:20261101T060000
END:STANDARD
END:VTIMEZONE
BEGIN:VEVENT
DTSTART;TZID=America/New_York:20250326T170000
DTEND;TZID=America/New_York:20250326T193000
DTSTAMP:20260419T083546
CREATED:20250322T002635Z
LAST-MODIFIED:20250322T002635Z
UID:10011484-1743008400-1743017400@savannahfoodtruckforce.com
SUMMARY:-
DESCRIPTION:
URL:https://savannahfoodtruckforce.com/schedule/53661/
LOCATION:The Ellis\, 3 Woodcock Rd\, Savannah\, GA\, 31404\, United States
ORGANIZER;CN="520 Wings":MAILTO:520wingssav@gmail.com
END:VEVENT
BEGIN:VEVENT
DTSTART;TZID=America/New_York:20250326T170000
DTEND;TZID=America/New_York:20250326T193000
DTSTAMP:20260419T083546
CREATED:20250322T002635Z
LAST-MODIFIED:20250324T112456Z
UID:10011487-1743008400-1743017400@savannahfoodtruckforce.com
SUMMARY:-
DESCRIPTION:
URL:https://savannahfoodtruckforce.com/schedule/53667/
LOCATION:The Carlyle at Godley Station – Pooler\, GA\, 385 Godley Station Blvd\,\, Pooler\, GA\, 31322\, United States
ORGANIZER;CN="Top Dog":MAILTO:Topdogsfoodtruck@gmail.com
END:VEVENT
BEGIN:VEVENT
DTSTART;TZID=America/New_York:20250326T170000
DTEND;TZID=America/New_York:20250326T193000
DTSTAMP:20260419T083546
CREATED:20250322T002655Z
LAST-MODIFIED:20250322T002655Z
UID:10011460-1743008400-1743017400@savannahfoodtruckforce.com
SUMMARY:-
DESCRIPTION:
URL:https://savannahfoodtruckforce.com/schedule/53613/
LOCATION:MAA Wilmington Island\, 909 Penn Waller Rd\, Savannah\, GA\, 31410\, United States
ORGANIZER;CN="Royal Tasty Avenue":MAILTO:royaltastyavenuefoodtruck@gmail.com
END:VEVENT
BEGIN:VEVENT
DTSTART;TZID=America/New_York:20250326T170000
DTEND;TZID=America/New_York:20250326T193000
DTSTAMP:20260419T083546
CREATED:20250322T002655Z
LAST-MODIFIED:20250322T002655Z
UID:10011463-1743008400-1743017400@savannahfoodtruckforce.com
SUMMARY:-
DESCRIPTION:
URL:https://savannahfoodtruckforce.com/schedule/53619/
LOCATION:Coastal Cathedral @ Berwick\, 275 Berwick Blvd\, Savannah\, GA\, 31419\, United States
ORGANIZER;CN="Sweet Spice":MAILTO:sweetspice960@gmail.com
END:VEVENT
BEGIN:VEVENT
DTSTART;TZID=America/New_York:20250326T170000
DTEND;TZID=America/New_York:20250326T193000
DTSTAMP:20260419T083546
CREATED:20250322T002655Z
LAST-MODIFIED:20250322T002655Z
UID:10011465-1743008400-1743017400@savannahfoodtruckforce.com
SUMMARY:-
DESCRIPTION:
URL:https://savannahfoodtruckforce.com/schedule/53623/
LOCATION:Village at Rice Hope\, 203 Magnolia Blvd.\, Port Wentworth\, GA\, 31407\, United States
ORGANIZER;CN="It's a Jerk Shack":MAILTO:itsajerkshack@gmail.com
END:VEVENT
END:VCALENDAR