BEGIN:VCALENDAR
VERSION:2.0
PRODID:-//Savannah Food Truck Force - ECPv6.15.12.2//NONSGML v1.0//EN
CALSCALE:GREGORIAN
METHOD:PUBLISH
X-WR-CALNAME:Savannah Food Truck Force
X-ORIGINAL-URL:https://savannahfoodtruckforce.com
X-WR-CALDESC:Events for Savannah Food Truck Force
REFRESH-INTERVAL;VALUE=DURATION:PT1H
X-Robots-Tag:noindex
X-PUBLISHED-TTL:PT1H
BEGIN:VTIMEZONE
TZID:America/New_York
BEGIN:DAYLIGHT
TZOFFSETFROM:-0500
TZOFFSETTO:-0400
TZNAME:EDT
DTSTART:20240310T070000
END:DAYLIGHT
BEGIN:STANDARD
TZOFFSETFROM:-0400
TZOFFSETTO:-0500
TZNAME:EST
DTSTART:20241103T060000
END:STANDARD
BEGIN:DAYLIGHT
TZOFFSETFROM:-0500
TZOFFSETTO:-0400
TZNAME:EDT
DTSTART:20250309T070000
END:DAYLIGHT
BEGIN:STANDARD
TZOFFSETFROM:-0400
TZOFFSETTO:-0500
TZNAME:EST
DTSTART:20251102T060000
END:STANDARD
BEGIN:DAYLIGHT
TZOFFSETFROM:-0500
TZOFFSETTO:-0400
TZNAME:EDT
DTSTART:20260308T070000
END:DAYLIGHT
BEGIN:STANDARD
TZOFFSETFROM:-0400
TZOFFSETTO:-0500
TZNAME:EST
DTSTART:20261101T060000
END:STANDARD
END:VTIMEZONE
BEGIN:VEVENT
DTSTART;TZID=America/New_York:20250507T110000
DTEND;TZID=America/New_York:20250507T140000
DTSTAMP:20260422T065645
CREATED:20250504T003710Z
LAST-MODIFIED:20250504T003710Z
UID:10011763-1746615600-1746626400@savannahfoodtruckforce.com
SUMMARY:-
DESCRIPTION:
URL:https://savannahfoodtruckforce.com/schedule/54305/
LOCATION:Edwards Interiors\, 125 Entrepreneur Way 31326\, Savannah\, GA\, 31326\, United States
ORGANIZER;CN="Bayou Cafe":MAILTO:Bayousavannah@gmail.com
END:VEVENT
BEGIN:VEVENT
DTSTART;TZID=America/New_York:20250507T170000
DTEND;TZID=America/New_York:20250507T193000
DTSTAMP:20260422T065645
CREATED:20250503T230932Z
LAST-MODIFIED:20250503T230932Z
UID:10011746-1746637200-1746646200@savannahfoodtruckforce.com
SUMMARY:-
DESCRIPTION:
URL:https://savannahfoodtruckforce.com/schedule/54255/
LOCATION:MAA Hammocks\, 25 Johnny Mercer Blvd\, Savannah\, GA\, 31410\, United States
ORGANIZER;CN="520 Wings":MAILTO:520wingssav@gmail.com
END:VEVENT
BEGIN:VEVENT
DTSTART;TZID=America/New_York:20250507T170000
DTEND;TZID=America/New_York:20250507T193000
DTSTAMP:20260422T065645
CREATED:20250503T230932Z
LAST-MODIFIED:20250503T230932Z
UID:10011751-1746637200-1746646200@savannahfoodtruckforce.com
SUMMARY:-
DESCRIPTION:
URL:https://savannahfoodtruckforce.com/schedule/54265/
LOCATION:The Preserve at Quacco Woods\, 601 Quacco Road\, Savannah\, GA\, 31419\, United States
ORGANIZER;CN="Top Dog":MAILTO:Topdogsfoodtruck@gmail.com
END:VEVENT
BEGIN:VEVENT
DTSTART;TZID=America/New_York:20250507T170000
DTEND;TZID=America/New_York:20250507T193000
DTSTAMP:20260422T065645
CREATED:20250503T230946Z
LAST-MODIFIED:20250507T180327Z
UID:10011723-1746637200-1746646200@savannahfoodtruckforce.com
SUMMARY:-
DESCRIPTION:
URL:https://savannahfoodtruckforce.com/schedule/54209/
LOCATION:The Ellis\, 3 Woodcock Rd\, Savannah\, GA\, 31404\, United States
ORGANIZER;CN="Krazian":MAILTO:krazian2@gmail.com
END:VEVENT
BEGIN:VEVENT
DTSTART;TZID=America/New_York:20250507T170000
DTEND;TZID=America/New_York:20250507T193000
DTSTAMP:20260422T065645
CREATED:20250503T230946Z
LAST-MODIFIED:20250507T203003Z
UID:10011730-1746637200-1746646200@savannahfoodtruckforce.com
SUMMARY:-
DESCRIPTION:
URL:https://savannahfoodtruckforce.com/schedule/54223/
LOCATION:Coastal Cathedral @ Berwick\, 275 Berwick Blvd\, Savannah\, GA\, 31419\, United States
ORGANIZER;CN="The Cone Ranger Soft Serve Ice Cream":MAILTO:theconeranger24@gmail.com
END:VEVENT
BEGIN:VEVENT
DTSTART;TZID=America/New_York:20250507T170000
DTEND;TZID=America/New_York:20250507T193000
DTSTAMP:20260422T065645
CREATED:20250503T230959Z
LAST-MODIFIED:20250507T194120Z
UID:10011706-1746637200-1746646200@savannahfoodtruckforce.com
SUMMARY:-
DESCRIPTION:
URL:https://savannahfoodtruckforce.com/schedule/54175/
LOCATION:Allier Port Wentworth\, 66 Saussy Rd\, Port Wentworth\, GA\, 31407\, United States
ORGANIZER;CN="Royal Tasty Avenue":MAILTO:royaltastyavenuefoodtruck@gmail.com
END:VEVENT
BEGIN:VEVENT
DTSTART;TZID=America/New_York:20250507T170000
DTEND;TZID=America/New_York:20250507T193000
DTSTAMP:20260422T065645
CREATED:20250503T230959Z
LAST-MODIFIED:20250503T230959Z
UID:10011712-1746637200-1746646200@savannahfoodtruckforce.com
SUMMARY:-
DESCRIPTION:
URL:https://savannahfoodtruckforce.com/schedule/54187/
LOCATION:Coastal Cathedral @ Berwick\, 275 Berwick Blvd\, Savannah\, GA\, 31419\, United States
ORGANIZER;CN="Sweet Spice":MAILTO:sweetspice960@gmail.com
END:VEVENT
BEGIN:VEVENT
DTSTART;TZID=America/New_York:20250507T170000
DTEND;TZID=America/New_York:20250507T193000
DTSTAMP:20260422T065645
CREATED:20250503T230959Z
LAST-MODIFIED:20250503T230959Z
UID:10011715-1746637200-1746646200@savannahfoodtruckforce.com
SUMMARY:-
DESCRIPTION:
URL:https://savannahfoodtruckforce.com/schedule/54193/
LOCATION:Red Gate Farms\, 136 Red Gate Farms Trail\, Savannah\, GA\, 31405\, United States
ORGANIZER;CN="It's a Jerk Shack":MAILTO:itsajerkshack@gmail.com
END:VEVENT
BEGIN:VEVENT
DTSTART;TZID=America/New_York:20250507T170000
DTEND;TZID=America/New_York:20250507T193000
DTSTAMP:20260422T065645
CREATED:20250503T231010Z
LAST-MODIFIED:20250503T231010Z
UID:10011687-1746637200-1746646200@savannahfoodtruckforce.com
SUMMARY:-
DESCRIPTION:
URL:https://savannahfoodtruckforce.com/schedule/54137/
LOCATION:Walden at Chatham Center Apts.\, 100 Walden Ln\, Savannah\, GA\, 31405\, United States
ORGANIZER;CN="Bayou Cafe":MAILTO:Bayousavannah@gmail.com
END:VEVENT
END:VCALENDAR