BEGIN:VCALENDAR
VERSION:2.0
PRODID:-//Savannah Food Truck Force - ECPv6.15.12.2//NONSGML v1.0//EN
CALSCALE:GREGORIAN
METHOD:PUBLISH
X-WR-CALNAME:Savannah Food Truck Force
X-ORIGINAL-URL:https://savannahfoodtruckforce.com
X-WR-CALDESC:Events for Savannah Food Truck Force
REFRESH-INTERVAL;VALUE=DURATION:PT1H
X-Robots-Tag:noindex
X-PUBLISHED-TTL:PT1H
BEGIN:VTIMEZONE
TZID:America/New_York
BEGIN:DAYLIGHT
TZOFFSETFROM:-0500
TZOFFSETTO:-0400
TZNAME:EDT
DTSTART:20240310T070000
END:DAYLIGHT
BEGIN:STANDARD
TZOFFSETFROM:-0400
TZOFFSETTO:-0500
TZNAME:EST
DTSTART:20241103T060000
END:STANDARD
BEGIN:DAYLIGHT
TZOFFSETFROM:-0500
TZOFFSETTO:-0400
TZNAME:EDT
DTSTART:20250309T070000
END:DAYLIGHT
BEGIN:STANDARD
TZOFFSETFROM:-0400
TZOFFSETTO:-0500
TZNAME:EST
DTSTART:20251102T060000
END:STANDARD
BEGIN:DAYLIGHT
TZOFFSETFROM:-0500
TZOFFSETTO:-0400
TZNAME:EDT
DTSTART:20260308T070000
END:DAYLIGHT
BEGIN:STANDARD
TZOFFSETFROM:-0400
TZOFFSETTO:-0500
TZNAME:EST
DTSTART:20261101T060000
END:STANDARD
END:VTIMEZONE
BEGIN:VEVENT
DTSTART;TZID=America/New_York:20250610T110000
DTEND;TZID=America/New_York:20250610T140000
DTSTAMP:20260421T043313
CREATED:20250601T171150Z
LAST-MODIFIED:20250610T133621Z
UID:10011866-1749553200-1749564000@savannahfoodtruckforce.com
SUMMARY:-
DESCRIPTION:
URL:https://savannahfoodtruckforce.com/schedule/54567/
LOCATION:Savannah Technical College – Savannah\, 5717 White Bluff Rd.\, Savannah\, GA\, 31405\, United States
ORGANIZER;CN="Krazian":MAILTO:krazian2@gmail.com
END:VEVENT
BEGIN:VEVENT
DTSTART;TZID=America/New_York:20250610T110000
DTEND;TZID=America/New_York:20250610T140000
DTSTAMP:20260421T043313
CREATED:20250601T171150Z
LAST-MODIFIED:20250609T213417Z
UID:10011871-1749553200-1749564000@savannahfoodtruckforce.com
SUMMARY:-
DESCRIPTION:
URL:https://savannahfoodtruckforce.com/schedule/54577/
LOCATION:Savannah Technical College – Effingham\, 2890 HW 21\, Rincon\, GA\, 31326\, United States
ORGANIZER;CN="The Naked Dog":MAILTO:nakeddogfoodtruck@gmail.com
END:VEVENT
BEGIN:VEVENT
DTSTART;TZID=America/New_York:20250610T110000
DTEND;TZID=America/New_York:20250610T140000
DTSTAMP:20260421T043313
CREATED:20250601T171208Z
LAST-MODIFIED:20250609T171729Z
UID:10011906-1749553200-1749564000@savannahfoodtruckforce.com
SUMMARY:-
DESCRIPTION:
URL:https://savannahfoodtruckforce.com/schedule/54647/
LOCATION:Savannah Technical College – Crossroads\, 170 Crossroads Parkway\, Savannah\, GA\, 31407\, United States
ORGANIZER;CN="520 Wings":MAILTO:520wingssav@gmail.com
END:VEVENT
BEGIN:VEVENT
DTSTART;TZID=America/New_York:20250610T170000
DTEND;TZID=America/New_York:20250610T193000
DTSTAMP:20260421T043313
CREATED:20250601T171132Z
LAST-MODIFIED:20250601T171132Z
UID:10011880-1749574800-1749583800@savannahfoodtruckforce.com
SUMMARY:-
DESCRIPTION:
URL:https://savannahfoodtruckforce.com/schedule/54595/
LOCATION:Avala\, 300 Blue Moon Crossing\, Pooler\, GA\, 31322\, United States
ORGANIZER;CN="Mexicali Fresh":MAILTO:https://www.mexicalifresh.net/contact/
END:VEVENT
BEGIN:VEVENT
DTSTART;TZID=America/New_York:20250610T170000
DTEND;TZID=America/New_York:20250610T193000
DTSTAMP:20260421T043313
CREATED:20250601T171159Z
LAST-MODIFIED:20250601T171159Z
UID:10011842-1749574800-1749583800@savannahfoodtruckforce.com
SUMMARY:-
DESCRIPTION:
URL:https://savannahfoodtruckforce.com/schedule/54514/
LOCATION:Two Addison Place\, 2 Addison Place\, Pooler\, GA\, 31322\, United States
ORGANIZER;CN="Ark Royal Burgers":MAILTO:arkroyalburgers@gmail.com
END:VEVENT
BEGIN:VEVENT
DTSTART;TZID=America/New_York:20250610T170000
DTEND;TZID=America/New_York:20250610T193000
DTSTAMP:20260421T043313
CREATED:20250601T171208Z
LAST-MODIFIED:20250601T171208Z
UID:10011907-1749574800-1749583800@savannahfoodtruckforce.com
SUMMARY:-
DESCRIPTION:
URL:https://savannahfoodtruckforce.com/schedule/54649/
LOCATION:The Carlyle at Godley Station – Pooler\, GA\, 385 Godley Station Blvd\,\, Pooler\, GA\, 31322\, United States
ORGANIZER;CN="520 Wings":MAILTO:520wingssav@gmail.com
END:VEVENT
BEGIN:VEVENT
DTSTART;TZID=America/New_York:20250610T170000
DTEND;TZID=America/New_York:20250610T193000
DTSTAMP:20260421T043313
CREATED:20250601T171208Z
LAST-MODIFIED:20250601T171208Z
UID:10011913-1749574800-1749583800@savannahfoodtruckforce.com
SUMMARY:-
DESCRIPTION:
URL:https://savannahfoodtruckforce.com/schedule/54661/
LOCATION:Windsor Forest Largo\, 525 Windsor Rd\, Savannah\, GA\, 31419\, United States
ORGANIZER;CN="Top Dog":MAILTO:Topdogsfoodtruck@gmail.com
END:VEVENT
BEGIN:VEVENT
DTSTART;TZID=America/New_York:20250610T170000
DTEND;TZID=America/New_York:20250610T193000
DTSTAMP:20260421T043313
CREATED:20250601T171209Z
LAST-MODIFIED:20250601T171209Z
UID:10011898-1749574800-1749583800@savannahfoodtruckforce.com
SUMMARY:-
DESCRIPTION:
URL:https://savannahfoodtruckforce.com/schedule/54633/
LOCATION:Covey Homes at New Hampstead\, 201 Powers Pass\, Savannah\, GA\, 31401\, United States
ORGANIZER;CN="Oh Crepe!":MAILTO:ohcrepesav@gmail.com
GEO:32.0765847;-81.3183852
X-APPLE-STRUCTURED-LOCATION;VALUE=URI;X-ADDRESS=Covey Homes at New Hampstead 201 Powers Pass Savannah GA 31401 United States;X-APPLE-RADIUS=500;X-TITLE=201 Powers Pass:geo:-81.3183852,32.0765847
END:VEVENT
END:VCALENDAR