BEGIN:VCALENDAR
VERSION:2.0
PRODID:-//Savannah Food Truck Force - ECPv6.15.12.2//NONSGML v1.0//EN
CALSCALE:GREGORIAN
METHOD:PUBLISH
X-ORIGINAL-URL:https://savannahfoodtruckforce.com
X-WR-CALDESC:Events for Savannah Food Truck Force
REFRESH-INTERVAL;VALUE=DURATION:PT1H
X-Robots-Tag:noindex
X-PUBLISHED-TTL:PT1H
BEGIN:VTIMEZONE
TZID:America/New_York
BEGIN:DAYLIGHT
TZOFFSETFROM:-0500
TZOFFSETTO:-0400
TZNAME:EDT
DTSTART:20240310T070000
END:DAYLIGHT
BEGIN:STANDARD
TZOFFSETFROM:-0400
TZOFFSETTO:-0500
TZNAME:EST
DTSTART:20241103T060000
END:STANDARD
BEGIN:DAYLIGHT
TZOFFSETFROM:-0500
TZOFFSETTO:-0400
TZNAME:EDT
DTSTART:20250309T070000
END:DAYLIGHT
BEGIN:STANDARD
TZOFFSETFROM:-0400
TZOFFSETTO:-0500
TZNAME:EST
DTSTART:20251102T060000
END:STANDARD
BEGIN:DAYLIGHT
TZOFFSETFROM:-0500
TZOFFSETTO:-0400
TZNAME:EDT
DTSTART:20260308T070000
END:DAYLIGHT
BEGIN:STANDARD
TZOFFSETFROM:-0400
TZOFFSETTO:-0500
TZNAME:EST
DTSTART:20261101T060000
END:STANDARD
END:VTIMEZONE
BEGIN:VEVENT
DTSTART;TZID=America/New_York:20250617T110000
DTEND;TZID=America/New_York:20250617T140000
DTSTAMP:20260420T002934
CREATED:20250615T194012Z
LAST-MODIFIED:20250616T175631Z
UID:10012030-1750158000-1750168800@savannahfoodtruckforce.com
SUMMARY:-
DESCRIPTION:
URL:https://savannahfoodtruckforce.com/schedule/54912/
LOCATION:Savannah Technical College – Effingham\, 2890 HW 21\, Rincon\, GA\, 31326\, United States
ORGANIZER;CN="Top Dog":MAILTO:Topdogsfoodtruck@gmail.com
END:VEVENT
BEGIN:VEVENT
DTSTART;TZID=America/New_York:20250617T110000
DTEND;TZID=America/New_York:20250617T140000
DTSTAMP:20260420T002934
CREATED:20250615T194046Z
LAST-MODIFIED:20250616T175446Z
UID:10011962-1750158000-1750168800@savannahfoodtruckforce.com
SUMMARY:-
DESCRIPTION:
URL:https://savannahfoodtruckforce.com/schedule/54772/
LOCATION:Savannah Technical College – Crossroads\, 170 Crossroads Parkway\, Savannah\, GA\, 31407\, United States
ORGANIZER;CN="Royal Tasty Avenue":MAILTO:royaltastyavenuefoodtruck@gmail.com
END:VEVENT
BEGIN:VEVENT
DTSTART;TZID=America/New_York:20250617T110000
DTEND;TZID=America/New_York:20250617T140000
DTSTAMP:20260420T002934
CREATED:20250615T194104Z
LAST-MODIFIED:20250616T175429Z
UID:10011927-1750158000-1750168800@savannahfoodtruckforce.com
SUMMARY:-
DESCRIPTION:
URL:https://savannahfoodtruckforce.com/schedule/54701/
LOCATION:Savannah Technical College – Savannah\, 5717 White Bluff Rd.\, Savannah\, GA\, 31405\, United States
ORGANIZER;CN="Bowtie Barbecue Co.":MAILTO:Danielle@donaldsonenterprises.com
END:VEVENT
BEGIN:VEVENT
DTSTART;TZID=America/New_York:20250617T170000
DTEND;TZID=America/New_York:20250617T193000
DTSTAMP:20260420T002934
CREATED:20250615T194012Z
LAST-MODIFIED:20250615T194012Z
UID:10012022-1750179600-1750188600@savannahfoodtruckforce.com
SUMMARY:-
DESCRIPTION:
URL:https://savannahfoodtruckforce.com/schedule/54895/
LOCATION:Georgetown Oaks\, 1015 King George Blvd\, Savannah\, GA\, 31419\, United States
ORGANIZER;CN="520 Wings":MAILTO:520wingssav@gmail.com
END:VEVENT
BEGIN:VEVENT
DTSTART;TZID=America/New_York:20250617T170000
DTEND;TZID=America/New_York:20250617T193000
DTSTAMP:20260420T002934
CREATED:20250615T194024Z
LAST-MODIFIED:20250615T194024Z
UID:10012004-1750179600-1750188600@savannahfoodtruckforce.com
SUMMARY:-
DESCRIPTION:
URL:https://savannahfoodtruckforce.com/schedule/54858/
LOCATION:Allier Port Wentworth\, 66 Saussy Rd\, Port Wentworth\, GA\, 31407\, United States
ORGANIZER;CN="Mac Attack":MAILTO:macattackfs@yahoo.com
END:VEVENT
BEGIN:VEVENT
DTSTART;TZID=America/New_York:20250617T170000
DTEND;TZID=America/New_York:20250617T193000
DTSTAMP:20260420T002934
CREATED:20250615T194024Z
LAST-MODIFIED:20250615T194024Z
UID:10012012-1750179600-1750188600@savannahfoodtruckforce.com
SUMMARY:-
DESCRIPTION:
URL:https://savannahfoodtruckforce.com/schedule/54874/
LOCATION:The Links at Georgetown\, 450 Al Henderson Blvd\, Savannah\, GA\, 31419\, United States
ORGANIZER;CN="Oh Crepe!":MAILTO:ohcrepesav@gmail.com
END:VEVENT
BEGIN:VEVENT
DTSTART;TZID=America/New_York:20250617T170000
DTEND;TZID=America/New_York:20250617T193000
DTSTAMP:20260420T002934
CREATED:20250615T194055Z
LAST-MODIFIED:20250615T194055Z
UID:10011948-1750179600-1750188600@savannahfoodtruckforce.com
SUMMARY:-
DESCRIPTION:
URL:https://savannahfoodtruckforce.com/schedule/54743/
LOCATION:Windsor Forest Largo\, 525 Windsor Rd\, Savannah\, GA\, 31419\, United States
ORGANIZER;CN="Ark Royal Burgers":MAILTO:arkroyalburgers@gmail.com
END:VEVENT
BEGIN:VEVENT
DTSTART;TZID=America/New_York:20250617T170000
DTEND;TZID=America/New_York:20250617T193000
DTSTAMP:20260420T002934
CREATED:20250615T195515Z
LAST-MODIFIED:20250615T195515Z
UID:10012037-1750179600-1750188600@savannahfoodtruckforce.com
SUMMARY:-
DESCRIPTION:
URL:https://savannahfoodtruckforce.com/schedule/54929/
LOCATION:The Felicity on Perry\, 1150 East Perry Ln\, Savannah\, GA
ORGANIZER;CN="Pie Society":MAILTO:hello@thebritishpiecompany.com
END:VEVENT
END:VCALENDAR