BEGIN:VCALENDAR
VERSION:2.0
PRODID:-//Savannah Food Truck Force - ECPv6.15.12.2//NONSGML v1.0//EN
CALSCALE:GREGORIAN
METHOD:PUBLISH
X-ORIGINAL-URL:https://savannahfoodtruckforce.com
X-WR-CALDESC:Events for Savannah Food Truck Force
REFRESH-INTERVAL;VALUE=DURATION:PT1H
X-Robots-Tag:noindex
X-PUBLISHED-TTL:PT1H
BEGIN:VTIMEZONE
TZID:America/New_York
BEGIN:DAYLIGHT
TZOFFSETFROM:-0500
TZOFFSETTO:-0400
TZNAME:EDT
DTSTART:20240310T070000
END:DAYLIGHT
BEGIN:STANDARD
TZOFFSETFROM:-0400
TZOFFSETTO:-0500
TZNAME:EST
DTSTART:20241103T060000
END:STANDARD
BEGIN:DAYLIGHT
TZOFFSETFROM:-0500
TZOFFSETTO:-0400
TZNAME:EDT
DTSTART:20250309T070000
END:DAYLIGHT
BEGIN:STANDARD
TZOFFSETFROM:-0400
TZOFFSETTO:-0500
TZNAME:EST
DTSTART:20251102T060000
END:STANDARD
BEGIN:DAYLIGHT
TZOFFSETFROM:-0500
TZOFFSETTO:-0400
TZNAME:EDT
DTSTART:20260308T070000
END:DAYLIGHT
BEGIN:STANDARD
TZOFFSETFROM:-0400
TZOFFSETTO:-0500
TZNAME:EST
DTSTART:20261101T060000
END:STANDARD
END:VTIMEZONE
BEGIN:VEVENT
DTSTART;TZID=America/New_York:20250619T170000
DTEND;TZID=America/New_York:20250619T193000
DTSTAMP:20260419T211723
CREATED:20250615T194012Z
LAST-MODIFIED:20250615T194012Z
UID:10012024-1750352400-1750361400@savannahfoodtruckforce.com
SUMMARY:-
DESCRIPTION:
URL:https://savannahfoodtruckforce.com/schedule/54899/
LOCATION:Riverworks at Eastern Wharf\, 301 Passage Way\, Savannah\, GA\, 31401\, United States
ORGANIZER;CN="520 Wings":MAILTO:520wingssav@gmail.com
END:VEVENT
BEGIN:VEVENT
DTSTART;TZID=America/New_York:20250619T170000
DTEND;TZID=America/New_York:20250619T193000
DTSTAMP:20260419T211723
CREATED:20250615T194034Z
LAST-MODIFIED:20250615T194034Z
UID:10011989-1750352400-1750361400@savannahfoodtruckforce.com
SUMMARY:-
DESCRIPTION:
URL:https://savannahfoodtruckforce.com/schedule/54826/
LOCATION:Crossings at Pooler\, 100 Galloway Drive\, Pooler\, GA\, 31322\, United States
ORGANIZER;CN="Mexicali Fresh":MAILTO:https://www.mexicalifresh.net/contact/
END:VEVENT
BEGIN:VEVENT
DTSTART;TZID=America/New_York:20250619T170000
DTEND;TZID=America/New_York:20250619T193000
DTSTAMP:20260419T211723
CREATED:20250615T194046Z
LAST-MODIFIED:20250615T194046Z
UID:10011958-1750352400-1750361400@savannahfoodtruckforce.com
SUMMARY:-
DESCRIPTION:
URL:https://savannahfoodtruckforce.com/schedule/54764/
LOCATION:Long Point\, 1 Lymann Hall\, Savannah\, GA\, 31410\, United States
ORGANIZER;CN="Pie Society":MAILTO:hello@thebritishpiecompany.com
END:VEVENT
BEGIN:VEVENT
DTSTART;TZID=America/New_York:20250619T170000
DTEND;TZID=America/New_York:20250619T193000
DTSTAMP:20260419T211723
CREATED:20250615T194046Z
LAST-MODIFIED:20250615T194046Z
UID:10011976-1750352400-1750361400@savannahfoodtruckforce.com
SUMMARY:-
DESCRIPTION:
URL:https://savannahfoodtruckforce.com/schedule/54800/
LOCATION:Osprey on the Bluffs\, 11900 White Bluff Rd.\, Savannah\, GA\, 31419\, United States
ORGANIZER;CN="It's a Jerk Shack":MAILTO:itsajerkshack@gmail.com
END:VEVENT
BEGIN:VEVENT
DTSTART;TZID=America/New_York:20250619T170000
DTEND;TZID=America/New_York:20250619T193000
DTSTAMP:20260419T211723
CREATED:20250615T194054Z
LAST-MODIFIED:20250615T194054Z
UID:10011951-1750352400-1750361400@savannahfoodtruckforce.com
SUMMARY:-
DESCRIPTION:
URL:https://savannahfoodtruckforce.com/schedule/54749/
LOCATION:Buccaneer Trace Apartments\, 55 Deerwood Rd\, Savannah\, GA\, 31410
ORGANIZER;CN="Ark Royal Burgers":MAILTO:arkroyalburgers@gmail.com
END:VEVENT
END:VCALENDAR