BEGIN:VCALENDAR
VERSION:2.0
PRODID:-//Savannah Food Truck Force - ECPv6.15.12.2//NONSGML v1.0//EN
CALSCALE:GREGORIAN
METHOD:PUBLISH
X-WR-CALNAME:Savannah Food Truck Force
X-ORIGINAL-URL:https://savannahfoodtruckforce.com
X-WR-CALDESC:Events for Savannah Food Truck Force
REFRESH-INTERVAL;VALUE=DURATION:PT1H
X-Robots-Tag:noindex
X-PUBLISHED-TTL:PT1H
BEGIN:VTIMEZONE
TZID:America/New_York
BEGIN:DAYLIGHT
TZOFFSETFROM:-0500
TZOFFSETTO:-0400
TZNAME:EDT
DTSTART:20240310T070000
END:DAYLIGHT
BEGIN:STANDARD
TZOFFSETFROM:-0400
TZOFFSETTO:-0500
TZNAME:EST
DTSTART:20241103T060000
END:STANDARD
BEGIN:DAYLIGHT
TZOFFSETFROM:-0500
TZOFFSETTO:-0400
TZNAME:EDT
DTSTART:20250309T070000
END:DAYLIGHT
BEGIN:STANDARD
TZOFFSETFROM:-0400
TZOFFSETTO:-0500
TZNAME:EST
DTSTART:20251102T060000
END:STANDARD
BEGIN:DAYLIGHT
TZOFFSETFROM:-0500
TZOFFSETTO:-0400
TZNAME:EDT
DTSTART:20260308T070000
END:DAYLIGHT
BEGIN:STANDARD
TZOFFSETFROM:-0400
TZOFFSETTO:-0500
TZNAME:EST
DTSTART:20261101T060000
END:STANDARD
END:VTIMEZONE
BEGIN:VEVENT
DTSTART;TZID=America/New_York:20250620T103000
DTEND;TZID=America/New_York:20250620T140000
DTSTAMP:20260419T192334
CREATED:20250615T194012Z
LAST-MODIFIED:20250615T194012Z
UID:10012025-1750415400-1750428000@savannahfoodtruckforce.com
SUMMARY:-
DESCRIPTION:
URL:https://savannahfoodtruckforce.com/schedule/54901/
LOCATION:Nine Line Apparel\, 450 Fort Argyle Rd.\, Savannah\, GA\, 31419\, United States
ORGANIZER;CN="520 Wings":MAILTO:520wingssav@gmail.com
END:VEVENT
BEGIN:VEVENT
DTSTART;TZID=America/New_York:20250620T110000
DTEND;TZID=America/New_York:20250620T140000
DTSTAMP:20260419T192335
CREATED:20250615T194012Z
LAST-MODIFIED:20250620T120816Z
UID:10012031-1750417200-1750428000@savannahfoodtruckforce.com
SUMMARY:-
DESCRIPTION:
URL:https://savannahfoodtruckforce.com/schedule/54914/
LOCATION:Memorial Health – Parking Deck C\, 4700 Waters Ave.\, Savannah\, GA\, 31404\, United States
ORGANIZER;CN="It's a Jerk Shack":MAILTO:itsajerkshack@gmail.com
GEO:32.0303424;-81.089434
X-APPLE-STRUCTURED-LOCATION;VALUE=URI;X-ADDRESS=Memorial Health – Parking Deck C 4700 Waters Ave. Savannah GA 31404 United States;X-APPLE-RADIUS=500;X-TITLE=4700 Waters Ave.:geo:-81.089434,32.0303424
END:VEVENT
BEGIN:VEVENT
DTSTART;TZID=America/New_York:20250620T110000
DTEND;TZID=America/New_York:20250620T140000
DTSTAMP:20260419T192335
CREATED:20250615T194023Z
LAST-MODIFIED:20250615T194023Z
UID:10012014-1750417200-1750428000@savannahfoodtruckforce.com
SUMMARY:-
DESCRIPTION:
URL:https://savannahfoodtruckforce.com/schedule/54879/
LOCATION:Memorial Health – Parking Deck C\, 4700 Waters Ave.\, Savannah\, GA\, 31404\, United States
ORGANIZER;CN="Oh Crepe!":MAILTO:ohcrepesav@gmail.com
GEO:32.0303424;-81.089434
X-APPLE-STRUCTURED-LOCATION;VALUE=URI;X-ADDRESS=Memorial Health – Parking Deck C 4700 Waters Ave. Savannah GA 31404 United States;X-APPLE-RADIUS=500;X-TITLE=4700 Waters Ave.:geo:-81.089434,32.0303424
END:VEVENT
BEGIN:VEVENT
DTSTART;TZID=America/New_York:20250620T110000
DTEND;TZID=America/New_York:20250620T140000
DTSTAMP:20260419T192335
CREATED:20250615T194024Z
LAST-MODIFIED:20250620T135558Z
UID:10012000-1750417200-1750428000@savannahfoodtruckforce.com
SUMMARY:-
DESCRIPTION:
URL:https://savannahfoodtruckforce.com/schedule/54850/
LOCATION:Memorial Health – Parking Deck C\, 4700 Waters Ave.\, Savannah\, GA\, 31404\, United States
ORGANIZER;CN="Food Boxx":MAILTO:thefoodboxx@yahoo.com
GEO:32.0303424;-81.089434
X-APPLE-STRUCTURED-LOCATION;VALUE=URI;X-ADDRESS=Memorial Health – Parking Deck C 4700 Waters Ave. Savannah GA 31404 United States;X-APPLE-RADIUS=500;X-TITLE=4700 Waters Ave.:geo:-81.089434,32.0303424
END:VEVENT
BEGIN:VEVENT
DTSTART;TZID=America/New_York:20250620T110000
DTEND;TZID=America/New_York:20250620T140000
DTSTAMP:20260419T192335
CREATED:20250615T194055Z
LAST-MODIFIED:20250615T194055Z
UID:10011942-1750417200-1750428000@savannahfoodtruckforce.com
SUMMARY:-
DESCRIPTION:
URL:https://savannahfoodtruckforce.com/schedule/54731/
LOCATION:Memorial Health – Parking Deck C\, 4700 Waters Ave.\, Savannah\, GA\, 31404\, United States
ORGANIZER;CN="Latin Chicks":MAILTO:latinchicks.bookings@gmail.com
GEO:32.0303424;-81.089434
X-APPLE-STRUCTURED-LOCATION;VALUE=URI;X-ADDRESS=Memorial Health – Parking Deck C 4700 Waters Ave. Savannah GA 31404 United States;X-APPLE-RADIUS=500;X-TITLE=4700 Waters Ave.:geo:-81.089434,32.0303424
END:VEVENT
BEGIN:VEVENT
DTSTART;TZID=America/New_York:20250620T110000
DTEND;TZID=America/New_York:20250620T140000
DTSTAMP:20260419T192335
CREATED:20250615T194104Z
LAST-MODIFIED:20250615T194104Z
UID:10011928-1750417200-1750428000@savannahfoodtruckforce.com
SUMMARY:-
DESCRIPTION:
URL:https://savannahfoodtruckforce.com/schedule/54703/
LOCATION:Flight Safety Int. – Maintenance Side\, 301 Rober Miller Jr. Rd.\, Savannah\, GA\, 31408\, United States
ORGANIZER;CN="Bowtie Barbecue Co.":MAILTO:Danielle@donaldsonenterprises.com
END:VEVENT
BEGIN:VEVENT
DTSTART;TZID=America/New_York:20250620T110000
DTEND;TZID=America/New_York:20250620T140000
DTSTAMP:20260419T192335
CREATED:20250616T124615Z
LAST-MODIFIED:20250616T124615Z
UID:10012041-1750417200-1750428000@savannahfoodtruckforce.com
SUMMARY:-
DESCRIPTION:
URL:https://savannahfoodtruckforce.com/schedule/54938/
LOCATION:South Coast Health Eisenhower\, 1326 Eisenhower Dr\, Savannah\, GA\, United States
ORGANIZER;CN="Mac Attack":MAILTO:macattackfs@yahoo.com
END:VEVENT
BEGIN:VEVENT
DTSTART;TZID=America/New_York:20250620T170000
DTEND;TZID=America/New_York:20250620T193000
DTSTAMP:20260419T192335
CREATED:20250615T194023Z
LAST-MODIFIED:20250615T194023Z
UID:10012015-1750438800-1750447800@savannahfoodtruckforce.com
SUMMARY:-
DESCRIPTION:
URL:https://savannahfoodtruckforce.com/schedule/54881/
LOCATION:Monarch at Godley Station\, 165 W Mulberry Blvd\, Savannah\, GA\, 31407\, United States
ORGANIZER;CN="Oh Crepe!":MAILTO:ohcrepesav@gmail.com
END:VEVENT
BEGIN:VEVENT
DTSTART;TZID=America/New_York:20250620T170000
DTEND;TZID=America/New_York:20250620T193000
DTSTAMP:20260419T192335
CREATED:20250615T194024Z
LAST-MODIFIED:20250615T194024Z
UID:10011998-1750438800-1750447800@savannahfoodtruckforce.com
SUMMARY:-
DESCRIPTION:
URL:https://savannahfoodtruckforce.com/schedule/54846/
LOCATION:The Park at Eastern Wharf\, 101 Port St.\, Savannah\, GA\, 31401\, United States
ORGANIZER;CN="The Cone Ranger Soft Serve Ice Cream":MAILTO:theconeranger24@gmail.com
END:VEVENT
BEGIN:VEVENT
DTSTART;TZID=America/New_York:20250620T170000
DTEND;TZID=America/New_York:20250620T193000
DTSTAMP:20260419T192335
CREATED:20250615T194034Z
LAST-MODIFIED:20250615T194034Z
UID:10011977-1750438800-1750447800@savannahfoodtruckforce.com
SUMMARY:-
DESCRIPTION:
URL:https://savannahfoodtruckforce.com/schedule/54802/
LOCATION:Windsor Forest Largo\, 525 Windsor Rd\, Savannah\, GA\, 31419\, United States
ORGANIZER;CN="It's a Jerk Shack":MAILTO:itsajerkshack@gmail.com
END:VEVENT
BEGIN:VEVENT
DTSTART;TZID=America/New_York:20250620T170000
DTEND;TZID=America/New_York:20250620T193000
DTSTAMP:20260419T192335
CREATED:20250615T194034Z
LAST-MODIFIED:20250615T194034Z
UID:10011990-1750438800-1750447800@savannahfoodtruckforce.com
SUMMARY:-
DESCRIPTION:
URL:https://savannahfoodtruckforce.com/schedule/54828/
LOCATION:The Park at Eastern Wharf\, 101 Port St.\, Savannah\, GA\, 31401\, United States
ORGANIZER;CN="Mexicali Fresh":MAILTO:https://www.mexicalifresh.net/contact/
END:VEVENT
BEGIN:VEVENT
DTSTART;TZID=America/New_York:20250620T170000
DTEND;TZID=America/New_York:20250620T193000
DTSTAMP:20260419T192335
CREATED:20250615T194046Z
LAST-MODIFIED:20250615T194046Z
UID:10011963-1750438800-1750447800@savannahfoodtruckforce.com
SUMMARY:-
DESCRIPTION:
URL:https://savannahfoodtruckforce.com/schedule/54774/
LOCATION:The Park at Eastern Wharf\, 101 Port St.\, Savannah\, GA\, 31401\, United States
ORGANIZER;CN="Royal Tasty Avenue":MAILTO:royaltastyavenuefoodtruck@gmail.com
END:VEVENT
BEGIN:VEVENT
DTSTART;TZID=America/New_York:20250620T170000
DTEND;TZID=America/New_York:20250620T193000
DTSTAMP:20260419T192335
CREATED:20250615T194054Z
LAST-MODIFIED:20250615T194054Z
UID:10011952-1750438800-1750447800@savannahfoodtruckforce.com
SUMMARY:-
DESCRIPTION:
URL:https://savannahfoodtruckforce.com/schedule/54752/
LOCATION:Georgetowne Grove\, 1800 Grove Point Rd\, Savannah\, GA\, 31419\, United States
ORGANIZER;CN="Ark Royal Burgers":MAILTO:arkroyalburgers@gmail.com
END:VEVENT
END:VCALENDAR