BEGIN:VCALENDAR
VERSION:2.0
PRODID:-//Savannah Food Truck Force - ECPv6.15.12.2//NONSGML v1.0//EN
CALSCALE:GREGORIAN
METHOD:PUBLISH
X-ORIGINAL-URL:https://savannahfoodtruckforce.com
X-WR-CALDESC:Events for Savannah Food Truck Force
REFRESH-INTERVAL;VALUE=DURATION:PT1H
X-Robots-Tag:noindex
X-PUBLISHED-TTL:PT1H
BEGIN:VTIMEZONE
TZID:America/New_York
BEGIN:DAYLIGHT
TZOFFSETFROM:-0500
TZOFFSETTO:-0400
TZNAME:EDT
DTSTART:20240310T070000
END:DAYLIGHT
BEGIN:STANDARD
TZOFFSETFROM:-0400
TZOFFSETTO:-0500
TZNAME:EST
DTSTART:20241103T060000
END:STANDARD
BEGIN:DAYLIGHT
TZOFFSETFROM:-0500
TZOFFSETTO:-0400
TZNAME:EDT
DTSTART:20250309T070000
END:DAYLIGHT
BEGIN:STANDARD
TZOFFSETFROM:-0400
TZOFFSETTO:-0500
TZNAME:EST
DTSTART:20251102T060000
END:STANDARD
BEGIN:DAYLIGHT
TZOFFSETFROM:-0500
TZOFFSETTO:-0400
TZNAME:EDT
DTSTART:20260308T070000
END:DAYLIGHT
BEGIN:STANDARD
TZOFFSETFROM:-0400
TZOFFSETTO:-0500
TZNAME:EST
DTSTART:20261101T060000
END:STANDARD
END:VTIMEZONE
BEGIN:VEVENT
DTSTART;TZID=America/New_York:20251105T110000
DTEND;TZID=America/New_York:20251105T140000
DTSTAMP:20260422T150117
CREATED:20251101T170941Z
LAST-MODIFIED:20251101T170941Z
UID:10012732-1762340400-1762351200@savannahfoodtruckforce.com
SUMMARY:-
DESCRIPTION:
URL:https://savannahfoodtruckforce.com/schedule/58462/
LOCATION:Edwards Interiors\, 125 Entrepreneur Way 31326\, Savannah\, GA\, 31326\, United States
ORGANIZER;CN="Bayou Cafe":MAILTO:Bayousavannah@gmail.com
END:VEVENT
BEGIN:VEVENT
DTSTART;TZID=America/New_York:20251105T170000
DTEND;TZID=America/New_York:20251105T193000
DTSTAMP:20260422T150117
CREATED:20251101T170940Z
LAST-MODIFIED:20251101T170940Z
UID:10012733-1762362000-1762371000@savannahfoodtruckforce.com
SUMMARY:-
DESCRIPTION:
URL:https://savannahfoodtruckforce.com/schedule/58464/
LOCATION:Abrazo at Rice Hope\, 3164 Mulberry Ave\, Savannah\, GA\, 31407\, United States
ORGANIZER;CN="Bayou Cafe":MAILTO:Bayousavannah@gmail.com
END:VEVENT
BEGIN:VEVENT
DTSTART;TZID=America/New_York:20251105T170000
DTEND;TZID=America/New_York:20251105T193000
DTSTAMP:20260422T150117
CREATED:20251101T170940Z
LAST-MODIFIED:20251104T192543Z
UID:10012747-1762362000-1762371000@savannahfoodtruckforce.com
SUMMARY:-
DESCRIPTION:
URL:https://savannahfoodtruckforce.com/schedule/58492/
LOCATION:The Preserve at Quacco Woods\, 601 Quacco Road\, Savannah\, GA\, 31419\, United States
ORGANIZER;CN="Latin Chicks":MAILTO:latinchicks.bookings@gmail.com
END:VEVENT
BEGIN:VEVENT
DTSTART;TZID=America/New_York:20251105T170000
DTEND;TZID=America/New_York:20251105T193000
DTSTAMP:20260422T150117
CREATED:20251101T170940Z
LAST-MODIFIED:20251101T171540Z
UID:10012753-1762362000-1762371000@savannahfoodtruckforce.com
SUMMARY:-
DESCRIPTION:
URL:https://savannahfoodtruckforce.com/schedule/58504/
LOCATION:The Ellis\, 3 Woodcock Rd\, Savannah\, GA\, 31404\, United States
ORGANIZER;CN="Ark Royal Burgers":MAILTO:arkroyalburgers@gmail.com
END:VEVENT
BEGIN:VEVENT
DTSTART;TZID=America/New_York:20251105T170000
DTEND;TZID=America/New_York:20251105T193000
DTSTAMP:20260422T150117
CREATED:20251101T170941Z
LAST-MODIFIED:20251101T170941Z
UID:10012783-1762362000-1762371000@savannahfoodtruckforce.com
SUMMARY:-
DESCRIPTION:
URL:https://savannahfoodtruckforce.com/schedule/58566/
LOCATION:Marion Lake Apartments\, 1850 Benton Blvd\, Savannah\, GA\, 31407\, United States
ORGANIZER;CN="Oh Crepe!":MAILTO:ohcrepesav@gmail.com
END:VEVENT
BEGIN:VEVENT
DTSTART;TZID=America/New_York:20251105T170000
DTEND;TZID=America/New_York:20251105T193000
DTSTAMP:20260422T150117
CREATED:20251101T170941Z
LAST-MODIFIED:20251102T130818Z
UID:10012757-1762362000-1762371000@savannahfoodtruckforce.com
SUMMARY:-
DESCRIPTION:
URL:https://savannahfoodtruckforce.com/schedule/58512/
LOCATION:Grand Oaks at Ogeechee River\, 5806 Ogeechee Rd.\, Savannah\, GA\, 31419\, United States
ORGANIZER;CN="Royal Tasty Avenue":MAILTO:royaltastyavenuefoodtruck@gmail.com
END:VEVENT
BEGIN:VEVENT
DTSTART;TZID=America/New_York:20251105T170000
DTEND;TZID=America/New_York:20251105T193000
DTSTAMP:20260422T150117
CREATED:20251101T170941Z
LAST-MODIFIED:20251101T170941Z
UID:10012763-1762362000-1762371000@savannahfoodtruckforce.com
SUMMARY:-
DESCRIPTION:
URL:https://savannahfoodtruckforce.com/schedule/58526/
LOCATION:Red Gate Farms\, 136 Red Gate Farms Trail\, Savannah\, GA\, 31405\, United States
ORGANIZER;CN="It's a Jerk Shack":MAILTO:itsajerkshack@gmail.com
END:VEVENT
BEGIN:VEVENT
DTSTART;TZID=America/New_York:20251105T170000
DTEND;TZID=America/New_York:20251105T193000
DTSTAMP:20260422T150117
CREATED:20251101T170941Z
LAST-MODIFIED:20251105T182030Z
UID:10012771-1762362000-1762371000@savannahfoodtruckforce.com
SUMMARY:-
DESCRIPTION:
URL:https://savannahfoodtruckforce.com/schedule/58542/
LOCATION:The Links at Georgetown\, 450 Al Henderson Blvd\, Savannah\, GA\, 31419\, United States
ORGANIZER;CN="Krazian":MAILTO:krazian2@gmail.com
END:VEVENT
BEGIN:VEVENT
DTSTART;TZID=America/New_York:20251105T170000
DTEND;TZID=America/New_York:20251105T193000
DTSTAMP:20260422T150117
CREATED:20251111T190528Z
LAST-MODIFIED:20251111T190528Z
UID:10012793-1762362000-1762371000@savannahfoodtruckforce.com
SUMMARY:-
DESCRIPTION:
URL:https://savannahfoodtruckforce.com/schedule/58586/
LOCATION:Meadows Luxury Apartments\, 702 E HWY 80\, Bloomingdale\, GA\, United States
ORGANIZER;CN="Oh Crepe!":MAILTO:ohcrepesav@gmail.com
END:VEVENT
BEGIN:VEVENT
DTSTART;TZID=America/New_York:20251105T173000
DTEND;TZID=America/New_York:20251105T193000
DTSTAMP:20260422T150117
CREATED:20251101T170941Z
LAST-MODIFIED:20251105T215733Z
UID:10012760-1762363800-1762371000@savannahfoodtruckforce.com
SUMMARY:-
DESCRIPTION:
URL:https://savannahfoodtruckforce.com/schedule/58520/
LOCATION:Coastal Cathedral @ Berwick\, 275 Berwick Blvd\, Savannah\, GA\, 31419\, United States
ORGANIZER;CN="Sweet Spice":MAILTO:sweetspice960@gmail.com
END:VEVENT
END:VCALENDAR