BEGIN:VCALENDAR
VERSION:2.0
PRODID:-//Savannah Food Truck Force - ECPv6.15.12.2//NONSGML v1.0//EN
CALSCALE:GREGORIAN
METHOD:PUBLISH
X-WR-CALNAME:Savannah Food Truck Force
X-ORIGINAL-URL:https://savannahfoodtruckforce.com
X-WR-CALDESC:Events for Savannah Food Truck Force
REFRESH-INTERVAL;VALUE=DURATION:PT1H
X-Robots-Tag:noindex
X-PUBLISHED-TTL:PT1H
BEGIN:VTIMEZONE
TZID:America/New_York
BEGIN:DAYLIGHT
TZOFFSETFROM:-0500
TZOFFSETTO:-0400
TZNAME:EDT
DTSTART:20230312T070000
END:DAYLIGHT
BEGIN:STANDARD
TZOFFSETFROM:-0400
TZOFFSETTO:-0500
TZNAME:EST
DTSTART:20231105T060000
END:STANDARD
BEGIN:DAYLIGHT
TZOFFSETFROM:-0500
TZOFFSETTO:-0400
TZNAME:EDT
DTSTART:20240310T070000
END:DAYLIGHT
BEGIN:STANDARD
TZOFFSETFROM:-0400
TZOFFSETTO:-0500
TZNAME:EST
DTSTART:20241103T060000
END:STANDARD
BEGIN:DAYLIGHT
TZOFFSETFROM:-0500
TZOFFSETTO:-0400
TZNAME:EDT
DTSTART:20250309T070000
END:DAYLIGHT
BEGIN:STANDARD
TZOFFSETFROM:-0400
TZOFFSETTO:-0500
TZNAME:EST
DTSTART:20251102T060000
END:STANDARD
BEGIN:DAYLIGHT
TZOFFSETFROM:-0500
TZOFFSETTO:-0400
TZNAME:EDT
DTSTART:20260308T070000
END:DAYLIGHT
BEGIN:STANDARD
TZOFFSETFROM:-0400
TZOFFSETTO:-0500
TZNAME:EST
DTSTART:20261101T060000
END:STANDARD
END:VTIMEZONE
BEGIN:VEVENT
DTSTART;TZID=America/New_York:20250506T170000
DTEND;TZID=America/New_York:20250506T193000
DTSTAMP:20260421T060035
CREATED:20250503T230959Z
LAST-MODIFIED:20250503T230959Z
UID:10011714-1746550800-1746559800@savannahfoodtruckforce.com
SUMMARY:-
DESCRIPTION:
URL:https://savannahfoodtruckforce.com/schedule/54191/
LOCATION:Adara\, 101 Spring Lakes Drive\, Savannah\, GA\, 31407\, United States
ORGANIZER;CN="It's a Jerk Shack":MAILTO:itsajerkshack@gmail.com
END:VEVENT
BEGIN:VEVENT
DTSTART;TZID=America/New_York:20250422T170000
DTEND;TZID=America/New_York:20250422T193000
DTSTAMP:20260421T060035
CREATED:20250420T012933Z
LAST-MODIFIED:20250421T205200Z
UID:10011680-1745341200-1745350200@savannahfoodtruckforce.com
SUMMARY:-
DESCRIPTION:
URL:https://savannahfoodtruckforce.com/schedule/54072/
LOCATION:Adara\, 101 Spring Lakes Drive\, Savannah\, GA\, 31407\, United States
ORGANIZER;CN="Top Dog":MAILTO:Topdogsfoodtruck@gmail.com
END:VEVENT
BEGIN:VEVENT
DTSTART;TZID=America/New_York:20250408T170000
DTEND;TZID=America/New_York:20250408T193000
DTSTAMP:20260421T060035
CREATED:20250405T202147Z
LAST-MODIFIED:20250408T162922Z
UID:10011588-1744131600-1744140600@savannahfoodtruckforce.com
SUMMARY:-
DESCRIPTION:
URL:https://savannahfoodtruckforce.com/schedule/53879/
LOCATION:Adara\, 101 Spring Lakes Drive\, Savannah\, GA\, 31407\, United States
ORGANIZER;CN="Top Dog":MAILTO:Topdogsfoodtruck@gmail.com
END:VEVENT
BEGIN:VEVENT
DTSTART;TZID=America/New_York:20250325T170000
DTEND;TZID=America/New_York:20250325T193000
DTSTAMP:20260421T060035
CREATED:20250322T002635Z
LAST-MODIFIED:20250324T112519Z
UID:10011486-1742922000-1742931000@savannahfoodtruckforce.com
SUMMARY:-
DESCRIPTION:
URL:https://savannahfoodtruckforce.com/schedule/53665/
LOCATION:Adara\, 101 Spring Lakes Drive\, Savannah\, GA\, 31407\, United States
ORGANIZER;CN="Top Dog":MAILTO:Topdogsfoodtruck@gmail.com
END:VEVENT
BEGIN:VEVENT
DTSTART;TZID=America/New_York:20250310T170000
DTEND;TZID=America/New_York:20250310T193000
DTSTAMP:20260421T060035
CREATED:20250308T004939Z
LAST-MODIFIED:20250308T004939Z
UID:10011403-1741626000-1741635000@savannahfoodtruckforce.com
SUMMARY:-
DESCRIPTION:
URL:https://savannahfoodtruckforce.com/schedule/53493/
LOCATION:Adara\, 101 Spring Lakes Drive\, Savannah\, GA\, 31407\, United States
ORGANIZER;CN="Royal Tasty Avenue":MAILTO:royaltastyavenuefoodtruck@gmail.com
END:VEVENT
BEGIN:VEVENT
DTSTART;TZID=America/New_York:20250227T170000
DTEND;TZID=America/New_York:20250227T193000
DTSTAMP:20260421T060035
CREATED:20250220T232514Z
LAST-MODIFIED:20250220T232514Z
UID:10011377-1740675600-1740684600@savannahfoodtruckforce.com
SUMMARY:-
DESCRIPTION:
URL:https://savannahfoodtruckforce.com/schedule/53439/
LOCATION:Adara\, 101 Spring Lakes Drive\, Savannah\, GA\, 31407\, United States
ORGANIZER;CN="520 Wings":MAILTO:520wingssav@gmail.com
END:VEVENT
BEGIN:VEVENT
DTSTART;TZID=America/New_York:20250220T170000
DTEND;TZID=America/New_York:20250220T193000
DTSTAMP:20260421T060035
CREATED:20250208T231949Z
LAST-MODIFIED:20250219T021321Z
UID:10011300-1740070800-1740079800@savannahfoodtruckforce.com
SUMMARY:-
DESCRIPTION:
URL:https://savannahfoodtruckforce.com/schedule/53278/
LOCATION:Adara\, 101 Spring Lakes Drive\, Savannah\, GA\, 31407\, United States
ORGANIZER;CN="The Naked Dog":MAILTO:nakeddogfoodtruck@gmail.com
END:VEVENT
BEGIN:VEVENT
DTSTART;TZID=America/New_York:20250130T170000
DTEND;TZID=America/New_York:20250130T193000
DTSTAMP:20260421T060035
CREATED:20250124T212821Z
LAST-MODIFIED:20250127T234438Z
UID:10011205-1738256400-1738265400@savannahfoodtruckforce.com
SUMMARY:-
DESCRIPTION:
URL:https://savannahfoodtruckforce.com/schedule/53052/
LOCATION:Adara\, 101 Spring Lakes Drive\, Savannah\, GA\, 31407\, United States
ORGANIZER;CN="Bayou Cafe":MAILTO:Bayousavannah@gmail.com
END:VEVENT
BEGIN:VEVENT
DTSTART;TZID=America/New_York:20250102T170000
DTEND;TZID=America/New_York:20250102T193000
DTSTAMP:20260421T060035
CREATED:20241228T145837Z
LAST-MODIFIED:20241228T145837Z
UID:10011048-1735837200-1735846200@savannahfoodtruckforce.com
SUMMARY:-
DESCRIPTION:
URL:https://savannahfoodtruckforce.com/schedule/52709/
LOCATION:Adara\, 101 Spring Lakes Drive\, Savannah\, GA\, 31407\, United States
ORGANIZER;CN="Philly Boyz Cheese Steaks":MAILTO:phillyboyzga@gmail.com
END:VEVENT
BEGIN:VEVENT
DTSTART;TZID=America/New_York:20241204T170000
DTEND;TZID=America/New_York:20241204T193000
DTSTAMP:20260421T060035
CREATED:20241201T000437Z
LAST-MODIFIED:20241201T000437Z
UID:10010981-1733331600-1733340600@savannahfoodtruckforce.com
SUMMARY:-
DESCRIPTION:
URL:https://savannahfoodtruckforce.com/schedule/52540/
LOCATION:Adara\, 101 Spring Lakes Drive\, Savannah\, GA\, 31407\, United States
ORGANIZER;CN="Top Dog":MAILTO:Topdogsfoodtruck@gmail.com
END:VEVENT
BEGIN:VEVENT
DTSTART;TZID=America/New_York:20241120T170000
DTEND;TZID=America/New_York:20241120T193000
DTSTAMP:20260421T060035
CREATED:20241117T194752Z
LAST-MODIFIED:20241117T194752Z
UID:10010898-1732122000-1732131000@savannahfoodtruckforce.com
SUMMARY:-
DESCRIPTION:
URL:https://savannahfoodtruckforce.com/schedule/52361/
LOCATION:Adara\, 101 Spring Lakes Drive\, Savannah\, GA\, 31407\, United States
ORGANIZER;CN="It's a Jerk Shack":MAILTO:itsajerkshack@gmail.com
END:VEVENT
BEGIN:VEVENT
DTSTART;TZID=America/New_York:20241104T170000
DTEND;TZID=America/New_York:20241104T193000
DTSTAMP:20260421T060035
CREATED:20241103T220909Z
LAST-MODIFIED:20241103T220909Z
UID:10010798-1730739600-1730748600@savannahfoodtruckforce.com
SUMMARY:-
DESCRIPTION:
URL:https://savannahfoodtruckforce.com/schedule/52135/
LOCATION:Adara\, 101 Spring Lakes Drive\, Savannah\, GA\, 31407\, United States
ORGANIZER;CN="Bowtie Barbecue Co.":MAILTO:Danielle@donaldsonenterprises.com
END:VEVENT
BEGIN:VEVENT
DTSTART;TZID=America/New_York:20241021T170000
DTEND;TZID=America/New_York:20241021T193000
DTSTAMP:20260421T060035
CREATED:20241019T010344Z
LAST-MODIFIED:20241019T010344Z
UID:10010772-1729530000-1729539000@savannahfoodtruckforce.com
SUMMARY:-
DESCRIPTION:
URL:https://savannahfoodtruckforce.com/schedule/52079/
LOCATION:Adara\, 101 Spring Lakes Drive\, Savannah\, GA\, 31407\, United States
ORGANIZER;CN="La Chalupa":MAILTO:Restaurantlachalupa@gmail.com
END:VEVENT
BEGIN:VEVENT
DTSTART;TZID=America/New_York:20241009T170000
DTEND;TZID=America/New_York:20241009T193000
DTSTAMP:20260421T060035
CREATED:20241004T160159Z
LAST-MODIFIED:20241007T151857Z
UID:10010692-1728493200-1728502200@savannahfoodtruckforce.com
SUMMARY:-
DESCRIPTION:
URL:https://savannahfoodtruckforce.com/schedule/51924/
LOCATION:Adara\, 101 Spring Lakes Drive\, Savannah\, GA\, 31407\, United States
ORGANIZER;CN="Food Boxx":MAILTO:thefoodboxx@yahoo.com
END:VEVENT
BEGIN:VEVENT
DTSTART;TZID=America/New_York:20240923T170000
DTEND;TZID=America/New_York:20240923T193000
DTSTAMP:20260421T060035
CREATED:20240921T011040Z
LAST-MODIFIED:20240921T011040Z
UID:10010615-1727110800-1727119800@savannahfoodtruckforce.com
SUMMARY:-
DESCRIPTION:
URL:https://savannahfoodtruckforce.com/schedule/51748/
LOCATION:Adara\, 101 Spring Lakes Drive\, Savannah\, GA\, 31407\, United States
ORGANIZER;CN="Oh Crepe!":MAILTO:ohcrepesav@gmail.com
END:VEVENT
BEGIN:VEVENT
DTSTART;TZID=America/New_York:20240910T170000
DTEND;TZID=America/New_York:20240910T193000
DTSTAMP:20260421T060035
CREATED:20240907T160923Z
LAST-MODIFIED:20240907T160923Z
UID:10010488-1725987600-1725996600@savannahfoodtruckforce.com
SUMMARY:-
DESCRIPTION:
URL:https://savannahfoodtruckforce.com/schedule/51403/
LOCATION:Adara\, 101 Spring Lakes Drive\, Savannah\, GA\, 31407\, United States
ORGANIZER;CN="Chazitos Latin Cuisine":MAILTO:Chazitosfoodtruck@gmail.com
END:VEVENT
BEGIN:VEVENT
DTSTART;TZID=America/New_York:20240827T170000
DTEND;TZID=America/New_York:20240827T193000
DTSTAMP:20260421T060035
CREATED:20240823T193447Z
LAST-MODIFIED:20240823T193447Z
UID:10010440-1724778000-1724787000@savannahfoodtruckforce.com
SUMMARY:-
DESCRIPTION:
URL:https://savannahfoodtruckforce.com/schedule/51274/
LOCATION:Adara\, 101 Spring Lakes Drive\, Savannah\, GA\, 31407\, United States
ORGANIZER;CN="Top Dog":MAILTO:Topdogsfoodtruck@gmail.com
END:VEVENT
BEGIN:VEVENT
DTSTART;TZID=America/New_York:20240820T170000
DTEND;TZID=America/New_York:20240820T193000
DTSTAMP:20260421T060035
CREATED:20240810T160359Z
LAST-MODIFIED:20240814T172740Z
UID:10010352-1724173200-1724182200@savannahfoodtruckforce.com
SUMMARY:-
DESCRIPTION:
URL:https://savannahfoodtruckforce.com/schedule/51063/
LOCATION:Adara\, 101 Spring Lakes Drive\, Savannah\, GA\, 31407\, United States
ORGANIZER;CN="Top Dog":MAILTO:Topdogsfoodtruck@gmail.com
END:VEVENT
BEGIN:VEVENT
DTSTART;TZID=America/New_York:20240731T170000
DTEND;TZID=America/New_York:20240731T193000
DTSTAMP:20260421T060035
CREATED:20240726T000358Z
LAST-MODIFIED:20240726T000358Z
UID:10010201-1722445200-1722454200@savannahfoodtruckforce.com
SUMMARY:-
DESCRIPTION:
URL:https://savannahfoodtruckforce.com/schedule/50696/
LOCATION:Adara\, 101 Spring Lakes Drive\, Savannah\, GA\, 31407\, United States
END:VEVENT
BEGIN:VEVENT
DTSTART;TZID=America/New_York:20240717T170000
DTEND;TZID=America/New_York:20240717T193000
DTSTAMP:20260421T060035
CREATED:20240713T011929Z
LAST-MODIFIED:20240713T011929Z
UID:10010154-1721235600-1721244600@savannahfoodtruckforce.com
SUMMARY:-
DESCRIPTION:
URL:https://savannahfoodtruckforce.com/schedule/50391/
LOCATION:Adara\, 101 Spring Lakes Drive\, Savannah\, GA\, 31407\, United States
ORGANIZER;CN="Ark Royal Burgers":MAILTO:arkroyalburgers@gmail.com
END:VEVENT
BEGIN:VEVENT
DTSTART;TZID=America/New_York:20240703T170000
DTEND;TZID=America/New_York:20240703T193000
DTSTAMP:20260421T060035
CREATED:20240629T141547Z
LAST-MODIFIED:20240629T141547Z
UID:10010046-1720026000-1720035000@savannahfoodtruckforce.com
SUMMARY:-
DESCRIPTION:
URL:https://savannahfoodtruckforce.com/schedule/36356/
LOCATION:Adara\, 101 Spring Lakes Drive\, Savannah\, GA\, 31407\, United States
ORGANIZER;CN="Bowtie Barbecue Co.":MAILTO:Danielle@donaldsonenterprises.com
END:VEVENT
BEGIN:VEVENT
DTSTART;TZID=America/New_York:20240619T170000
DTEND;TZID=America/New_York:20240619T193000
DTSTAMP:20260421T060035
CREATED:20240614T133257Z
LAST-MODIFIED:20240614T133257Z
UID:10010000-1718816400-1718825400@savannahfoodtruckforce.com
SUMMARY:-
DESCRIPTION:
URL:https://savannahfoodtruckforce.com/schedule/36245/
LOCATION:Adara\, 101 Spring Lakes Drive\, Savannah\, GA\, 31407\, United States
ORGANIZER;CN="It's a Jerk Shack":MAILTO:itsajerkshack@gmail.com
END:VEVENT
BEGIN:VEVENT
DTSTART;TZID=America/New_York:20240606T170000
DTEND;TZID=America/New_York:20240606T193000
DTSTAMP:20260421T060035
CREATED:20240602T191656Z
LAST-MODIFIED:20240602T191656Z
UID:10009823-1717693200-1717702200@savannahfoodtruckforce.com
SUMMARY:-
DESCRIPTION:
URL:https://savannahfoodtruckforce.com/schedule/35886/
LOCATION:Adara\, 101 Spring Lakes Drive\, Savannah\, GA\, 31407\, United States
END:VEVENT
BEGIN:VEVENT
DTSTART;TZID=America/New_York:20240523T170000
DTEND;TZID=America/New_York:20240523T193000
DTSTAMP:20260421T060035
CREATED:20240517T234423Z
LAST-MODIFIED:20240517T234423Z
UID:10009785-1716483600-1716492600@savannahfoodtruckforce.com
SUMMARY:-
DESCRIPTION:
URL:https://savannahfoodtruckforce.com/schedule/35780/
LOCATION:Adara\, 101 Spring Lakes Drive\, Savannah\, GA\, 31407\, United States
ORGANIZER;CN="La Chalupa":MAILTO:Restaurantlachalupa@gmail.com
END:VEVENT
BEGIN:VEVENT
DTSTART;TZID=America/New_York:20240508T170000
DTEND;TZID=America/New_York:20240508T193000
DTSTAMP:20260421T060035
CREATED:20240506T141849Z
LAST-MODIFIED:20240506T141849Z
UID:10009690-1715187600-1715196600@savannahfoodtruckforce.com
SUMMARY:-
DESCRIPTION:
URL:https://savannahfoodtruckforce.com/schedule/35565/
LOCATION:Adara\, 101 Spring Lakes Drive\, Savannah\, GA\, 31407\, United States
ORGANIZER;CN="The Naked Dog":MAILTO:nakeddogfoodtruck@gmail.com
END:VEVENT
BEGIN:VEVENT
DTSTART;TZID=America/New_York:20240425T170000
DTEND;TZID=America/New_York:20240425T193000
DTSTAMP:20260421T060035
CREATED:20240420T223957Z
LAST-MODIFIED:20240420T223957Z
UID:10009593-1714064400-1714073400@savannahfoodtruckforce.com
SUMMARY:-
DESCRIPTION:
URL:https://savannahfoodtruckforce.com/schedule/35276/
LOCATION:Adara\, 101 Spring Lakes Drive\, Savannah\, GA\, 31407\, United States
ORGANIZER;CN="Latin Chicks":MAILTO:latinchicks.bookings@gmail.com
END:VEVENT
BEGIN:VEVENT
DTSTART;TZID=America/New_York:20240425T170000
DTEND;TZID=America/New_York:20240425T193000
DTSTAMP:20260421T060035
CREATED:20240405T232240Z
LAST-MODIFIED:20240416T184358Z
UID:10009539-1714064400-1714073400@savannahfoodtruckforce.com
SUMMARY:-
DESCRIPTION:
URL:https://savannahfoodtruckforce.com/schedule/27808/
LOCATION:Adara\, 101 Spring Lakes Drive\, Savannah\, GA\, 31407\, United States
ORGANIZER;CN="Latin Chicks":MAILTO:latinchicks.bookings@gmail.com
END:VEVENT
BEGIN:VEVENT
DTSTART;TZID=America/New_York:20240402T170000
DTEND;TZID=America/New_York:20240402T193000
DTSTAMP:20260421T060035
CREATED:20240324T172514Z
LAST-MODIFIED:20240324T172514Z
UID:10009462-1712077200-1712086200@savannahfoodtruckforce.com
SUMMARY:-
DESCRIPTION:
URL:https://savannahfoodtruckforce.com/schedule/27592/
LOCATION:Adara\, 101 Spring Lakes Drive\, Savannah\, GA\, 31407\, United States
ORGANIZER;CN="Royal Tasty Avenue":MAILTO:royaltastyavenuefoodtruck@gmail.com
END:VEVENT
BEGIN:VEVENT
DTSTART;TZID=America/New_York:20240228T170000
DTEND;TZID=America/New_York:20240228T193000
DTSTAMP:20260421T060035
CREATED:20240224T013435Z
LAST-MODIFIED:20240224T013435Z
UID:10009308-1709139600-1709148600@savannahfoodtruckforce.com
SUMMARY:-
DESCRIPTION:
URL:https://savannahfoodtruckforce.com/schedule/27249/
LOCATION:Adara\, 101 Spring Lakes Drive\, Savannah\, GA\, 31407\, United States
ORGANIZER;CN="Chazitos Latin Cuisine":MAILTO:Chazitosfoodtruck@gmail.com
END:VEVENT
BEGIN:VEVENT
DTSTART;TZID=America/New_York:20240214T170000
DTEND;TZID=America/New_York:20240214T193000
DTSTAMP:20260421T060035
CREATED:20240210T212750Z
LAST-MODIFIED:20240210T212750Z
UID:10009218-1707930000-1707939000@savannahfoodtruckforce.com
SUMMARY:-
DESCRIPTION:
URL:https://savannahfoodtruckforce.com/schedule/27060/
LOCATION:Adara\, 101 Spring Lakes Drive\, Savannah\, GA\, 31407\, United States
ORGANIZER;CN="Bowtie Barbecue Co.":MAILTO:Danielle@donaldsonenterprises.com
END:VEVENT
END:VCALENDAR