BEGIN:VCALENDAR
VERSION:2.0
PRODID:-//Savannah Food Truck Force - ECPv6.15.12.2//NONSGML v1.0//EN
CALSCALE:GREGORIAN
METHOD:PUBLISH
X-WR-CALNAME:Savannah Food Truck Force
X-ORIGINAL-URL:https://savannahfoodtruckforce.com
X-WR-CALDESC:Events for Savannah Food Truck Force
REFRESH-INTERVAL;VALUE=DURATION:PT1H
X-Robots-Tag:noindex
X-PUBLISHED-TTL:PT1H
BEGIN:VTIMEZONE
TZID:America/New_York
BEGIN:DAYLIGHT
TZOFFSETFROM:-0500
TZOFFSETTO:-0400
TZNAME:EDT
DTSTART:20240310T070000
END:DAYLIGHT
BEGIN:STANDARD
TZOFFSETFROM:-0400
TZOFFSETTO:-0500
TZNAME:EST
DTSTART:20241103T060000
END:STANDARD
BEGIN:DAYLIGHT
TZOFFSETFROM:-0500
TZOFFSETTO:-0400
TZNAME:EDT
DTSTART:20250309T070000
END:DAYLIGHT
BEGIN:STANDARD
TZOFFSETFROM:-0400
TZOFFSETTO:-0500
TZNAME:EST
DTSTART:20251102T060000
END:STANDARD
BEGIN:DAYLIGHT
TZOFFSETFROM:-0500
TZOFFSETTO:-0400
TZNAME:EDT
DTSTART:20260308T070000
END:DAYLIGHT
BEGIN:STANDARD
TZOFFSETFROM:-0400
TZOFFSETTO:-0500
TZNAME:EST
DTSTART:20261101T060000
END:STANDARD
END:VTIMEZONE
BEGIN:VEVENT
DTSTART;TZID=America/New_York:20251112T110000
DTEND;TZID=America/New_York:20251112T140000
DTSTAMP:20260419T103846
CREATED:20251101T170922Z
LAST-MODIFIED:20251101T170922Z
UID:10012779-1762945200-1762956000@savannahfoodtruckforce.com
SUMMARY:-
DESCRIPTION:
URL:https://savannahfoodtruckforce.com/schedule/58558/
LOCATION:Edwards Interiors\, 125 Entrepreneur Way 31326\, Savannah\, GA\, 31326\, United States
ORGANIZER;CN="Food Boxx":MAILTO:thefoodboxx@yahoo.com
END:VEVENT
BEGIN:VEVENT
DTSTART;TZID=America/New_York:20251105T110000
DTEND;TZID=America/New_York:20251105T140000
DTSTAMP:20260419T103846
CREATED:20251101T170941Z
LAST-MODIFIED:20251101T170941Z
UID:10012732-1762340400-1762351200@savannahfoodtruckforce.com
SUMMARY:-
DESCRIPTION:
URL:https://savannahfoodtruckforce.com/schedule/58462/
LOCATION:Edwards Interiors\, 125 Entrepreneur Way 31326\, Savannah\, GA\, 31326\, United States
ORGANIZER;CN="Bayou Cafe":MAILTO:Bayousavannah@gmail.com
END:VEVENT
BEGIN:VEVENT
DTSTART;TZID=America/New_York:20251029T110000
DTEND;TZID=America/New_York:20251029T140000
DTSTAMP:20260419T103846
CREATED:20251017T192324Z
LAST-MODIFIED:20251029T161736Z
UID:10012702-1761735600-1761746400@savannahfoodtruckforce.com
SUMMARY:-
DESCRIPTION:
URL:https://savannahfoodtruckforce.com/schedule/58401/
LOCATION:Edwards Interiors\, 125 Entrepreneur Way 31326\, Savannah\, GA\, 31326\, United States
ORGANIZER;CN="It's a Jerk Shack":MAILTO:itsajerkshack@gmail.com
END:VEVENT
BEGIN:VEVENT
DTSTART;TZID=America/New_York:20251022T110000
DTEND;TZID=America/New_York:20251022T140000
DTSTAMP:20260419T103846
CREATED:20251017T192347Z
LAST-MODIFIED:20251017T192347Z
UID:10012668-1761130800-1761141600@savannahfoodtruckforce.com
SUMMARY:-
DESCRIPTION:
URL:https://savannahfoodtruckforce.com/schedule/58333/
LOCATION:Edwards Interiors\, 125 Entrepreneur Way 31326\, Savannah\, GA\, 31326\, United States
ORGANIZER;CN="Bowtie Barbecue Co.":MAILTO:Danielle@donaldsonenterprises.com
END:VEVENT
BEGIN:VEVENT
DTSTART;TZID=America/New_York:20251015T110000
DTEND;TZID=America/New_York:20251015T140000
DTSTAMP:20260419T103846
CREATED:20251004T003800Z
LAST-MODIFIED:20251004T003800Z
UID:10012594-1760526000-1760536800@savannahfoodtruckforce.com
SUMMARY:-
DESCRIPTION:
URL:https://savannahfoodtruckforce.com/schedule/58182/
LOCATION:Edwards Interiors\, 125 Entrepreneur Way 31326\, Savannah\, GA\, 31326\, United States
ORGANIZER;CN="Philly Boyz Cheese Steaks":MAILTO:phillyboyzga@gmail.com
END:VEVENT
BEGIN:VEVENT
DTSTART;TZID=America/New_York:20251001T110000
DTEND;TZID=America/New_York:20251001T140000
DTSTAMP:20260419T103846
CREATED:20250919T190058Z
LAST-MODIFIED:20250919T190058Z
UID:10012510-1759316400-1759327200@savannahfoodtruckforce.com
SUMMARY:-
DESCRIPTION:
URL:https://savannahfoodtruckforce.com/schedule/55954/
LOCATION:Edwards Interiors\, 125 Entrepreneur Way 31326\, Savannah\, GA\, 31326\, United States
ORGANIZER;CN="Pie Society":MAILTO:hello@thebritishpiecompany.com
END:VEVENT
BEGIN:VEVENT
DTSTART;TZID=America/New_York:20250924T110000
DTEND;TZID=America/New_York:20250924T140000
DTSTAMP:20260419T103846
CREATED:20250919T190110Z
LAST-MODIFIED:20250919T190110Z
UID:10012491-1758711600-1758722400@savannahfoodtruckforce.com
SUMMARY:-
DESCRIPTION:
URL:https://savannahfoodtruckforce.com/schedule/55915/
LOCATION:Edwards Interiors\, 125 Entrepreneur Way 31326\, Savannah\, GA\, 31326\, United States
ORGANIZER;CN="Bayou Cafe":MAILTO:Bayousavannah@gmail.com
END:VEVENT
BEGIN:VEVENT
DTSTART;TZID=America/New_York:20250917T110000
DTEND;TZID=America/New_York:20250917T140000
DTSTAMP:20260419T103846
CREATED:20250907T162435Z
LAST-MODIFIED:20250907T162435Z
UID:10012485-1758106800-1758117600@savannahfoodtruckforce.com
SUMMARY:-
DESCRIPTION:
URL:https://savannahfoodtruckforce.com/schedule/55902/
LOCATION:Edwards Interiors\, 125 Entrepreneur Way 31326\, Savannah\, GA\, 31326\, United States
ORGANIZER;CN="Top Dog":MAILTO:Topdogsfoodtruck@gmail.com
END:VEVENT
BEGIN:VEVENT
DTSTART;TZID=America/New_York:20250903T110000
DTEND;TZID=America/New_York:20250903T140000
DTSTAMP:20260419T103846
CREATED:20250822T215930Z
LAST-MODIFIED:20250901T134431Z
UID:10012416-1756897200-1756908000@savannahfoodtruckforce.com
SUMMARY:-
DESCRIPTION:
URL:https://savannahfoodtruckforce.com/schedule/55756/
LOCATION:Edwards Interiors\, 125 Entrepreneur Way 31326\, Savannah\, GA\, 31326\, United States
ORGANIZER;CN="Top Dog":MAILTO:Topdogsfoodtruck@gmail.com
END:VEVENT
BEGIN:VEVENT
DTSTART;TZID=America/New_York:20250827T110000
DTEND;TZID=America/New_York:20250827T140000
DTSTAMP:20260419T103846
CREATED:20250822T220005Z
LAST-MODIFIED:20250822T220005Z
UID:10012352-1756292400-1756303200@savannahfoodtruckforce.com
SUMMARY:-
DESCRIPTION:
URL:https://savannahfoodtruckforce.com/schedule/55616/
LOCATION:Edwards Interiors\, 125 Entrepreneur Way 31326\, Savannah\, GA\, 31326\, United States
ORGANIZER;CN="Bayou Cafe":MAILTO:Bayousavannah@gmail.com
END:VEVENT
BEGIN:VEVENT
DTSTART;TZID=America/New_York:20250813T110000
DTEND;TZID=America/New_York:20250813T140000
DTSTAMP:20260419T103846
CREATED:20250805T183900Z
LAST-MODIFIED:20250805T183900Z
UID:10012291-1755082800-1755093600@savannahfoodtruckforce.com
SUMMARY:-
DESCRIPTION:
URL:https://savannahfoodtruckforce.com/schedule/55489/
LOCATION:Edwards Interiors\, 125 Entrepreneur Way 31326\, Savannah\, GA\, 31326\, United States
ORGANIZER;CN="Ark Royal Burgers":MAILTO:arkroyalburgers@gmail.com
END:VEVENT
BEGIN:VEVENT
DTSTART;TZID=America/New_York:20250806T110000
DTEND;TZID=America/New_York:20250806T140000
DTSTAMP:20260419T103846
CREATED:20250728T005858Z
LAST-MODIFIED:20250728T005858Z
UID:10012237-1754478000-1754488800@savannahfoodtruckforce.com
SUMMARY:-
DESCRIPTION:
URL:https://savannahfoodtruckforce.com/schedule/55376/
LOCATION:Edwards Interiors\, 125 Entrepreneur Way 31326\, Savannah\, GA\, 31326\, United States
ORGANIZER;CN="The Naked Dog":MAILTO:nakeddogfoodtruck@gmail.com
END:VEVENT
BEGIN:VEVENT
DTSTART;TZID=America/New_York:20250730T110000
DTEND;TZID=America/New_York:20250730T140000
DTSTAMP:20260419T103846
CREATED:20250728T005858Z
LAST-MODIFIED:20250728T005858Z
UID:10012242-1753873200-1753884000@savannahfoodtruckforce.com
SUMMARY:-
DESCRIPTION:
URL:https://savannahfoodtruckforce.com/schedule/55388/
LOCATION:Edwards Interiors\, 125 Entrepreneur Way 31326\, Savannah\, GA\, 31326\, United States
ORGANIZER;CN="Mac Attack":MAILTO:macattackfs@yahoo.com
END:VEVENT
BEGIN:VEVENT
DTSTART;TZID=America/New_York:20250723T110000
DTEND;TZID=America/New_York:20250723T140000
DTSTAMP:20260419T103846
CREATED:20250712T001853Z
LAST-MODIFIED:20250712T001853Z
UID:10012151-1753268400-1753279200@savannahfoodtruckforce.com
SUMMARY:-
DESCRIPTION:
URL:https://savannahfoodtruckforce.com/schedule/55174/
LOCATION:Edwards Interiors\, 125 Entrepreneur Way 31326\, Savannah\, GA\, 31326\, United States
ORGANIZER;CN="Krazian":MAILTO:krazian2@gmail.com
END:VEVENT
BEGIN:VEVENT
DTSTART;TZID=America/New_York:20250716T110000
DTEND;TZID=America/New_York:20250716T140000
DTSTAMP:20260419T103846
CREATED:20250712T001841Z
LAST-MODIFIED:20250712T001841Z
UID:10012170-1752663600-1752674400@savannahfoodtruckforce.com
SUMMARY:-
DESCRIPTION:
URL:https://savannahfoodtruckforce.com/schedule/55213/
LOCATION:Edwards Interiors\, 125 Entrepreneur Way 31326\, Savannah\, GA\, 31326\, United States
ORGANIZER;CN="Oh Crepe!":MAILTO:ohcrepesav@gmail.com
END:VEVENT
BEGIN:VEVENT
DTSTART;TZID=America/New_York:20250709T110000
DTEND;TZID=America/New_York:20250709T140000
DTSTAMP:20260419T103846
CREATED:20250628T162613Z
LAST-MODIFIED:20250628T162613Z
UID:10012062-1752058800-1752069600@savannahfoodtruckforce.com
SUMMARY:-
DESCRIPTION:
URL:https://savannahfoodtruckforce.com/schedule/54985/
LOCATION:Edwards Interiors\, 125 Entrepreneur Way 31326\, Savannah\, GA\, 31326\, United States
ORGANIZER;CN="Royal Tasty Avenue":MAILTO:royaltastyavenuefoodtruck@gmail.com
END:VEVENT
BEGIN:VEVENT
DTSTART;TZID=America/New_York:20250702T110000
DTEND;TZID=America/New_York:20250702T140000
DTSTAMP:20260419T103846
CREATED:20250628T162614Z
LAST-MODIFIED:20250628T162614Z
UID:10012051-1751454000-1751464800@savannahfoodtruckforce.com
SUMMARY:-
DESCRIPTION:
URL:https://savannahfoodtruckforce.com/schedule/54963/
LOCATION:Edwards Interiors\, 125 Entrepreneur Way 31326\, Savannah\, GA\, 31326\, United States
ORGANIZER;CN="Latin Chicks":MAILTO:latinchicks.bookings@gmail.com
END:VEVENT
BEGIN:VEVENT
DTSTART;TZID=America/New_York:20250625T110000
DTEND;TZID=America/New_York:20250625T140000
DTSTAMP:20260419T103846
CREATED:20250615T194104Z
LAST-MODIFIED:20250615T194104Z
UID:10011929-1750849200-1750860000@savannahfoodtruckforce.com
SUMMARY:-
DESCRIPTION:
URL:https://savannahfoodtruckforce.com/schedule/54705/
LOCATION:Edwards Interiors\, 125 Entrepreneur Way 31326\, Savannah\, GA\, 31326\, United States
ORGANIZER;CN="Bowtie Barbecue Co.":MAILTO:Danielle@donaldsonenterprises.com
END:VEVENT
BEGIN:VEVENT
DTSTART;TZID=America/New_York:20250618T110000
DTEND;TZID=America/New_York:20250618T140000
DTSTAMP:20260419T103846
CREATED:20250615T194012Z
LAST-MODIFIED:20250615T194012Z
UID:10012023-1750244400-1750255200@savannahfoodtruckforce.com
SUMMARY:-
DESCRIPTION:
URL:https://savannahfoodtruckforce.com/schedule/54897/
LOCATION:Edwards Interiors\, 125 Entrepreneur Way 31326\, Savannah\, GA\, 31326\, United States
ORGANIZER;CN="520 Wings":MAILTO:520wingssav@gmail.com
END:VEVENT
BEGIN:VEVENT
DTSTART;TZID=America/New_York:20250611T110000
DTEND;TZID=America/New_York:20250611T140000
DTSTAMP:20260419T103846
CREATED:20250601T171208Z
LAST-MODIFIED:20250601T171208Z
UID:10011914-1749639600-1749650400@savannahfoodtruckforce.com
SUMMARY:-
DESCRIPTION:
URL:https://savannahfoodtruckforce.com/schedule/54663/
LOCATION:Edwards Interiors\, 125 Entrepreneur Way 31326\, Savannah\, GA\, 31326\, United States
ORGANIZER;CN="Top Dog":MAILTO:Topdogsfoodtruck@gmail.com
END:VEVENT
BEGIN:VEVENT
DTSTART;TZID=America/New_York:20250604T110000
DTEND;TZID=America/New_York:20250604T140000
DTSTAMP:20260419T103846
CREATED:20250601T171209Z
LAST-MODIFIED:20250601T171209Z
UID:10011903-1749034800-1749045600@savannahfoodtruckforce.com
SUMMARY:-
DESCRIPTION:
URL:https://savannahfoodtruckforce.com/schedule/54641/
LOCATION:Edwards Interiors\, 125 Entrepreneur Way 31326\, Savannah\, GA\, 31326\, United States
ORGANIZER;CN="520 Wings":MAILTO:520wingssav@gmail.com
END:VEVENT
BEGIN:VEVENT
DTSTART;TZID=America/New_York:20250528T110000
DTEND;TZID=America/New_York:20250528T140000
DTSTAMP:20260419T103846
CREATED:20250517T142048Z
LAST-MODIFIED:20250517T142048Z
UID:10011777-1748430000-1748440800@savannahfoodtruckforce.com
SUMMARY:-
DESCRIPTION:
URL:https://savannahfoodtruckforce.com/schedule/54379/
LOCATION:Edwards Interiors\, 125 Entrepreneur Way 31326\, Savannah\, GA\, 31326\, United States
ORGANIZER;CN="Chazitos Latin Cuisine":MAILTO:Chazitosfoodtruck@gmail.com
END:VEVENT
BEGIN:VEVENT
DTSTART;TZID=America/New_York:20250521T110000
DTEND;TZID=America/New_York:20250521T140000
DTSTAMP:20260419T103846
CREATED:20250517T142121Z
LAST-MODIFIED:20250517T142121Z
UID:10011818-1747825200-1747836000@savannahfoodtruckforce.com
SUMMARY:-
DESCRIPTION:
URL:https://savannahfoodtruckforce.com/schedule/54462/
LOCATION:Edwards Interiors\, 125 Entrepreneur Way 31326\, Savannah\, GA\, 31326\, United States
ORGANIZER;CN="Food Boxx":MAILTO:thefoodboxx@yahoo.com
END:VEVENT
BEGIN:VEVENT
DTSTART;TZID=America/New_York:20250514T110000
DTEND;TZID=America/New_York:20250514T140000
DTSTAMP:20260419T103846
CREATED:20250504T003916Z
LAST-MODIFIED:20250504T003916Z
UID:10011765-1747220400-1747231200@savannahfoodtruckforce.com
SUMMARY:-
DESCRIPTION:
URL:https://savannahfoodtruckforce.com/schedule/54309/
LOCATION:Edwards Interiors\, 125 Entrepreneur Way 31326\, Savannah\, GA\, 31326\, United States
ORGANIZER;CN="The Naked Dog":MAILTO:nakeddogfoodtruck@gmail.com
END:VEVENT
BEGIN:VEVENT
DTSTART;TZID=America/New_York:20250507T110000
DTEND;TZID=America/New_York:20250507T140000
DTSTAMP:20260419T103846
CREATED:20250504T003710Z
LAST-MODIFIED:20250504T003710Z
UID:10011763-1746615600-1746626400@savannahfoodtruckforce.com
SUMMARY:-
DESCRIPTION:
URL:https://savannahfoodtruckforce.com/schedule/54305/
LOCATION:Edwards Interiors\, 125 Entrepreneur Way 31326\, Savannah\, GA\, 31326\, United States
ORGANIZER;CN="Bayou Cafe":MAILTO:Bayousavannah@gmail.com
END:VEVENT
END:VCALENDAR