BEGIN:VCALENDAR
VERSION:2.0
PRODID:-//Savannah Food Truck Force - ECPv6.15.12.2//NONSGML v1.0//EN
CALSCALE:GREGORIAN
METHOD:PUBLISH
X-WR-CALNAME:Savannah Food Truck Force
X-ORIGINAL-URL:https://savannahfoodtruckforce.com
X-WR-CALDESC:Events for Savannah Food Truck Force
REFRESH-INTERVAL;VALUE=DURATION:PT1H
X-Robots-Tag:noindex
X-PUBLISHED-TTL:PT1H
BEGIN:VTIMEZONE
TZID:America/New_York
BEGIN:DAYLIGHT
TZOFFSETFROM:-0500
TZOFFSETTO:-0400
TZNAME:EDT
DTSTART:20240310T070000
END:DAYLIGHT
BEGIN:STANDARD
TZOFFSETFROM:-0400
TZOFFSETTO:-0500
TZNAME:EST
DTSTART:20241103T060000
END:STANDARD
BEGIN:DAYLIGHT
TZOFFSETFROM:-0500
TZOFFSETTO:-0400
TZNAME:EDT
DTSTART:20250309T070000
END:DAYLIGHT
BEGIN:STANDARD
TZOFFSETFROM:-0400
TZOFFSETTO:-0500
TZNAME:EST
DTSTART:20251102T060000
END:STANDARD
BEGIN:DAYLIGHT
TZOFFSETFROM:-0500
TZOFFSETTO:-0400
TZNAME:EDT
DTSTART:20260308T070000
END:DAYLIGHT
BEGIN:STANDARD
TZOFFSETFROM:-0400
TZOFFSETTO:-0500
TZNAME:EST
DTSTART:20261101T060000
END:STANDARD
BEGIN:DAYLIGHT
TZOFFSETFROM:-0500
TZOFFSETTO:-0400
TZNAME:EDT
DTSTART:20270314T070000
END:DAYLIGHT
BEGIN:STANDARD
TZOFFSETFROM:-0400
TZOFFSETTO:-0500
TZNAME:EST
DTSTART:20271107T060000
END:STANDARD
END:VTIMEZONE
BEGIN:VEVENT
DTSTART;TZID=America/New_York:20260204T170000
DTEND;TZID=America/New_York:20260204T193000
DTSTAMP:20260421T060156
CREATED:20260124T182020Z
LAST-MODIFIED:20260124T182020Z
UID:10013163-1770224400-1770233400@savannahfoodtruckforce.com
SUMMARY:-
DESCRIPTION:
URL:https://savannahfoodtruckforce.com/schedule/59437/
LOCATION:Georgetown Oaks\, 1015 King George Blvd\, Savannah\, GA\, 31419\, United States
ORGANIZER;CN="It's a Jerk Shack":MAILTO:itsajerkshack@gmail.com
END:VEVENT
BEGIN:VEVENT
DTSTART;TZID=America/New_York:20260115T170000
DTEND;TZID=America/New_York:20260115T193000
DTSTAMP:20260421T060156
CREATED:20260111T005623Z
LAST-MODIFIED:20260115T220513Z
UID:10013069-1768496400-1768505400@savannahfoodtruckforce.com
SUMMARY:-
DESCRIPTION:
URL:https://savannahfoodtruckforce.com/schedule/59248/
LOCATION:Georgetown Oaks\, 1015 King George Blvd\, Savannah\, GA\, 31419\, United States
ORGANIZER;CN="Pie Society":MAILTO:hello@thebritishpiecompany.com
END:VEVENT
BEGIN:VEVENT
DTSTART;TZID=America/New_York:20251210T170000
DTEND;TZID=America/New_York:20251210T193000
DTSTAMP:20260421T060156
CREATED:20251128T234733Z
LAST-MODIFIED:20251128T234733Z
UID:10012872-1765386000-1765395000@savannahfoodtruckforce.com
SUMMARY:-
DESCRIPTION:
URL:https://savannahfoodtruckforce.com/schedule/58750/
LOCATION:Georgetown Oaks\, 1015 King George Blvd\, Savannah\, GA\, 31419\, United States
ORGANIZER;CN="Philly Boyz Cheese Steaks":MAILTO:phillyboyzga@gmail.com
END:VEVENT
BEGIN:VEVENT
DTSTART;TZID=America/New_York:20251006T170000
DTEND;TZID=America/New_York:20251006T193000
DTSTAMP:20260421T060156
CREATED:20251004T003839Z
LAST-MODIFIED:20251004T003839Z
UID:10012656-1759770000-1759779000@savannahfoodtruckforce.com
SUMMARY:-
DESCRIPTION:
URL:https://savannahfoodtruckforce.com/schedule/58308/
LOCATION:Georgetown Oaks\, 1015 King George Blvd\, Savannah\, GA\, 31419\, United States
ORGANIZER;CN="Top Dog":MAILTO:Topdogsfoodtruck@gmail.com
END:VEVENT
BEGIN:VEVENT
DTSTART;TZID=America/New_York:20250827T170000
DTEND;TZID=America/New_York:20250827T193000
DTSTAMP:20260421T060156
CREATED:20250822T220005Z
LAST-MODIFIED:20250822T220005Z
UID:10012392-1756314000-1756323000@savannahfoodtruckforce.com
SUMMARY:-
DESCRIPTION:
URL:https://savannahfoodtruckforce.com/schedule/55707/
LOCATION:Georgetown Oaks\, 1015 King George Blvd\, Savannah\, GA\, 31419\, United States
ORGANIZER;CN="It's a Jerk Shack":MAILTO:itsajerkshack@gmail.com
END:VEVENT
BEGIN:VEVENT
DTSTART;TZID=America/New_York:20250813T170000
DTEND;TZID=America/New_York:20250813T193000
DTSTAMP:20260421T060156
CREATED:20250805T183913Z
LAST-MODIFIED:20250805T183913Z
UID:10012279-1755104400-1755113400@savannahfoodtruckforce.com
SUMMARY:-
DESCRIPTION:
URL:https://savannahfoodtruckforce.com/schedule/55465/
LOCATION:Georgetown Oaks\, 1015 King George Blvd\, Savannah\, GA\, 31419\, United States
ORGANIZER;CN="Philly Boyz Cheese Steaks":MAILTO:phillyboyzga@gmail.com
END:VEVENT
BEGIN:VEVENT
DTSTART;TZID=America/New_York:20250730T170000
DTEND;TZID=America/New_York:20250730T193000
DTSTAMP:20260421T060156
CREATED:20250728T005929Z
LAST-MODIFIED:20250728T005929Z
UID:10012223-1753894800-1753903800@savannahfoodtruckforce.com
SUMMARY:-
DESCRIPTION:
URL:https://savannahfoodtruckforce.com/schedule/55348/
LOCATION:Georgetown Oaks\, 1015 King George Blvd\, Savannah\, GA\, 31419\, United States
ORGANIZER;CN="It's a Jerk Shack":MAILTO:itsajerkshack@gmail.com
END:VEVENT
BEGIN:VEVENT
DTSTART;TZID=America/New_York:20250716T170000
DTEND;TZID=America/New_York:20250716T193000
DTSTAMP:20260421T060156
CREATED:20250712T001841Z
LAST-MODIFIED:20250712T001841Z
UID:10012171-1752685200-1752694200@savannahfoodtruckforce.com
SUMMARY:-
DESCRIPTION:
URL:https://savannahfoodtruckforce.com/schedule/55215/
LOCATION:Georgetown Oaks\, 1015 King George Blvd\, Savannah\, GA\, 31419\, United States
ORGANIZER;CN="Oh Crepe!":MAILTO:ohcrepesav@gmail.com
END:VEVENT
BEGIN:VEVENT
DTSTART;TZID=America/New_York:20250702T170000
DTEND;TZID=America/New_York:20250702T193000
DTSTAMP:20260421T060156
CREATED:20250628T162602Z
LAST-MODIFIED:20250628T162602Z
UID:10012082-1751475600-1751484600@savannahfoodtruckforce.com
SUMMARY:-
DESCRIPTION:
URL:https://savannahfoodtruckforce.com/schedule/55025/
LOCATION:Georgetown Oaks\, 1015 King George Blvd\, Savannah\, GA\, 31419\, United States
ORGANIZER;CN="Mexicali Fresh":MAILTO:https://www.mexicalifresh.net/contact/
END:VEVENT
BEGIN:VEVENT
DTSTART;TZID=America/New_York:20250617T170000
DTEND;TZID=America/New_York:20250617T193000
DTSTAMP:20260421T060156
CREATED:20250615T194012Z
LAST-MODIFIED:20250615T194012Z
UID:10012022-1750179600-1750188600@savannahfoodtruckforce.com
SUMMARY:-
DESCRIPTION:
URL:https://savannahfoodtruckforce.com/schedule/54895/
LOCATION:Georgetown Oaks\, 1015 King George Blvd\, Savannah\, GA\, 31419\, United States
ORGANIZER;CN="520 Wings":MAILTO:520wingssav@gmail.com
END:VEVENT
BEGIN:VEVENT
DTSTART;TZID=America/New_York:20250607T110000
DTEND;TZID=America/New_York:20250607T140000
DTSTAMP:20260421T060156
CREATED:20250601T171208Z
LAST-MODIFIED:20250604T170859Z
UID:10011911-1749294000-1749304800@savannahfoodtruckforce.com
SUMMARY:-
DESCRIPTION:
URL:https://savannahfoodtruckforce.com/schedule/54657/
LOCATION:Georgetown Oaks\, 1015 King George Blvd\, Savannah\, GA\, 31419\, United States
ORGANIZER;CN="Top Dog":MAILTO:Topdogsfoodtruck@gmail.com
END:VEVENT
BEGIN:VEVENT
DTSTART;TZID=America/New_York:20250519T170000
DTEND;TZID=America/New_York:20250519T193000
DTSTAMP:20260421T060156
CREATED:20250517T142047Z
LAST-MODIFIED:20250517T142047Z
UID:10011790-1747674000-1747683000@savannahfoodtruckforce.com
SUMMARY:-
DESCRIPTION:
URL:https://savannahfoodtruckforce.com/schedule/54405/
LOCATION:Georgetown Oaks\, 1015 King George Blvd\, Savannah\, GA\, 31419\, United States
ORGANIZER;CN="Royal Tasty Avenue":MAILTO:royaltastyavenuefoodtruck@gmail.com
END:VEVENT
BEGIN:VEVENT
DTSTART;TZID=America/New_York:20250505T170000
DTEND;TZID=America/New_York:20250505T193000
DTSTAMP:20260421T060156
CREATED:20250504T003820Z
LAST-MODIFIED:20250505T173432Z
UID:10011764-1746464400-1746473400@savannahfoodtruckforce.com
SUMMARY:-
DESCRIPTION:
URL:https://savannahfoodtruckforce.com/schedule/54307/
LOCATION:Georgetown Oaks\, 1015 King George Blvd\, Savannah\, GA\, 31419\, United States
ORGANIZER;CN="Royal Tasty Avenue":MAILTO:royaltastyavenuefoodtruck@gmail.com
END:VEVENT
END:VCALENDAR