BEGIN:VCALENDAR
VERSION:2.0
PRODID:-//Savannah Food Truck Force - ECPv6.15.12.2//NONSGML v1.0//EN
CALSCALE:GREGORIAN
METHOD:PUBLISH
X-ORIGINAL-URL:https://savannahfoodtruckforce.com
X-WR-CALDESC:Events for Savannah Food Truck Force
REFRESH-INTERVAL;VALUE=DURATION:PT1H
X-Robots-Tag:noindex
X-PUBLISHED-TTL:PT1H
BEGIN:VTIMEZONE
TZID:America/New_York
BEGIN:DAYLIGHT
TZOFFSETFROM:-0500
TZOFFSETTO:-0400
TZNAME:EDT
DTSTART:20230312T070000
END:DAYLIGHT
BEGIN:STANDARD
TZOFFSETFROM:-0400
TZOFFSETTO:-0500
TZNAME:EST
DTSTART:20231105T060000
END:STANDARD
BEGIN:DAYLIGHT
TZOFFSETFROM:-0500
TZOFFSETTO:-0400
TZNAME:EDT
DTSTART:20240310T070000
END:DAYLIGHT
BEGIN:STANDARD
TZOFFSETFROM:-0400
TZOFFSETTO:-0500
TZNAME:EST
DTSTART:20241103T060000
END:STANDARD
BEGIN:DAYLIGHT
TZOFFSETFROM:-0500
TZOFFSETTO:-0400
TZNAME:EDT
DTSTART:20250309T070000
END:DAYLIGHT
BEGIN:STANDARD
TZOFFSETFROM:-0400
TZOFFSETTO:-0500
TZNAME:EST
DTSTART:20251102T060000
END:STANDARD
BEGIN:DAYLIGHT
TZOFFSETFROM:-0500
TZOFFSETTO:-0400
TZNAME:EDT
DTSTART:20260308T070000
END:DAYLIGHT
BEGIN:STANDARD
TZOFFSETFROM:-0400
TZOFFSETTO:-0500
TZNAME:EST
DTSTART:20261101T060000
END:STANDARD
BEGIN:DAYLIGHT
TZOFFSETFROM:-0500
TZOFFSETTO:-0400
TZNAME:EDT
DTSTART:20270314T070000
END:DAYLIGHT
BEGIN:STANDARD
TZOFFSETFROM:-0400
TZOFFSETTO:-0500
TZNAME:EST
DTSTART:20271107T060000
END:STANDARD
END:VTIMEZONE
BEGIN:VEVENT
DTSTART;TZID=America/New_York:20260415T170000
DTEND;TZID=America/New_York:20260415T193000
DTSTAMP:20260421T060226
CREATED:20260406T033736Z
LAST-MODIFIED:20260406T033736Z
UID:10013468-1776272400-1776281400@savannahfoodtruckforce.com
SUMMARY:-
DESCRIPTION:
URL:https://savannahfoodtruckforce.com/schedule/60084/
LOCATION:Meadows Luxury Apartments\, 702 E HWY 80\, Bloomingdale\, GA\, United States
ORGANIZER;CN="Bayou Cafe":MAILTO:Bayousavannah@gmail.com
END:VEVENT
BEGIN:VEVENT
DTSTART;TZID=America/New_York:20260311T170000
DTEND;TZID=America/New_York:20260311T193000
DTSTAMP:20260421T060226
CREATED:20260306T222236Z
LAST-MODIFIED:20260306T222236Z
UID:10013397-1773248400-1773257400@savannahfoodtruckforce.com
SUMMARY:-
DESCRIPTION:
URL:https://savannahfoodtruckforce.com/schedule/59942/
LOCATION:Meadows Luxury Apartments\, 702 E HWY 80\, Bloomingdale\, GA\, United States
ORGANIZER;CN="Oh Crepe!":MAILTO:ohcrepesav@gmail.com
END:VEVENT
BEGIN:VEVENT
DTSTART;TZID=America/New_York:20260210T170000
DTEND;TZID=America/New_York:20260210T193000
DTSTAMP:20260421T060226
CREATED:20260218T161525Z
LAST-MODIFIED:20260218T161525Z
UID:10013257-1770742800-1770751800@savannahfoodtruckforce.com
SUMMARY:-
DESCRIPTION:
URL:https://savannahfoodtruckforce.com/schedule/59652/
LOCATION:Meadows Luxury Apartments\, 702 E HWY 80\, Bloomingdale\, GA\, United States
ORGANIZER;CN="Philly Boyz Cheese Steaks":MAILTO:phillyboyzga@gmail.com
END:VEVENT
BEGIN:VEVENT
DTSTART;TZID=America/New_York:20260113T170000
DTEND;TZID=America/New_York:20260113T193000
DTSTAMP:20260421T060226
CREATED:20260111T005623Z
LAST-MODIFIED:20260111T005623Z
UID:10013042-1768323600-1768332600@savannahfoodtruckforce.com
SUMMARY:-
DESCRIPTION:
URL:https://savannahfoodtruckforce.com/schedule/59194/
LOCATION:Meadows Luxury Apartments\, 702 E HWY 80\, Bloomingdale\, GA\, United States
ORGANIZER;CN="Chazitos Latin Cuisine":MAILTO:Chazitosfoodtruck@gmail.com
END:VEVENT
BEGIN:VEVENT
DTSTART;TZID=America/New_York:20260107T170000
DTEND;TZID=America/New_York:20260107T193000
DTSTAMP:20260421T060226
CREATED:20251225T220838Z
LAST-MODIFIED:20260107T151435Z
UID:10013032-1767805200-1767814200@savannahfoodtruckforce.com
SUMMARY:-
DESCRIPTION:
URL:https://savannahfoodtruckforce.com/schedule/59168/
LOCATION:Meadows Luxury Apartments\, 702 E HWY 80\, Bloomingdale\, GA\, United States
ORGANIZER;CN="520 Wings":MAILTO:520wingssav@gmail.com
END:VEVENT
BEGIN:VEVENT
DTSTART;TZID=America/New_York:20251204T170000
DTEND;TZID=America/New_York:20251204T193000
DTSTAMP:20260421T060226
CREATED:20251128T234753Z
LAST-MODIFIED:20251128T234753Z
UID:10012891-1764867600-1764876600@savannahfoodtruckforce.com
SUMMARY:-
DESCRIPTION:
URL:https://savannahfoodtruckforce.com/schedule/58788/
LOCATION:Meadows Luxury Apartments\, 702 E HWY 80\, Bloomingdale\, GA\, United States
ORGANIZER;CN="It's a Jerk Shack":MAILTO:itsajerkshack@gmail.com
END:VEVENT
BEGIN:VEVENT
DTSTART;TZID=America/New_York:20251105T170000
DTEND;TZID=America/New_York:20251105T193000
DTSTAMP:20260421T060226
CREATED:20251111T190528Z
LAST-MODIFIED:20251111T190528Z
UID:10012793-1762362000-1762371000@savannahfoodtruckforce.com
SUMMARY:-
DESCRIPTION:
URL:https://savannahfoodtruckforce.com/schedule/58586/
LOCATION:Meadows Luxury Apartments\, 702 E HWY 80\, Bloomingdale\, GA\, United States
ORGANIZER;CN="Oh Crepe!":MAILTO:ohcrepesav@gmail.com
END:VEVENT
BEGIN:VEVENT
DTSTART;TZID=America/New_York:20251001T170000
DTEND;TZID=America/New_York:20251001T193000
DTSTAMP:20260421T060226
CREATED:20250919T190058Z
LAST-MODIFIED:20250919T190058Z
UID:10012514-1759338000-1759347000@savannahfoodtruckforce.com
SUMMARY:-
DESCRIPTION:
URL:https://savannahfoodtruckforce.com/schedule/55962/
LOCATION:Meadows Luxury Apartments\, 702 E HWY 80\, Bloomingdale\, GA\, United States
ORGANIZER;CN="Royal Tasty Avenue":MAILTO:royaltastyavenuefoodtruck@gmail.com
END:VEVENT
BEGIN:VEVENT
DTSTART;TZID=America/New_York:20250903T170000
DTEND;TZID=America/New_York:20250903T193000
DTSTAMP:20260421T060226
CREATED:20250822T215930Z
LAST-MODIFIED:20250822T215930Z
UID:10012369-1756918800-1756927800@savannahfoodtruckforce.com
SUMMARY:-
DESCRIPTION:
URL:https://savannahfoodtruckforce.com/schedule/55654/
LOCATION:Meadows Luxury Apartments\, 702 E HWY 80\, Bloomingdale\, GA\, United States
ORGANIZER;CN="Philly Boyz Cheese Steaks":MAILTO:phillyboyzga@gmail.com
END:VEVENT
BEGIN:VEVENT
DTSTART;TZID=America/New_York:20250806T170000
DTEND;TZID=America/New_York:20250806T193000
DTSTAMP:20260421T060226
CREATED:20250728T005858Z
LAST-MODIFIED:20250728T005858Z
UID:10012227-1754499600-1754508600@savannahfoodtruckforce.com
SUMMARY:-
DESCRIPTION:
URL:https://savannahfoodtruckforce.com/schedule/55356/
LOCATION:Meadows Luxury Apartments\, 702 E HWY 80\, Bloomingdale\, GA\, United States
ORGANIZER;CN="It's a Jerk Shack":MAILTO:itsajerkshack@gmail.com
END:VEVENT
BEGIN:VEVENT
DTSTART;TZID=America/New_York:20250708T170000
DTEND;TZID=America/New_York:20250708T193000
DTSTAMP:20260421T060226
CREATED:20250628T162614Z
LAST-MODIFIED:20250628T162614Z
UID:10012061-1751994000-1752003000@savannahfoodtruckforce.com
SUMMARY:-
DESCRIPTION:
URL:https://savannahfoodtruckforce.com/schedule/54983/
LOCATION:Meadows Luxury Apartments\, 702 E HWY 80\, Bloomingdale\, GA\, United States
ORGANIZER;CN="Royal Tasty Avenue":MAILTO:royaltastyavenuefoodtruck@gmail.com
END:VEVENT
BEGIN:VEVENT
DTSTART;TZID=America/New_York:20250605T170000
DTEND;TZID=America/New_York:20250605T193000
DTSTAMP:20260421T060226
CREATED:20250601T171209Z
LAST-MODIFIED:20250601T171209Z
UID:10011904-1749142800-1749151800@savannahfoodtruckforce.com
SUMMARY:-
DESCRIPTION:
URL:https://savannahfoodtruckforce.com/schedule/54643/
LOCATION:Meadows Luxury Apartments\, 702 E HWY 80\, Bloomingdale\, GA\, United States
ORGANIZER;CN="520 Wings":MAILTO:520wingssav@gmail.com
END:VEVENT
BEGIN:VEVENT
DTSTART;TZID=America/New_York:20250508T170000
DTEND;TZID=America/New_York:20250508T193000
DTSTAMP:20260421T060226
CREATED:20250503T230945Z
LAST-MODIFIED:20250507T174548Z
UID:10011738-1746723600-1746732600@savannahfoodtruckforce.com
SUMMARY:-
DESCRIPTION:
URL:https://savannahfoodtruckforce.com/schedule/54239/
LOCATION:Meadows Luxury Apartments\, 702 E HWY 80\, Bloomingdale\, GA\, United States
ORGANIZER;CN="Oh Crepe!":MAILTO:ohcrepesav@gmail.com
END:VEVENT
BEGIN:VEVENT
DTSTART;TZID=America/New_York:20250319T170000
DTEND;TZID=America/New_York:20250319T193000
DTSTAMP:20260421T060226
CREATED:20250308T004956Z
LAST-MODIFIED:20250308T004956Z
UID:10011434-1742403600-1742412600@savannahfoodtruckforce.com
SUMMARY:-
DESCRIPTION:
URL:https://savannahfoodtruckforce.com/schedule/53557/
LOCATION:Meadows Luxury Apartments\, 702 E HWY 80\, Bloomingdale\, GA\, United States
ORGANIZER;CN="Top Dog":MAILTO:Topdogsfoodtruck@gmail.com
END:VEVENT
BEGIN:VEVENT
DTSTART;TZID=America/New_York:20250211T170000
DTEND;TZID=America/New_York:20250211T193000
DTSTAMP:20260421T060226
CREATED:20250208T231957Z
LAST-MODIFIED:20250208T231957Z
UID:10011272-1739293200-1739302200@savannahfoodtruckforce.com
SUMMARY:-
DESCRIPTION:
URL:https://savannahfoodtruckforce.com/schedule/53212/
LOCATION:Meadows Luxury Apartments\, 702 E HWY 80\, Bloomingdale\, GA\, United States
ORGANIZER;CN="Royal Tasty Avenue":MAILTO:royaltastyavenuefoodtruck@gmail.com
END:VEVENT
BEGIN:VEVENT
DTSTART;TZID=America/New_York:20250109T170000
DTEND;TZID=America/New_York:20250109T193000
DTSTAMP:20260421T060226
CREATED:20241228T145850Z
LAST-MODIFIED:20241228T145850Z
UID:10011071-1736442000-1736451000@savannahfoodtruckforce.com
SUMMARY:-
DESCRIPTION:
URL:https://savannahfoodtruckforce.com/schedule/52755/
LOCATION:Meadows Luxury Apartments\, 702 E HWY 80\, Bloomingdale\, GA\, United States
ORGANIZER;CN="Royal Tasty Avenue":MAILTO:royaltastyavenuefoodtruck@gmail.com
END:VEVENT
BEGIN:VEVENT
DTSTART;TZID=America/New_York:20241219T170000
DTEND;TZID=America/New_York:20241219T193000
DTSTAMP:20260421T060226
CREATED:20241214T173911Z
LAST-MODIFIED:20241214T173911Z
UID:10011037-1734627600-1734636600@savannahfoodtruckforce.com
SUMMARY:-
DESCRIPTION:
URL:https://savannahfoodtruckforce.com/schedule/52676/
LOCATION:Meadows Luxury Apartments\, 702 E HWY 80\, Bloomingdale\, GA\, United States
ORGANIZER;CN="Philly Boyz Cheese Steaks":MAILTO:phillyboyzga@gmail.com
END:VEVENT
BEGIN:VEVENT
DTSTART;TZID=America/New_York:20241121T170000
DTEND;TZID=America/New_York:20241121T193000
DTSTAMP:20260421T060226
CREATED:20241117T194752Z
LAST-MODIFIED:20241117T194752Z
UID:10010899-1732208400-1732217400@savannahfoodtruckforce.com
SUMMARY:-
DESCRIPTION:
URL:https://savannahfoodtruckforce.com/schedule/52363/
LOCATION:Meadows Luxury Apartments\, 702 E HWY 80\, Bloomingdale\, GA\, United States
ORGANIZER;CN="It's a Jerk Shack":MAILTO:itsajerkshack@gmail.com
END:VEVENT
BEGIN:VEVENT
DTSTART;TZID=America/New_York:20241107T170000
DTEND;TZID=America/New_York:20241107T193000
DTSTAMP:20260421T060226
CREATED:20241103T220909Z
LAST-MODIFIED:20241107T155526Z
UID:10010800-1730998800-1731007800@savannahfoodtruckforce.com
SUMMARY:-
DESCRIPTION:
URL:https://savannahfoodtruckforce.com/schedule/52139/
LOCATION:Meadows Luxury Apartments\, 702 E HWY 80\, Bloomingdale\, GA\, United States
ORGANIZER;CN="Bowtie Barbecue Co.":MAILTO:Danielle@donaldsonenterprises.com
END:VEVENT
BEGIN:VEVENT
DTSTART;TZID=America/New_York:20241009T170000
DTEND;TZID=America/New_York:20241009T193000
DTSTAMP:20260421T060226
CREATED:20241004T160158Z
LAST-MODIFIED:20241004T160158Z
UID:10010706-1728493200-1728502200@savannahfoodtruckforce.com
SUMMARY:-
DESCRIPTION:
URL:https://savannahfoodtruckforce.com/schedule/51952/
LOCATION:Meadows Luxury Apartments\, 702 E HWY 80\, Bloomingdale\, GA\, United States
ORGANIZER;CN="Top Dog":MAILTO:Topdogsfoodtruck@gmail.com
END:VEVENT
BEGIN:VEVENT
DTSTART;TZID=America/New_York:20240911T170000
DTEND;TZID=America/New_York:20240911T193000
DTSTAMP:20260421T060226
CREATED:20240907T160858Z
LAST-MODIFIED:20240907T160858Z
UID:10010528-1726074000-1726083000@savannahfoodtruckforce.com
SUMMARY:-
DESCRIPTION:
URL:https://savannahfoodtruckforce.com/schedule/51511/
LOCATION:Meadows Luxury Apartments\, 702 E HWY 80\, Bloomingdale\, GA\, United States
ORGANIZER;CN="Oh Crepe!":MAILTO:ohcrepesav@gmail.com
END:VEVENT
BEGIN:VEVENT
DTSTART;TZID=America/New_York:20240808T170000
DTEND;TZID=America/New_York:20240808T193000
DTSTAMP:20260421T060226
CREATED:20240726T000358Z
LAST-MODIFIED:20240726T000358Z
UID:10010207-1723136400-1723145400@savannahfoodtruckforce.com
SUMMARY:-
DESCRIPTION:
URL:https://savannahfoodtruckforce.com/schedule/50711/
LOCATION:Meadows Luxury Apartments\, 702 E HWY 80\, Bloomingdale\, GA\, United States
END:VEVENT
BEGIN:VEVENT
DTSTART;TZID=America/New_York:20240711T170000
DTEND;TZID=America/New_York:20240711T193000
DTSTAMP:20260421T060226
CREATED:20240629T141522Z
LAST-MODIFIED:20240629T141522Z
UID:10010066-1720717200-1720726200@savannahfoodtruckforce.com
SUMMARY:-
DESCRIPTION:
URL:https://savannahfoodtruckforce.com/schedule/36396/
LOCATION:Meadows Luxury Apartments\, 702 E HWY 80\, Bloomingdale\, GA\, United States
ORGANIZER;CN="Latin Chicks":MAILTO:latinchicks.bookings@gmail.com
END:VEVENT
BEGIN:VEVENT
DTSTART;TZID=America/New_York:20240613T170000
DTEND;TZID=America/New_York:20240613T193000
DTSTAMP:20260421T060226
CREATED:20240602T191615Z
LAST-MODIFIED:20240613T184715Z
UID:10009899-1718298000-1718307000@savannahfoodtruckforce.com
SUMMARY:-
DESCRIPTION:
URL:https://savannahfoodtruckforce.com/schedule/36039/
LOCATION:Meadows Luxury Apartments\, 702 E HWY 80\, Bloomingdale\, GA\, United States
ORGANIZER;CN="La Chalupa":MAILTO:Restaurantlachalupa@gmail.com
END:VEVENT
BEGIN:VEVENT
DTSTART;TZID=America/New_York:20240509T170000
DTEND;TZID=America/New_York:20240509T193000
DTSTAMP:20260421T060226
CREATED:20240506T141838Z
LAST-MODIFIED:20240509T213105Z
UID:10009716-1715274000-1715283000@savannahfoodtruckforce.com
SUMMARY:-
DESCRIPTION:
URL:https://savannahfoodtruckforce.com/schedule/35617/
LOCATION:Meadows Luxury Apartments\, 702 E HWY 80\, Bloomingdale\, GA\, United States
ORGANIZER;CN="520 Wings":MAILTO:520wingssav@gmail.com
END:VEVENT
BEGIN:VEVENT
DTSTART;TZID=America/New_York:20240410T170000
DTEND;TZID=America/New_York:20240410T193000
DTSTAMP:20260421T060226
CREATED:20240405T232240Z
LAST-MODIFIED:20240405T232240Z
UID:10009531-1712768400-1712777400@savannahfoodtruckforce.com
SUMMARY:-
DESCRIPTION:
URL:https://savannahfoodtruckforce.com/schedule/27792/
LOCATION:Meadows Luxury Apartments\, 702 E HWY 80\, Bloomingdale\, GA\, United States
ORGANIZER;CN="Chazitos Latin Cuisine":MAILTO:Chazitosfoodtruck@gmail.com
END:VEVENT
BEGIN:VEVENT
DTSTART;TZID=America/New_York:20240319T170000
DTEND;TZID=America/New_York:20240319T193000
DTSTAMP:20260421T060226
CREATED:20240309T204745Z
LAST-MODIFIED:20240309T204745Z
UID:10009386-1710867600-1710876600@savannahfoodtruckforce.com
SUMMARY:-
DESCRIPTION:
URL:https://savannahfoodtruckforce.com/schedule/27436/
LOCATION:Meadows Luxury Apartments\, 702 E HWY 80\, Bloomingdale\, GA\, United States
ORGANIZER;CN="Latin Chicks":MAILTO:latinchicks.bookings@gmail.com
END:VEVENT
BEGIN:VEVENT
DTSTART;TZID=America/New_York:20240221T170000
DTEND;TZID=America/New_York:20240221T193000
DTSTAMP:20260421T060226
CREATED:20240210T212750Z
LAST-MODIFIED:20240210T212750Z
UID:10009223-1708534800-1708543800@savannahfoodtruckforce.com
SUMMARY:-
DESCRIPTION:
URL:https://savannahfoodtruckforce.com/schedule/27070/
LOCATION:Meadows Luxury Apartments\, 702 E HWY 80\, Bloomingdale\, GA\, United States
ORGANIZER;CN="Bowtie Barbecue Co.":MAILTO:Danielle@donaldsonenterprises.com
END:VEVENT
BEGIN:VEVENT
DTSTART;TZID=America/New_York:20240206T170000
DTEND;TZID=America/New_York:20240206T193000
DTSTAMP:20260421T060226
CREATED:20240128T224608Z
LAST-MODIFIED:20240203T185427Z
UID:10009151-1707238800-1707247800@savannahfoodtruckforce.com
SUMMARY:-
DESCRIPTION:
URL:https://savannahfoodtruckforce.com/schedule/26915/
LOCATION:Meadows Luxury Apartments\, 702 E HWY 80\, Bloomingdale\, GA\, United States
ORGANIZER;CN="Ark Royal Burgers":MAILTO:arkroyalburgers@gmail.com
END:VEVENT
BEGIN:VEVENT
DTSTART;TZID=America/New_York:20240111T170000
DTEND;TZID=America/New_York:20240111T193000
DTSTAMP:20260421T060226
CREATED:20231231T024410Z
LAST-MODIFIED:20231231T024410Z
UID:10009017-1704992400-1705001400@savannahfoodtruckforce.com
SUMMARY:-
DESCRIPTION:
URL:https://savannahfoodtruckforce.com/schedule/26627/
LOCATION:Meadows Luxury Apartments\, 702 E HWY 80\, Bloomingdale\, GA\, United States
ORGANIZER;CN="The Naked Dog":MAILTO:nakeddogfoodtruck@gmail.com
END:VEVENT
END:VCALENDAR