BEGIN:VCALENDAR
VERSION:2.0
PRODID:-//Savannah Food Truck Force - ECPv6.15.12.2//NONSGML v1.0//EN
CALSCALE:GREGORIAN
METHOD:PUBLISH
X-ORIGINAL-URL:https://savannahfoodtruckforce.com
X-WR-CALDESC:Events for Savannah Food Truck Force
REFRESH-INTERVAL;VALUE=DURATION:PT1H
X-Robots-Tag:noindex
X-PUBLISHED-TTL:PT1H
BEGIN:VTIMEZONE
TZID:America/New_York
BEGIN:DAYLIGHT
TZOFFSETFROM:-0500
TZOFFSETTO:-0400
TZNAME:EDT
DTSTART:20220313T070000
END:DAYLIGHT
BEGIN:STANDARD
TZOFFSETFROM:-0400
TZOFFSETTO:-0500
TZNAME:EST
DTSTART:20221106T060000
END:STANDARD
BEGIN:DAYLIGHT
TZOFFSETFROM:-0500
TZOFFSETTO:-0400
TZNAME:EDT
DTSTART:20230312T070000
END:DAYLIGHT
BEGIN:STANDARD
TZOFFSETFROM:-0400
TZOFFSETTO:-0500
TZNAME:EST
DTSTART:20231105T060000
END:STANDARD
BEGIN:DAYLIGHT
TZOFFSETFROM:-0500
TZOFFSETTO:-0400
TZNAME:EDT
DTSTART:20240310T070000
END:DAYLIGHT
BEGIN:STANDARD
TZOFFSETFROM:-0400
TZOFFSETTO:-0500
TZNAME:EST
DTSTART:20241103T060000
END:STANDARD
BEGIN:DAYLIGHT
TZOFFSETFROM:-0500
TZOFFSETTO:-0400
TZNAME:EDT
DTSTART:20250309T070000
END:DAYLIGHT
BEGIN:STANDARD
TZOFFSETFROM:-0400
TZOFFSETTO:-0500
TZNAME:EST
DTSTART:20251102T060000
END:STANDARD
BEGIN:DAYLIGHT
TZOFFSETFROM:-0500
TZOFFSETTO:-0400
TZNAME:EDT
DTSTART:20260308T070000
END:DAYLIGHT
BEGIN:STANDARD
TZOFFSETFROM:-0400
TZOFFSETTO:-0500
TZNAME:EST
DTSTART:20261101T060000
END:STANDARD
BEGIN:DAYLIGHT
TZOFFSETFROM:-0500
TZOFFSETTO:-0400
TZNAME:EDT
DTSTART:20270314T070000
END:DAYLIGHT
BEGIN:STANDARD
TZOFFSETFROM:-0400
TZOFFSETTO:-0500
TZNAME:EST
DTSTART:20271107T060000
END:STANDARD
END:VTIMEZONE
BEGIN:VEVENT
DTSTART;TZID=America/New_York:20260324T170000
DTEND;TZID=America/New_York:20260324T193000
DTSTAMP:20260419T104902
CREATED:20260324T005314Z
LAST-MODIFIED:20260324T190039Z
UID:10013443-1774371600-1774380600@savannahfoodtruckforce.com
SUMMARY:-
DESCRIPTION:
URL:https://savannahfoodtruckforce.com/schedule/60034/
LOCATION:Osprey on the Bluffs\, 11900 White Bluff Rd.\, Savannah\, GA\, 31419\, United States
ORGANIZER;CN="Krazian":MAILTO:krazian2@gmail.com
END:VEVENT
BEGIN:VEVENT
DTSTART;TZID=America/New_York:20260224T170000
DTEND;TZID=America/New_York:20260224T193000
DTSTAMP:20260419T104902
CREATED:20260220T150945Z
LAST-MODIFIED:20260220T150945Z
UID:10013344-1771952400-1771961400@savannahfoodtruckforce.com
SUMMARY:-
DESCRIPTION:
URL:https://savannahfoodtruckforce.com/schedule/59829/
LOCATION:Osprey on the Bluffs\, 11900 White Bluff Rd.\, Savannah\, GA\, 31419\, United States
ORGANIZER;CN="520 Wings":MAILTO:520wingssav@gmail.com
END:VEVENT
BEGIN:VEVENT
DTSTART;TZID=America/New_York:20260217T170000
DTEND;TZID=America/New_York:20260217T193000
DTSTAMP:20260419T104902
CREATED:20260208T192017Z
LAST-MODIFIED:20260217T232705Z
UID:10013253-1771347600-1771356600@savannahfoodtruckforce.com
SUMMARY:-
DESCRIPTION:
URL:https://savannahfoodtruckforce.com/schedule/59623/
LOCATION:Osprey on the Bluffs\, 11900 White Bluff Rd.\, Savannah\, GA\, 31419\, United States
ORGANIZER;CN="520 Wings":MAILTO:520wingssav@gmail.com
END:VEVENT
BEGIN:VEVENT
DTSTART;TZID=America/New_York:20260116T170000
DTEND;TZID=America/New_York:20260116T193000
DTSTAMP:20260419T104902
CREATED:20260111T005604Z
LAST-MODIFIED:20260111T005604Z
UID:10013051-1768582800-1768591800@savannahfoodtruckforce.com
SUMMARY:-
DESCRIPTION:
URL:https://savannahfoodtruckforce.com/schedule/59212/
LOCATION:Osprey on the Bluffs\, 11900 White Bluff Rd.\, Savannah\, GA\, 31419\, United States
ORGANIZER;CN="Philly Boyz Cheese Steaks":MAILTO:phillyboyzga@gmail.com
END:VEVENT
BEGIN:VEVENT
DTSTART;TZID=America/New_York:20250619T170000
DTEND;TZID=America/New_York:20250619T193000
DTSTAMP:20260419T104902
CREATED:20250615T194046Z
LAST-MODIFIED:20250615T194046Z
UID:10011976-1750352400-1750361400@savannahfoodtruckforce.com
SUMMARY:-
DESCRIPTION:
URL:https://savannahfoodtruckforce.com/schedule/54800/
LOCATION:Osprey on the Bluffs\, 11900 White Bluff Rd.\, Savannah\, GA\, 31419\, United States
ORGANIZER;CN="It's a Jerk Shack":MAILTO:itsajerkshack@gmail.com
END:VEVENT
BEGIN:VEVENT
DTSTART;TZID=America/New_York:20250508T170000
DTEND;TZID=America/New_York:20250508T193000
DTSTAMP:20260419T104902
CREATED:20250503T231010Z
LAST-MODIFIED:20250507T174512Z
UID:10011696-1746723600-1746732600@savannahfoodtruckforce.com
SUMMARY:-
DESCRIPTION:
URL:https://savannahfoodtruckforce.com/schedule/54155/
LOCATION:Osprey on the Bluffs\, 11900 White Bluff Rd.\, Savannah\, GA\, 31419\, United States
ORGANIZER;CN="Latin Chicks":MAILTO:latinchicks.bookings@gmail.com
END:VEVENT
BEGIN:VEVENT
DTSTART;TZID=America/New_York:20250219T170000
DTEND;TZID=America/New_York:20250219T193000
DTSTAMP:20260419T104902
CREATED:20250208T231957Z
LAST-MODIFIED:20250219T204230Z
UID:10011289-1739984400-1739993400@savannahfoodtruckforce.com
SUMMARY:-
DESCRIPTION:
URL:https://savannahfoodtruckforce.com/schedule/53256/
LOCATION:Osprey on the Bluffs\, 11900 White Bluff Rd.\, Savannah\, GA\, 31419\, United States
ORGANIZER;CN="It's a Jerk Shack":MAILTO:itsajerkshack@gmail.com
END:VEVENT
BEGIN:VEVENT
DTSTART;TZID=America/New_York:20250204T170000
DTEND;TZID=America/New_York:20250204T193000
DTSTAMP:20260419T104902
CREATED:20250124T212807Z
LAST-MODIFIED:20250124T212807Z
UID:10011177-1738688400-1738697400@savannahfoodtruckforce.com
SUMMARY:-
DESCRIPTION:
URL:https://savannahfoodtruckforce.com/schedule/52995/
LOCATION:Osprey on the Bluffs\, 11900 White Bluff Rd.\, Savannah\, GA\, 31419\, United States
ORGANIZER;CN="Philly Boyz Cheese Steaks":MAILTO:phillyboyzga@gmail.com
END:VEVENT
BEGIN:VEVENT
DTSTART;TZID=America/New_York:20250122T170000
DTEND;TZID=America/New_York:20250122T193000
DTSTAMP:20260419T104902
CREATED:20250110T011918Z
LAST-MODIFIED:20250110T011918Z
UID:10011108-1737565200-1737574200@savannahfoodtruckforce.com
SUMMARY:-
DESCRIPTION:
URL:https://savannahfoodtruckforce.com/schedule/52833/
LOCATION:Osprey on the Bluffs\, 11900 White Bluff Rd.\, Savannah\, GA\, 31419\, United States
ORGANIZER;CN="Chazitos Latin Cuisine":MAILTO:Chazitosfoodtruck@gmail.com
END:VEVENT
BEGIN:VEVENT
DTSTART;TZID=America/New_York:20241111T170000
DTEND;TZID=America/New_York:20241111T193000
DTSTAMP:20260419T104902
CREATED:20241103T220909Z
LAST-MODIFIED:20241103T220909Z
UID:10010803-1731344400-1731353400@savannahfoodtruckforce.com
SUMMARY:-
DESCRIPTION:
URL:https://savannahfoodtruckforce.com/schedule/52145/
LOCATION:Osprey on the Bluffs\, 11900 White Bluff Rd.\, Savannah\, GA\, 31419\, United States
ORGANIZER;CN="Bowtie Barbecue Co.":MAILTO:Danielle@donaldsonenterprises.com
END:VEVENT
BEGIN:VEVENT
DTSTART;TZID=America/New_York:20241030T170000
DTEND;TZID=America/New_York:20241030T193000
DTSTAMP:20260419T104902
CREATED:20241019T010358Z
LAST-MODIFIED:20241019T010358Z
UID:10010753-1730307600-1730316600@savannahfoodtruckforce.com
SUMMARY:-
DESCRIPTION:
URL:https://savannahfoodtruckforce.com/schedule/52039/
LOCATION:Osprey on the Bluffs\, 11900 White Bluff Rd.\, Savannah\, GA\, 31419\, United States
ORGANIZER;CN="Royal Tasty Avenue":MAILTO:royaltastyavenuefoodtruck@gmail.com
END:VEVENT
BEGIN:VEVENT
DTSTART;TZID=America/New_York:20241030T170000
DTEND;TZID=America/New_York:20241030T193000
DTSTAMP:20260419T104902
CREATED:20241004T160207Z
LAST-MODIFIED:20241016T135807Z
UID:10010670-1730307600-1730316600@savannahfoodtruckforce.com
SUMMARY:-
DESCRIPTION:
URL:https://savannahfoodtruckforce.com/schedule/51880/
LOCATION:Osprey on the Bluffs\, 11900 White Bluff Rd.\, Savannah\, GA\, 31419\, United States
ORGANIZER;CN="Royal Tasty Avenue":MAILTO:royaltastyavenuefoodtruck@gmail.com
END:VEVENT
BEGIN:VEVENT
DTSTART;TZID=America/New_York:20241028T170000
DTEND;TZID=America/New_York:20241028T193000
DTSTAMP:20260419T104902
CREATED:20241019T010344Z
LAST-MODIFIED:20241019T010344Z
UID:10010785-1730134800-1730143800@savannahfoodtruckforce.com
SUMMARY:-
DESCRIPTION:
URL:https://savannahfoodtruckforce.com/schedule/52107/
LOCATION:Osprey on the Bluffs\, 11900 White Bluff Rd.\, Savannah\, GA\, 31419\, United States
ORGANIZER;CN="Oh Crepe!":MAILTO:ohcrepesav@gmail.com
END:VEVENT
BEGIN:VEVENT
DTSTART;TZID=America/New_York:20241002T170000
DTEND;TZID=America/New_York:20241002T193000
DTSTAMP:20260419T104902
CREATED:20240921T011003Z
LAST-MODIFIED:20241002T160931Z
UID:10010585-1727888400-1727897400@savannahfoodtruckforce.com
SUMMARY:-
DESCRIPTION:
URL:https://savannahfoodtruckforce.com/schedule/51699/
LOCATION:Osprey on the Bluffs\, 11900 White Bluff Rd.\, Savannah\, GA\, 31419\, United States
ORGANIZER;CN="It's a Jerk Shack":MAILTO:itsajerkshack@gmail.com
END:VEVENT
BEGIN:VEVENT
DTSTART;TZID=America/New_York:20240918T170000
DTEND;TZID=America/New_York:20240918T193000
DTSTAMP:20260419T104902
CREATED:20240907T160923Z
LAST-MODIFIED:20240907T160923Z
UID:10010491-1726678800-1726687800@savannahfoodtruckforce.com
SUMMARY:-
DESCRIPTION:
URL:https://savannahfoodtruckforce.com/schedule/51409/
LOCATION:Osprey on the Bluffs\, 11900 White Bluff Rd.\, Savannah\, GA\, 31419\, United States
ORGANIZER;CN="Chazitos Latin Cuisine":MAILTO:Chazitosfoodtruck@gmail.com
END:VEVENT
BEGIN:VEVENT
DTSTART;TZID=America/New_York:20240905T170000
DTEND;TZID=America/New_York:20240905T193000
DTSTAMP:20260419T104902
CREATED:20240823T193447Z
LAST-MODIFIED:20240823T193447Z
UID:10010439-1725555600-1725564600@savannahfoodtruckforce.com
SUMMARY:-
DESCRIPTION:
URL:https://savannahfoodtruckforce.com/schedule/51272/
LOCATION:Osprey on the Bluffs\, 11900 White Bluff Rd.\, Savannah\, GA\, 31419\, United States
ORGANIZER;CN="520 Wings":MAILTO:520wingssav@gmail.com
END:VEVENT
BEGIN:VEVENT
DTSTART;TZID=America/New_York:20240815T170000
DTEND;TZID=America/New_York:20240815T193000
DTSTAMP:20260419T104902
CREATED:20240810T160448Z
LAST-MODIFIED:20240810T160448Z
UID:10010273-1723741200-1723750200@savannahfoodtruckforce.com
SUMMARY:-
DESCRIPTION:
URL:https://savannahfoodtruckforce.com/schedule/50903/
LOCATION:Osprey on the Bluffs\, 11900 White Bluff Rd.\, Savannah\, GA\, 31419\, United States
ORGANIZER;CN="Bowtie Barbecue Co.":MAILTO:Danielle@donaldsonenterprises.com
END:VEVENT
BEGIN:VEVENT
DTSTART;TZID=America/New_York:20240808T170000
DTEND;TZID=America/New_York:20240808T193000
DTSTAMP:20260419T104902
CREATED:20240726T000414Z
LAST-MODIFIED:20240726T000414Z
UID:10010199-1723136400-1723145400@savannahfoodtruckforce.com
SUMMARY:-
DESCRIPTION:
URL:https://savannahfoodtruckforce.com/schedule/50692/
LOCATION:Osprey on the Bluffs\, 11900 White Bluff Rd.\, Savannah\, GA\, 31419\, United States
ORGANIZER;CN="Bowtie Barbecue Co.":MAILTO:Danielle@donaldsonenterprises.com
END:VEVENT
BEGIN:VEVENT
DTSTART;TZID=America/New_York:20240723T170000
DTEND;TZID=America/New_York:20240723T193000
DTSTAMP:20260419T104902
CREATED:20240713T011929Z
LAST-MODIFIED:20240713T011929Z
UID:10010137-1721754000-1721763000@savannahfoodtruckforce.com
SUMMARY:-
DESCRIPTION:
URL:https://savannahfoodtruckforce.com/schedule/50352/
LOCATION:Osprey on the Bluffs\, 11900 White Bluff Rd.\, Savannah\, GA\, 31419\, United States
END:VEVENT
BEGIN:VEVENT
DTSTART;TZID=America/New_York:20240709T170000
DTEND;TZID=America/New_York:20240709T193000
DTSTAMP:20260419T104902
CREATED:20240629T141432Z
LAST-MODIFIED:20240629T141432Z
UID:10010083-1720544400-1720553400@savannahfoodtruckforce.com
SUMMARY:-
DESCRIPTION:
URL:https://savannahfoodtruckforce.com/schedule/36430/
LOCATION:Osprey on the Bluffs\, 11900 White Bluff Rd.\, Savannah\, GA\, 31419\, United States
ORGANIZER;CN="Royal Tasty Avenue":MAILTO:royaltastyavenuefoodtruck@gmail.com
END:VEVENT
BEGIN:VEVENT
DTSTART;TZID=America/New_York:20240626T170000
DTEND;TZID=America/New_York:20240626T193000
DTSTAMP:20260419T104902
CREATED:20240614T133310Z
LAST-MODIFIED:20240619T193914Z
UID:10009985-1719421200-1719430200@savannahfoodtruckforce.com
SUMMARY:-
DESCRIPTION:
URL:https://savannahfoodtruckforce.com/schedule/36215/
LOCATION:Osprey on the Bluffs\, 11900 White Bluff Rd.\, Savannah\, GA\, 31419\, United States
ORGANIZER;CN="Ark Royal Burgers":MAILTO:arkroyalburgers@gmail.com
END:VEVENT
BEGIN:VEVENT
DTSTART;TZID=America/New_York:20240610T170000
DTEND;TZID=America/New_York:20240610T193000
DTSTAMP:20260419T104902
CREATED:20240602T191655Z
LAST-MODIFIED:20240602T191655Z
UID:10009834-1718038800-1718047800@savannahfoodtruckforce.com
SUMMARY:-
DESCRIPTION:
URL:https://savannahfoodtruckforce.com/schedule/35908/
LOCATION:Osprey on the Bluffs\, 11900 White Bluff Rd.\, Savannah\, GA\, 31419\, United States
ORGANIZER;CN="Chazitos Latin Cuisine":MAILTO:Chazitosfoodtruck@gmail.com
END:VEVENT
BEGIN:VEVENT
DTSTART;TZID=America/New_York:20240528T170000
DTEND;TZID=America/New_York:20240528T193000
DTSTAMP:20260419T104902
CREATED:20240517T234450Z
LAST-MODIFIED:20240517T234450Z
UID:10009723-1716915600-1716924600@savannahfoodtruckforce.com
SUMMARY:-
DESCRIPTION:
URL:https://savannahfoodtruckforce.com/schedule/35655/
LOCATION:Osprey on the Bluffs\, 11900 White Bluff Rd.\, Savannah\, GA\, 31419\, United States
ORGANIZER;CN="Bowtie Barbecue Co.":MAILTO:Danielle@donaldsonenterprises.com
END:VEVENT
BEGIN:VEVENT
DTSTART;TZID=America/New_York:20240516T170000
DTEND;TZID=America/New_York:20240516T193000
DTSTAMP:20260419T104902
CREATED:20240506T141858Z
LAST-MODIFIED:20240516T133107Z
UID:10009668-1715878800-1715887800@savannahfoodtruckforce.com
SUMMARY:-
DESCRIPTION:
URL:https://savannahfoodtruckforce.com/schedule/35521/
LOCATION:Osprey on the Bluffs\, 11900 White Bluff Rd.\, Savannah\, GA\, 31419\, United States
ORGANIZER;CN="Latin Chicks":MAILTO:latinchicks.bookings@gmail.com
END:VEVENT
BEGIN:VEVENT
DTSTART;TZID=America/New_York:20240423T170000
DTEND;TZID=America/New_York:20240423T193000
DTSTAMP:20260419T104902
CREATED:20240420T223945Z
LAST-MODIFIED:20240420T223945Z
UID:10009605-1713891600-1713900600@savannahfoodtruckforce.com
SUMMARY:-
DESCRIPTION:
URL:https://savannahfoodtruckforce.com/schedule/35307/
LOCATION:Osprey on the Bluffs\, 11900 White Bluff Rd.\, Savannah\, GA\, 31419\, United States
ORGANIZER;CN="Royal Tasty Avenue":MAILTO:royaltastyavenuefoodtruck@gmail.com
END:VEVENT
BEGIN:VEVENT
DTSTART;TZID=America/New_York:20240402T170000
DTEND;TZID=America/New_York:20240402T193000
DTSTAMP:20260419T104902
CREATED:20240324T172526Z
LAST-MODIFIED:20240324T172526Z
UID:10009436-1712077200-1712086200@savannahfoodtruckforce.com
SUMMARY:-
DESCRIPTION:
URL:https://savannahfoodtruckforce.com/schedule/27540/
LOCATION:Osprey on the Bluffs\, 11900 White Bluff Rd.\, Savannah\, GA\, 31419\, United States
ORGANIZER;CN="Bowtie Barbecue Co.":MAILTO:Danielle@donaldsonenterprises.com
END:VEVENT
BEGIN:VEVENT
DTSTART;TZID=America/New_York:20240320T170000
DTEND;TZID=America/New_York:20240320T193000
DTSTAMP:20260419T104902
CREATED:20240309T204430Z
LAST-MODIFIED:20240309T204725Z
UID:10009381-1710954000-1710963000@savannahfoodtruckforce.com
SUMMARY:-
DESCRIPTION:
URL:https://savannahfoodtruckforce.com/schedule/27426/
LOCATION:Osprey on the Bluffs\, 11900 White Bluff Rd.\, Savannah\, GA\, 31419\, United States
ORGANIZER;CN="Chazitos Latin Cuisine":MAILTO:Chazitosfoodtruck@gmail.com
END:VEVENT
BEGIN:VEVENT
DTSTART;TZID=America/New_York:20240206T170000
DTEND;TZID=America/New_York:20240206T193000
DTSTAMP:20260419T104902
CREATED:20240129T212408Z
LAST-MODIFIED:20240129T212408Z
UID:10009199-1707238800-1707247800@savannahfoodtruckforce.com
SUMMARY:-
DESCRIPTION:
URL:https://savannahfoodtruckforce.com/schedule/27011/
LOCATION:Osprey on the Bluffs\, 11900 White Bluff Rd.\, Savannah\, GA\, 31419\, United States
ORGANIZER;CN="520 Wings":MAILTO:520wingssav@gmail.com
END:VEVENT
BEGIN:VEVENT
DTSTART;TZID=America/New_York:20240118T170000
DTEND;TZID=America/New_York:20240118T193000
DTSTAMP:20260419T104902
CREATED:20231231T024424Z
LAST-MODIFIED:20240111T214244Z
UID:10009002-1705597200-1705606200@savannahfoodtruckforce.com
SUMMARY:-
DESCRIPTION:
URL:https://savannahfoodtruckforce.com/schedule/26597/
LOCATION:Osprey on the Bluffs\, 11900 White Bluff Rd.\, Savannah\, GA\, 31419\, United States
ORGANIZER;CN="Royal Tasty Avenue":MAILTO:royaltastyavenuefoodtruck@gmail.com
END:VEVENT
BEGIN:VEVENT
DTSTART;TZID=America/New_York:20231215T170000
DTEND;TZID=America/New_York:20231215T193000
DTSTAMP:20260419T104902
CREATED:20231205T024650Z
LAST-MODIFIED:20231205T024650Z
UID:10008845-1702659600-1702668600@savannahfoodtruckforce.com
SUMMARY:-
DESCRIPTION:
URL:https://savannahfoodtruckforce.com/schedule/26254/
LOCATION:Osprey on the Bluffs\, 11900 White Bluff Rd.\, Savannah\, GA\, 31419\, United States
ORGANIZER;CN="Bowtie Barbecue Co.":MAILTO:Danielle@donaldsonenterprises.com
END:VEVENT
END:VCALENDAR