BEGIN:VCALENDAR
VERSION:2.0
PRODID:-//Savannah Food Truck Force - ECPv6.15.12.2//NONSGML v1.0//EN
CALSCALE:GREGORIAN
METHOD:PUBLISH
X-ORIGINAL-URL:https://savannahfoodtruckforce.com
X-WR-CALDESC:Events for Savannah Food Truck Force
REFRESH-INTERVAL;VALUE=DURATION:PT1H
X-Robots-Tag:noindex
X-PUBLISHED-TTL:PT1H
BEGIN:VTIMEZONE
TZID:America/New_York
BEGIN:DAYLIGHT
TZOFFSETFROM:-0500
TZOFFSETTO:-0400
TZNAME:EDT
DTSTART:20230312T070000
END:DAYLIGHT
BEGIN:STANDARD
TZOFFSETFROM:-0400
TZOFFSETTO:-0500
TZNAME:EST
DTSTART:20231105T060000
END:STANDARD
BEGIN:DAYLIGHT
TZOFFSETFROM:-0500
TZOFFSETTO:-0400
TZNAME:EDT
DTSTART:20240310T070000
END:DAYLIGHT
BEGIN:STANDARD
TZOFFSETFROM:-0400
TZOFFSETTO:-0500
TZNAME:EST
DTSTART:20241103T060000
END:STANDARD
BEGIN:DAYLIGHT
TZOFFSETFROM:-0500
TZOFFSETTO:-0400
TZNAME:EDT
DTSTART:20250309T070000
END:DAYLIGHT
BEGIN:STANDARD
TZOFFSETFROM:-0400
TZOFFSETTO:-0500
TZNAME:EST
DTSTART:20251102T060000
END:STANDARD
BEGIN:DAYLIGHT
TZOFFSETFROM:-0500
TZOFFSETTO:-0400
TZNAME:EDT
DTSTART:20260308T070000
END:DAYLIGHT
BEGIN:STANDARD
TZOFFSETFROM:-0400
TZOFFSETTO:-0500
TZNAME:EST
DTSTART:20261101T060000
END:STANDARD
BEGIN:DAYLIGHT
TZOFFSETFROM:-0500
TZOFFSETTO:-0400
TZNAME:EDT
DTSTART:20270314T070000
END:DAYLIGHT
BEGIN:STANDARD
TZOFFSETFROM:-0400
TZOFFSETTO:-0500
TZNAME:EST
DTSTART:20271107T060000
END:STANDARD
END:VTIMEZONE
BEGIN:VEVENT
DTSTART;TZID=America/New_York:20260412T110000
DTEND;TZID=America/New_York:20260412T193000
DTSTAMP:20260421T045029
CREATED:20260406T033736Z
LAST-MODIFIED:20260406T033736Z
UID:10013485-1775991600-1776022200@savannahfoodtruckforce.com
SUMMARY:-
DESCRIPTION:
URL:https://savannahfoodtruckforce.com/schedule/60118/
LOCATION:Service Brewing\, 574 Indian Street\, Savannah\, GA\, 31401\, United States
ORGANIZER;CN="Chazitos Latin Cuisine":MAILTO:Chazitosfoodtruck@gmail.com
END:VEVENT
BEGIN:VEVENT
DTSTART;TZID=America/New_York:20260227T163000
DTEND;TZID=America/New_York:20260227T210000
DTSTAMP:20260421T045029
CREATED:20260220T150925Z
LAST-MODIFIED:20260227T211428Z
UID:10013263-1772209800-1772226000@savannahfoodtruckforce.com
SUMMARY:-
DESCRIPTION:
URL:https://savannahfoodtruckforce.com/schedule/59664/
LOCATION:Service Brewing\, 574 Indian Street\, Savannah\, GA\, 31401\, United States
ORGANIZER;CN="Bayou Cafe":MAILTO:Bayousavannah@gmail.com
END:VEVENT
BEGIN:VEVENT
DTSTART;TZID=America/New_York:20260207T120000
DTEND;TZID=America/New_York:20260207T200000
DTSTAMP:20260421T045029
CREATED:20260202T185040Z
LAST-MODIFIED:20260202T185040Z
UID:10013196-1770465600-1770494400@savannahfoodtruckforce.com
SUMMARY:-
DESCRIPTION:
URL:https://savannahfoodtruckforce.com/schedule/59505/
LOCATION:Service Brewing\, 574 Indian Street\, Savannah\, GA\, 31401\, United States
ORGANIZER;CN="Mac Attack":MAILTO:macattackfs@yahoo.com
END:VEVENT
BEGIN:VEVENT
DTSTART;TZID=America/New_York:20260117T110000
DTEND;TZID=America/New_York:20260117T193000
DTSTAMP:20260421T045029
CREATED:20260111T005603Z
LAST-MODIFIED:20260111T005603Z
UID:10013062-1768647600-1768678200@savannahfoodtruckforce.com
SUMMARY:-
DESCRIPTION:
URL:https://savannahfoodtruckforce.com/schedule/59234/
LOCATION:Service Brewing\, 574 Indian Street\, Savannah\, GA\, 31401\, United States
ORGANIZER;CN="Ark Royal Burgers":MAILTO:arkroyalburgers@gmail.com
END:VEVENT
BEGIN:VEVENT
DTSTART;TZID=America/New_York:20260117T110000
DTEND;TZID=America/New_York:20260117T193000
DTSTAMP:20260421T045029
CREATED:20260111T005603Z
LAST-MODIFIED:20260111T005603Z
UID:10013105-1768647600-1768678200@savannahfoodtruckforce.com
SUMMARY:-
DESCRIPTION:
URL:https://savannahfoodtruckforce.com/schedule/59320/
LOCATION:Service Brewing\, 574 Indian Street\, Savannah\, GA\, 31401\, United States
ORGANIZER;CN="Oh Crepe!":MAILTO:ohcrepesav@gmail.com
END:VEVENT
BEGIN:VEVENT
DTSTART;TZID=America/New_York:20251116T123000
DTEND;TZID=America/New_York:20251116T170000
DTSTAMP:20260421T045029
CREATED:20251104T125832Z
LAST-MODIFIED:20251104T125832Z
UID:10012790-1763296200-1763312400@savannahfoodtruckforce.com
SUMMARY:-
DESCRIPTION:
URL:https://savannahfoodtruckforce.com/schedule/58580/
LOCATION:Service Brewing\, 574 Indian Street\, Savannah\, GA\, 31401\, United States
ORGANIZER;CN="Philly Boyz Cheese Steaks":MAILTO:phillyboyzga@gmail.com
END:VEVENT
BEGIN:VEVENT
DTSTART;TZID=America/New_York:20251107T170000
DTEND;TZID=America/New_York:20251107T193000
DTSTAMP:20260421T045029
CREATED:20251101T170922Z
LAST-MODIFIED:20251101T170922Z
UID:10012735-1762534800-1762543800@savannahfoodtruckforce.com
SUMMARY:-
DESCRIPTION:
URL:https://savannahfoodtruckforce.com/schedule/58468/
LOCATION:Service Brewing\, 574 Indian Street\, Savannah\, GA\, 31401\, United States
ORGANIZER;CN="Bayou Cafe":MAILTO:Bayousavannah@gmail.com
END:VEVENT
BEGIN:VEVENT
DTSTART;TZID=America/New_York:20250622T123000
DTEND;TZID=America/New_York:20250622T170000
DTSTAMP:20260421T045029
CREATED:20250615T194034Z
LAST-MODIFIED:20250615T194034Z
UID:10011981-1750595400-1750611600@savannahfoodtruckforce.com
SUMMARY:-
DESCRIPTION:
URL:https://savannahfoodtruckforce.com/schedule/54810/
LOCATION:Service Brewing\, 574 Indian Street\, Savannah\, GA\, 31401\, United States
ORGANIZER;CN="The Naked Dog":MAILTO:nakeddogfoodtruck@gmail.com
END:VEVENT
BEGIN:VEVENT
DTSTART;TZID=America/New_York:20250621T123000
DTEND;TZID=America/New_York:20250621T203000
DTSTAMP:20260421T045029
CREATED:20250615T194034Z
LAST-MODIFIED:20250615T194034Z
UID:10011980-1750509000-1750537800@savannahfoodtruckforce.com
SUMMARY:-
DESCRIPTION:
URL:https://savannahfoodtruckforce.com/schedule/54808/
LOCATION:Service Brewing\, 574 Indian Street\, Savannah\, GA\, 31401\, United States
ORGANIZER;CN="The Naked Dog":MAILTO:nakeddogfoodtruck@gmail.com
END:VEVENT
BEGIN:VEVENT
DTSTART;VALUE=DATE:20250615
DTEND;VALUE=DATE:20250616
DTSTAMP:20260421T045029
CREATED:20250601T171159Z
LAST-MODIFIED:20250601T171159Z
UID:10011845-1749945600-1750031999@savannahfoodtruckforce.com
SUMMARY:-
DESCRIPTION:
URL:https://savannahfoodtruckforce.com/schedule/54520/
LOCATION:Service Brewing\, 574 Indian Street\, Savannah\, GA\, 31401\, United States
ORGANIZER;CN="Ark Royal Burgers":MAILTO:arkroyalburgers@gmail.com
END:VEVENT
BEGIN:VEVENT
DTSTART;TZID=America/New_York:20250524T180000
DTEND;TZID=America/New_York:20250524T210000
DTSTAMP:20260421T045029
CREATED:20250517T142058Z
LAST-MODIFIED:20250517T142058Z
UID:10011773-1748109600-1748120400@savannahfoodtruckforce.com
SUMMARY:-
DESCRIPTION:
URL:https://savannahfoodtruckforce.com/schedule/54371/
LOCATION:Service Brewing\, 574 Indian Street\, Savannah\, GA\, 31401\, United States
ORGANIZER;CN="Bowtie Barbecue Co.":MAILTO:Danielle@donaldsonenterprises.com
END:VEVENT
BEGIN:VEVENT
DTSTART;TZID=America/New_York:20250515T180000
DTEND;TZID=America/New_York:20250515T210000
DTSTAMP:20260421T045029
CREATED:20250503T231010Z
LAST-MODIFIED:20250503T231010Z
UID:10011691-1747332000-1747342800@savannahfoodtruckforce.com
SUMMARY:-
DESCRIPTION:
URL:https://savannahfoodtruckforce.com/schedule/54145/
LOCATION:Service Brewing\, 574 Indian Street\, Savannah\, GA\, 31401\, United States
ORGANIZER;CN="Bayou Cafe":MAILTO:Bayousavannah@gmail.com
END:VEVENT
BEGIN:VEVENT
DTSTART;TZID=America/New_York:20250330T120000
DTEND;TZID=America/New_York:20250330T210000
DTSTAMP:20260421T045029
CREATED:20250322T002635Z
LAST-MODIFIED:20250322T002635Z
UID:10011476-1743336000-1743368400@savannahfoodtruckforce.com
SUMMARY:-
DESCRIPTION:
URL:https://savannahfoodtruckforce.com/schedule/53645/
LOCATION:Service Brewing\, 574 Indian Street\, Savannah\, GA\, 31401\, United States
ORGANIZER;CN="The Naked Dog":MAILTO:nakeddogfoodtruck@gmail.com
END:VEVENT
BEGIN:VEVENT
DTSTART;TZID=America/New_York:20250228T180000
DTEND;TZID=America/New_York:20250228T210000
DTSTAMP:20260421T045029
CREATED:20250220T232454Z
LAST-MODIFIED:20250220T232454Z
UID:10011328-1740765600-1740776400@savannahfoodtruckforce.com
SUMMARY:-
DESCRIPTION:
URL:https://savannahfoodtruckforce.com/schedule/53336/
LOCATION:Service Brewing\, 574 Indian Street\, Savannah\, GA\, 31401\, United States
ORGANIZER;CN="Bayou Cafe":MAILTO:Bayousavannah@gmail.com
END:VEVENT
BEGIN:VEVENT
DTSTART;VALUE=DATE:20250222
DTEND;VALUE=DATE:20250223
DTSTAMP:20260421T045029
CREATED:20250208T231957Z
LAST-MODIFIED:20250208T231957Z
UID:10011279-1740182400-1740268799@savannahfoodtruckforce.com
SUMMARY:-
DESCRIPTION:
URL:https://savannahfoodtruckforce.com/schedule/53236/
LOCATION:Service Brewing\, 574 Indian Street\, Savannah\, GA\, 31401\, United States
ORGANIZER;CN="Ark Royal Burgers":MAILTO:arkroyalburgers@gmail.com
END:VEVENT
BEGIN:VEVENT
DTSTART;TZID=America/New_York:20250202T110000
DTEND;TZID=America/New_York:20250202T140000
DTSTAMP:20260421T045029
CREATED:20250124T212748Z
LAST-MODIFIED:20250124T212748Z
UID:10011176-1738494000-1738504800@savannahfoodtruckforce.com
SUMMARY:-
DESCRIPTION:
URL:https://savannahfoodtruckforce.com/schedule/52993/
LOCATION:Service Brewing\, 574 Indian Street\, Savannah\, GA\, 31401\, United States
ORGANIZER;CN="Philly Boyz Cheese Steaks":MAILTO:phillyboyzga@gmail.com
END:VEVENT
BEGIN:VEVENT
DTSTART;VALUE=DATE:20250118
DTEND;VALUE=DATE:20250119
DTSTAMP:20260421T045029
CREATED:20250110T011845Z
LAST-MODIFIED:20250110T011845Z
UID:10011155-1737158400-1737244799@savannahfoodtruckforce.com
SUMMARY:-
DESCRIPTION:
URL:https://savannahfoodtruckforce.com/schedule/52927/
LOCATION:Service Brewing\, 574 Indian Street\, Savannah\, GA\, 31401\, United States
ORGANIZER;CN="Top Dog":MAILTO:Topdogsfoodtruck@gmail.com
END:VEVENT
BEGIN:VEVENT
DTSTART;VALUE=DATE:20241130
DTEND;VALUE=DATE:20241201
DTSTAMP:20260421T045029
CREATED:20241117T194734Z
LAST-MODIFIED:20241117T194734Z
UID:10010921-1732924800-1733011199@savannahfoodtruckforce.com
SUMMARY:-
DESCRIPTION:
URL:https://savannahfoodtruckforce.com/schedule/52408/
LOCATION:Service Brewing\, 574 Indian Street\, Savannah\, GA\, 31401\, United States
ORGANIZER;CN="Top Dog":MAILTO:Topdogsfoodtruck@gmail.com
END:VEVENT
BEGIN:VEVENT
DTSTART;VALUE=DATE:20241123
DTEND;VALUE=DATE:20241124
DTSTAMP:20260421T045029
CREATED:20241117T194753Z
LAST-MODIFIED:20241117T194753Z
UID:10010884-1732320000-1732406399@savannahfoodtruckforce.com
SUMMARY:-
DESCRIPTION:
URL:https://savannahfoodtruckforce.com/schedule/52331/
LOCATION:Service Brewing\, 574 Indian Street\, Savannah\, GA\, 31401\, United States
ORGANIZER;CN="Ark Royal Burgers":MAILTO:arkroyalburgers@gmail.com
END:VEVENT
BEGIN:VEVENT
DTSTART;TZID=America/New_York:20241122T180000
DTEND;TZID=America/New_York:20241122T210000
DTSTAMP:20260421T045029
CREATED:20241117T194734Z
LAST-MODIFIED:20241117T194734Z
UID:10010912-1732298400-1732309200@savannahfoodtruckforce.com
SUMMARY:-
DESCRIPTION:
URL:https://savannahfoodtruckforce.com/schedule/52390/
LOCATION:Service Brewing\, 574 Indian Street\, Savannah\, GA\, 31401\, United States
ORGANIZER;CN="Slow Fire BBQ":MAILTO:Contact@slowfirebbq.com
END:VEVENT
BEGIN:VEVENT
DTSTART;TZID=America/New_York:20241107T170000
DTEND;TZID=America/New_York:20241107T193000
DTSTAMP:20260421T045029
CREATED:20241103T220932Z
LAST-MODIFIED:20241107T144653Z
UID:10010849-1730998800-1731007800@savannahfoodtruckforce.com
SUMMARY:-
DESCRIPTION:
URL:https://savannahfoodtruckforce.com/schedule/52237/
LOCATION:Service Brewing\, 574 Indian Street\, Savannah\, GA\, 31401\, United States
ORGANIZER;CN="Jonny Boy Cookies":MAILTO:info@jonnyboycookies.com
END:VEVENT
BEGIN:VEVENT
DTSTART;TZID=America/New_York:20241031T170000
DTEND;TZID=America/New_York:20241031T193000
DTSTAMP:20260421T045029
CREATED:20241019T010219Z
LAST-MODIFIED:20241019T010327Z
UID:10010788-1730394000-1730403000@savannahfoodtruckforce.com
SUMMARY:-
DESCRIPTION:
URL:https://savannahfoodtruckforce.com/schedule/52113/
LOCATION:Service Brewing\, 574 Indian Street\, Savannah\, GA\, 31401\, United States
ORGANIZER;CN="Top Dog":MAILTO:Topdogsfoodtruck@gmail.com
END:VEVENT
BEGIN:VEVENT
DTSTART;TZID=America/New_York:20241025T170000
DTEND;TZID=America/New_York:20241025T193000
DTSTAMP:20260421T045029
CREATED:20241019T010447Z
LAST-MODIFIED:20241019T010447Z
UID:10010721-1729875600-1729884600@savannahfoodtruckforce.com
SUMMARY:-
DESCRIPTION:
URL:https://savannahfoodtruckforce.com/schedule/51975/
LOCATION:Service Brewing\, 574 Indian Street\, Savannah\, GA\, 31401\, United States
ORGANIZER;CN="Bayou Cafe":MAILTO:Bayousavannah@gmail.com
END:VEVENT
BEGIN:VEVENT
DTSTART;TZID=America/New_York:20241017T170000
DTEND;TZID=America/New_York:20241017T193000
DTSTAMP:20260421T045029
CREATED:20241004T160158Z
LAST-MODIFIED:20241004T160158Z
UID:10010701-1729184400-1729193400@savannahfoodtruckforce.com
SUMMARY:-
DESCRIPTION:
URL:https://savannahfoodtruckforce.com/schedule/51942/
LOCATION:Service Brewing\, 574 Indian Street\, Savannah\, GA\, 31401\, United States
ORGANIZER;CN="Jonny Boy Cookies":MAILTO:info@jonnyboycookies.com
END:VEVENT
BEGIN:VEVENT
DTSTART;TZID=America/New_York:20240929T123000
DTEND;TZID=America/New_York:20240929T170000
DTSTAMP:20260421T045029
CREATED:20240921T011020Z
LAST-MODIFIED:20240921T011020Z
UID:10010553-1727613000-1727629200@savannahfoodtruckforce.com
SUMMARY:-
DESCRIPTION:
URL:https://savannahfoodtruckforce.com/schedule/51635/
LOCATION:Service Brewing\, 574 Indian Street\, Savannah\, GA\, 31401\, United States
END:VEVENT
BEGIN:VEVENT
DTSTART;TZID=America/New_York:20240928T123000
DTEND;TZID=America/New_York:20240928T203000
DTSTAMP:20260421T045029
CREATED:20240921T011040Z
LAST-MODIFIED:20240921T011040Z
UID:10010610-1727526600-1727555400@savannahfoodtruckforce.com
SUMMARY:-
DESCRIPTION:
URL:https://savannahfoodtruckforce.com/schedule/51752/
LOCATION:Service Brewing\, 574 Indian Street\, Savannah\, GA\, 31401\, United States
ORGANIZER;CN="Oh Crepe!":MAILTO:ohcrepesav@gmail.com
END:VEVENT
BEGIN:VEVENT
DTSTART;TZID=America/New_York:20240915T110000
DTEND;TZID=America/New_York:20240915T140000
DTSTAMP:20260421T045029
CREATED:20240907T160858Z
LAST-MODIFIED:20240907T160858Z
UID:10010529-1726398000-1726408800@savannahfoodtruckforce.com
SUMMARY:-
DESCRIPTION:
URL:https://savannahfoodtruckforce.com/schedule/51513/
LOCATION:Service Brewing\, 574 Indian Street\, Savannah\, GA\, 31401\, United States
ORGANIZER;CN="Oh Crepe!":MAILTO:ohcrepesav@gmail.com
END:VEVENT
BEGIN:VEVENT
DTSTART;TZID=America/New_York:20240914T160000
DTEND;TZID=America/New_York:20240914T210000
DTSTAMP:20260421T045029
CREATED:20240907T160858Z
LAST-MODIFIED:20240907T160858Z
UID:10010538-1726329600-1726347600@savannahfoodtruckforce.com
SUMMARY:-
DESCRIPTION:
URL:https://savannahfoodtruckforce.com/schedule/51531/
LOCATION:Service Brewing\, 574 Indian Street\, Savannah\, GA\, 31401\, United States
ORGANIZER;CN="Top Dog":MAILTO:Topdogsfoodtruck@gmail.com
END:VEVENT
BEGIN:VEVENT
DTSTART;TZID=America/New_York:20240908T160000
DTEND;TZID=America/New_York:20240908T220000
DTSTAMP:20260421T045029
CREATED:20240823T193518Z
LAST-MODIFIED:20240823T193518Z
UID:10010376-1725811200-1725832800@savannahfoodtruckforce.com
SUMMARY:-
DESCRIPTION:
URL:https://savannahfoodtruckforce.com/schedule/51145/
LOCATION:Service Brewing\, 574 Indian Street\, Savannah\, GA\, 31401\, United States
ORGANIZER;CN="Bowtie Barbecue Co.":MAILTO:Danielle@donaldsonenterprises.com
END:VEVENT
BEGIN:VEVENT
DTSTART;TZID=America/New_York:20240905T170000
DTEND;TZID=America/New_York:20240905T210000
DTSTAMP:20260421T045029
CREATED:20240823T193457Z
LAST-MODIFIED:20240823T193457Z
UID:10010415-1725555600-1725570000@savannahfoodtruckforce.com
SUMMARY:-
DESCRIPTION:
URL:https://savannahfoodtruckforce.com/schedule/51224/
LOCATION:Service Brewing\, 574 Indian Street\, Savannah\, GA\, 31401\, United States
ORGANIZER;CN="Krazian":MAILTO:krazian2@gmail.com
END:VEVENT
END:VCALENDAR