BEGIN:VCALENDAR
VERSION:2.0
PRODID:-//Savannah Food Truck Force - ECPv6.15.12.2//NONSGML v1.0//EN
CALSCALE:GREGORIAN
METHOD:PUBLISH
X-ORIGINAL-URL:https://savannahfoodtruckforce.com
X-WR-CALDESC:Events for Savannah Food Truck Force
REFRESH-INTERVAL;VALUE=DURATION:PT1H
X-Robots-Tag:noindex
X-PUBLISHED-TTL:PT1H
BEGIN:VTIMEZONE
TZID:America/New_York
BEGIN:DAYLIGHT
TZOFFSETFROM:-0500
TZOFFSETTO:-0400
TZNAME:EDT
DTSTART:20230312T070000
END:DAYLIGHT
BEGIN:STANDARD
TZOFFSETFROM:-0400
TZOFFSETTO:-0500
TZNAME:EST
DTSTART:20231105T060000
END:STANDARD
BEGIN:DAYLIGHT
TZOFFSETFROM:-0500
TZOFFSETTO:-0400
TZNAME:EDT
DTSTART:20240310T070000
END:DAYLIGHT
BEGIN:STANDARD
TZOFFSETFROM:-0400
TZOFFSETTO:-0500
TZNAME:EST
DTSTART:20241103T060000
END:STANDARD
BEGIN:DAYLIGHT
TZOFFSETFROM:-0500
TZOFFSETTO:-0400
TZNAME:EDT
DTSTART:20250309T070000
END:DAYLIGHT
BEGIN:STANDARD
TZOFFSETFROM:-0400
TZOFFSETTO:-0500
TZNAME:EST
DTSTART:20251102T060000
END:STANDARD
BEGIN:DAYLIGHT
TZOFFSETFROM:-0500
TZOFFSETTO:-0400
TZNAME:EDT
DTSTART:20260308T070000
END:DAYLIGHT
BEGIN:STANDARD
TZOFFSETFROM:-0400
TZOFFSETTO:-0500
TZNAME:EST
DTSTART:20261101T060000
END:STANDARD
BEGIN:DAYLIGHT
TZOFFSETFROM:-0500
TZOFFSETTO:-0400
TZNAME:EDT
DTSTART:20270314T070000
END:DAYLIGHT
BEGIN:STANDARD
TZOFFSETFROM:-0400
TZOFFSETTO:-0500
TZNAME:EST
DTSTART:20271107T060000
END:STANDARD
END:VTIMEZONE
BEGIN:VEVENT
DTSTART;TZID=America/New_York:20260407T170000
DTEND;TZID=America/New_York:20260407T193000
DTSTAMP:20260423T070715
CREATED:20260406T033807Z
LAST-MODIFIED:20260406T033807Z
UID:10013465-1775581200-1775590200@savannahfoodtruckforce.com
SUMMARY:-
DESCRIPTION:
URL:https://savannahfoodtruckforce.com/schedule/60078/
LOCATION:The Carlyle at Godley Station – Pooler\, GA\, 385 Godley Station Blvd\,\, Pooler\, GA\, 31322\, United States
ORGANIZER;CN="Bayou Cafe":MAILTO:Bayousavannah@gmail.com
END:VEVENT
BEGIN:VEVENT
DTSTART;TZID=America/New_York:20260226T170000
DTEND;TZID=America/New_York:20260226T193000
DTSTAMP:20260423T070715
CREATED:20260220T150935Z
LAST-MODIFIED:20260220T150935Z
UID:10013327-1772125200-1772134200@savannahfoodtruckforce.com
SUMMARY:-
DESCRIPTION:
URL:https://savannahfoodtruckforce.com/schedule/59792/
LOCATION:The Carlyle at Godley Station – Pooler\, GA\, 385 Godley Station Blvd\,\, Pooler\, GA\, 31322\, United States
ORGANIZER;CN="The Naked Dog":MAILTO:nakeddogfoodtruck@gmail.com
END:VEVENT
BEGIN:VEVENT
DTSTART;TZID=America/New_York:20260220T170000
DTEND;TZID=America/New_York:20260220T193000
DTSTAMP:20260423T070715
CREATED:20260208T191929Z
LAST-MODIFIED:20260218T170109Z
UID:10013212-1771606800-1771615800@savannahfoodtruckforce.com
SUMMARY:-
DESCRIPTION:
URL:https://savannahfoodtruckforce.com/schedule/59537/
LOCATION:The Carlyle at Godley Station – Pooler\, GA\, 385 Godley Station Blvd\,\, Pooler\, GA\, 31322\, United States
ORGANIZER;CN="Philly Boyz Cheese Steaks":MAILTO:phillyboyzga@gmail.com
END:VEVENT
BEGIN:VEVENT
DTSTART;TZID=America/New_York:20260121T170000
DTEND;TZID=America/New_York:20260121T193000
DTSTAMP:20260423T070715
CREATED:20260111T005546Z
LAST-MODIFIED:20260121T183517Z
UID:10013095-1769014800-1769023800@savannahfoodtruckforce.com
SUMMARY:-
DESCRIPTION:
URL:https://savannahfoodtruckforce.com/schedule/59300/
LOCATION:The Carlyle at Godley Station – Pooler\, GA\, 385 Godley Station Blvd\,\, Pooler\, GA\, 31322\, United States
ORGANIZER;CN="The Naked Dog":MAILTO:nakeddogfoodtruck@gmail.com
END:VEVENT
BEGIN:VEVENT
DTSTART;TZID=America/New_York:20251210T170000
DTEND;TZID=America/New_York:20251210T193000
DTSTAMP:20260423T070715
CREATED:20251128T234734Z
LAST-MODIFIED:20251128T234734Z
UID:10012905-1765386000-1765395000@savannahfoodtruckforce.com
SUMMARY:-
DESCRIPTION:
URL:https://savannahfoodtruckforce.com/schedule/58816/
LOCATION:The Carlyle at Godley Station – Pooler\, GA\, 385 Godley Station Blvd\,\, Pooler\, GA\, 31322\, United States
ORGANIZER;CN="Mexicali Fresh":MAILTO:https://www.mexicalifresh.net/contact/
END:VEVENT
BEGIN:VEVENT
DTSTART;TZID=America/New_York:20251008T170000
DTEND;TZID=America/New_York:20251008T193000
DTSTAMP:20260423T070715
CREATED:20251004T003828Z
LAST-MODIFIED:20251008T193824Z
UID:10012625-1759942800-1759951800@savannahfoodtruckforce.com
SUMMARY:-
DESCRIPTION:
URL:https://savannahfoodtruckforce.com/schedule/58244/
LOCATION:The Carlyle at Godley Station – Pooler\, GA\, 385 Godley Station Blvd\,\, Pooler\, GA\, 31322\, United States
ORGANIZER;CN="It's a Jerk Shack":MAILTO:itsajerkshack@gmail.com
END:VEVENT
BEGIN:VEVENT
DTSTART;TZID=America/New_York:20250910T170000
DTEND;TZID=America/New_York:20250910T193000
DTSTAMP:20260423T070715
CREATED:20250907T162456Z
LAST-MODIFIED:20250907T162456Z
UID:10012440-1757523600-1757532600@savannahfoodtruckforce.com
SUMMARY:-
DESCRIPTION:
URL:https://savannahfoodtruckforce.com/schedule/55808/
LOCATION:The Carlyle at Godley Station – Pooler\, GA\, 385 Godley Station Blvd\,\, Pooler\, GA\, 31322\, United States
ORGANIZER;CN="Philly Boyz Cheese Steaks":MAILTO:phillyboyzga@gmail.com
END:VEVENT
BEGIN:VEVENT
DTSTART;TZID=America/New_York:20250806T170000
DTEND;TZID=America/New_York:20250806T193000
DTSTAMP:20260423T070715
CREATED:20250728T005948Z
LAST-MODIFIED:20250728T005948Z
UID:10012193-1754499600-1754508600@savannahfoodtruckforce.com
SUMMARY:-
DESCRIPTION:
URL:https://savannahfoodtruckforce.com/schedule/55268/
LOCATION:The Carlyle at Godley Station – Pooler\, GA\, 385 Godley Station Blvd\,\, Pooler\, GA\, 31322\, United States
ORGANIZER;CN="Chazitos Latin Cuisine":MAILTO:Chazitosfoodtruck@gmail.com
END:VEVENT
BEGIN:VEVENT
DTSTART;TZID=America/New_York:20250708T170000
DTEND;TZID=America/New_York:20250708T193000
DTSTAMP:20260423T070715
CREATED:20250628T162520Z
LAST-MODIFIED:20250628T162520Z
UID:10012106-1751994000-1752003000@savannahfoodtruckforce.com
SUMMARY:-
DESCRIPTION:
URL:https://savannahfoodtruckforce.com/schedule/55073/
LOCATION:The Carlyle at Godley Station – Pooler\, GA\, 385 Godley Station Blvd\,\, Pooler\, GA\, 31322\, United States
ORGANIZER;CN="Top Dog":MAILTO:Topdogsfoodtruck@gmail.com
END:VEVENT
BEGIN:VEVENT
DTSTART;TZID=America/New_York:20250625T170000
DTEND;TZID=America/New_York:20250625T193000
DTSTAMP:20260423T070715
CREATED:20250615T194034Z
LAST-MODIFIED:20250615T194034Z
UID:10011992-1750870800-1750879800@savannahfoodtruckforce.com
SUMMARY:-
DESCRIPTION:
URL:https://savannahfoodtruckforce.com/schedule/54834/
LOCATION:The Carlyle at Godley Station – Pooler\, GA\, 385 Godley Station Blvd\,\, Pooler\, GA\, 31322\, United States
ORGANIZER;CN="Mexicali Fresh":MAILTO:https://www.mexicalifresh.net/contact/
END:VEVENT
BEGIN:VEVENT
DTSTART;TZID=America/New_York:20250610T170000
DTEND;TZID=America/New_York:20250610T193000
DTSTAMP:20260423T070715
CREATED:20250601T171208Z
LAST-MODIFIED:20250601T171208Z
UID:10011907-1749574800-1749583800@savannahfoodtruckforce.com
SUMMARY:-
DESCRIPTION:
URL:https://savannahfoodtruckforce.com/schedule/54649/
LOCATION:The Carlyle at Godley Station – Pooler\, GA\, 385 Godley Station Blvd\,\, Pooler\, GA\, 31322\, United States
ORGANIZER;CN="520 Wings":MAILTO:520wingssav@gmail.com
END:VEVENT
BEGIN:VEVENT
DTSTART;TZID=America/New_York:20250515T170000
DTEND;TZID=America/New_York:20250515T193000
DTSTAMP:20260423T070715
CREATED:20250503T230946Z
LAST-MODIFIED:20250503T230946Z
UID:10011719-1747328400-1747337400@savannahfoodtruckforce.com
SUMMARY:-
DESCRIPTION:
URL:https://savannahfoodtruckforce.com/schedule/54201/
LOCATION:The Carlyle at Godley Station – Pooler\, GA\, 385 Godley Station Blvd\,\, Pooler\, GA\, 31322\, United States
ORGANIZER;CN="It's a Jerk Shack":MAILTO:itsajerkshack@gmail.com
END:VEVENT
BEGIN:VEVENT
DTSTART;TZID=America/New_York:20250411T170000
DTEND;TZID=America/New_York:20250411T193000
DTSTAMP:20260423T070715
CREATED:20250405T202147Z
LAST-MODIFIED:20250405T202147Z
UID:10011590-1744390800-1744399800@savannahfoodtruckforce.com
SUMMARY:-
DESCRIPTION:
URL:https://savannahfoodtruckforce.com/schedule/53883/
LOCATION:The Carlyle at Godley Station – Pooler\, GA\, 385 Godley Station Blvd\,\, Pooler\, GA\, 31322\, United States
ORGANIZER;CN="Top Dog":MAILTO:Topdogsfoodtruck@gmail.com
END:VEVENT
BEGIN:VEVENT
DTSTART;TZID=America/New_York:20250326T170000
DTEND;TZID=America/New_York:20250326T193000
DTSTAMP:20260423T070715
CREATED:20250322T002635Z
LAST-MODIFIED:20250324T112456Z
UID:10011487-1743008400-1743017400@savannahfoodtruckforce.com
SUMMARY:-
DESCRIPTION:
URL:https://savannahfoodtruckforce.com/schedule/53667/
LOCATION:The Carlyle at Godley Station – Pooler\, GA\, 385 Godley Station Blvd\,\, Pooler\, GA\, 31322\, United States
ORGANIZER;CN="Top Dog":MAILTO:Topdogsfoodtruck@gmail.com
END:VEVENT
BEGIN:VEVENT
DTSTART;TZID=America/New_York:20250225T170000
DTEND;TZID=America/New_York:20250225T193000
DTSTAMP:20260423T070715
CREATED:20250220T232514Z
LAST-MODIFIED:20250220T232514Z
UID:10011376-1740502800-1740511800@savannahfoodtruckforce.com
SUMMARY:-
DESCRIPTION:
URL:https://savannahfoodtruckforce.com/schedule/53437/
LOCATION:The Carlyle at Godley Station – Pooler\, GA\, 385 Godley Station Blvd\,\, Pooler\, GA\, 31322\, United States
ORGANIZER;CN="520 Wings":MAILTO:520wingssav@gmail.com
END:VEVENT
BEGIN:VEVENT
DTSTART;TZID=America/New_York:20250204T170000
DTEND;TZID=America/New_York:20250204T193000
DTSTAMP:20260423T070715
CREATED:20250124T212749Z
LAST-MODIFIED:20250124T212749Z
UID:10011169-1738688400-1738697400@savannahfoodtruckforce.com
SUMMARY:-
DESCRIPTION:
URL:https://savannahfoodtruckforce.com/schedule/52979/
LOCATION:The Carlyle at Godley Station – Pooler\, GA\, 385 Godley Station Blvd\,\, Pooler\, GA\, 31322\, United States
ORGANIZER;CN="Chazitos Latin Cuisine":MAILTO:Chazitosfoodtruck@gmail.com
END:VEVENT
BEGIN:VEVENT
DTSTART;TZID=America/New_York:20250114T170000
DTEND;TZID=America/New_York:20250114T193000
DTSTAMP:20260423T070715
CREATED:20250110T011918Z
LAST-MODIFIED:20250110T011918Z
UID:10011113-1736874000-1736883000@savannahfoodtruckforce.com
SUMMARY:-
DESCRIPTION:
URL:https://savannahfoodtruckforce.com/schedule/52843/
LOCATION:The Carlyle at Godley Station – Pooler\, GA\, 385 Godley Station Blvd\,\, Pooler\, GA\, 31322\, United States
ORGANIZER;CN="Philly Boyz Cheese Steaks":MAILTO:phillyboyzga@gmail.com
END:VEVENT
BEGIN:VEVENT
DTSTART;TZID=America/New_York:20241218T170000
DTEND;TZID=America/New_York:20241218T193000
DTSTAMP:20260423T070715
CREATED:20241214T154014Z
LAST-MODIFIED:20241214T154014Z
UID:10010999-1734541200-1734550200@savannahfoodtruckforce.com
SUMMARY:-
DESCRIPTION:
URL:https://savannahfoodtruckforce.com/schedule/52579/
LOCATION:The Carlyle at Godley Station – Pooler\, GA\, 385 Godley Station Blvd\,\, Pooler\, GA\, 31322\, United States
ORGANIZER;CN="Pie Society":MAILTO:hello@thebritishpiecompany.com
END:VEVENT
BEGIN:VEVENT
DTSTART;TZID=America/New_York:20241119T170000
DTEND;TZID=America/New_York:20241119T193000
DTSTAMP:20260423T070715
CREATED:20241117T194734Z
LAST-MODIFIED:20241117T194734Z
UID:10010913-1732035600-1732044600@savannahfoodtruckforce.com
SUMMARY:-
DESCRIPTION:
URL:https://savannahfoodtruckforce.com/schedule/52392/
LOCATION:The Carlyle at Godley Station – Pooler\, GA\, 385 Godley Station Blvd\,\, Pooler\, GA\, 31322\, United States
ORGANIZER;CN="Top Dog":MAILTO:Topdogsfoodtruck@gmail.com
END:VEVENT
BEGIN:VEVENT
DTSTART;TZID=America/New_York:20241023T170000
DTEND;TZID=America/New_York:20241023T193000
DTSTAMP:20260423T070715
CREATED:20241019T010358Z
LAST-MODIFIED:20241019T010358Z
UID:10010758-1729702800-1729711800@savannahfoodtruckforce.com
SUMMARY:-
DESCRIPTION:
URL:https://savannahfoodtruckforce.com/schedule/52049/
LOCATION:The Carlyle at Godley Station – Pooler\, GA\, 385 Godley Station Blvd\,\, Pooler\, GA\, 31322\, United States
ORGANIZER;CN="It's a Jerk Shack":MAILTO:itsajerkshack@gmail.com
END:VEVENT
BEGIN:VEVENT
DTSTART;TZID=America/New_York:20241004T170000
DTEND;TZID=America/New_York:20241004T193000
DTSTAMP:20260423T070715
CREATED:20240921T011040Z
LAST-MODIFIED:20241004T115958Z
UID:10010623-1728061200-1728070200@savannahfoodtruckforce.com
SUMMARY:-
DESCRIPTION:
URL:https://savannahfoodtruckforce.com/schedule/51776/
LOCATION:The Carlyle at Godley Station – Pooler\, GA\, 385 Godley Station Blvd\,\, Pooler\, GA\, 31322\, United States
ORGANIZER;CN="Top Dog":MAILTO:Topdogsfoodtruck@gmail.com
END:VEVENT
BEGIN:VEVENT
DTSTART;TZID=America/New_York:20240917T170000
DTEND;TZID=America/New_York:20240917T193000
DTSTAMP:20260423T070715
CREATED:20240907T160923Z
LAST-MODIFIED:20240907T160923Z
UID:10010490-1726592400-1726601400@savannahfoodtruckforce.com
SUMMARY:-
DESCRIPTION:
URL:https://savannahfoodtruckforce.com/schedule/51407/
LOCATION:The Carlyle at Godley Station – Pooler\, GA\, 385 Godley Station Blvd\,\, Pooler\, GA\, 31322\, United States
ORGANIZER;CN="Chazitos Latin Cuisine":MAILTO:Chazitosfoodtruck@gmail.com
END:VEVENT
BEGIN:VEVENT
DTSTART;TZID=America/New_York:20240904T170000
DTEND;TZID=America/New_York:20240904T193000
DTSTAMP:20260423T070715
CREATED:20240823T193519Z
LAST-MODIFIED:20240823T193519Z
UID:10010373-1725469200-1725478200@savannahfoodtruckforce.com
SUMMARY:-
DESCRIPTION:
URL:https://savannahfoodtruckforce.com/schedule/51139/
LOCATION:The Carlyle at Godley Station – Pooler\, GA\, 385 Godley Station Blvd\,\, Pooler\, GA\, 31322\, United States
ORGANIZER;CN="Bowtie Barbecue Co.":MAILTO:Danielle@donaldsonenterprises.com
END:VEVENT
BEGIN:VEVENT
DTSTART;TZID=America/New_York:20240823T170000
DTEND;TZID=America/New_York:20240823T193000
DTSTAMP:20260423T070715
CREATED:20240810T160448Z
LAST-MODIFIED:20240810T160448Z
UID:10010269-1724432400-1724441400@savannahfoodtruckforce.com
SUMMARY:-
DESCRIPTION:
URL:https://savannahfoodtruckforce.com/schedule/50895/
LOCATION:The Carlyle at Godley Station – Pooler\, GA\, 385 Godley Station Blvd\,\, Pooler\, GA\, 31322\, United States
ORGANIZER;CN="Bayou Cafe":MAILTO:Bayousavannah@gmail.com
END:VEVENT
BEGIN:VEVENT
DTSTART;TZID=America/New_York:20240730T170000
DTEND;TZID=America/New_York:20240730T193000
DTSTAMP:20260423T070715
CREATED:20240726T000358Z
LAST-MODIFIED:20240726T152629Z
UID:10010216-1722358800-1722367800@savannahfoodtruckforce.com
SUMMARY:-
DESCRIPTION:
URL:https://savannahfoodtruckforce.com/schedule/50730/
LOCATION:The Carlyle at Godley Station – Pooler\, GA\, 385 Godley Station Blvd\,\, Pooler\, GA\, 31322\, United States
ORGANIZER;CN="Ark Royal Burgers":MAILTO:arkroyalburgers@gmail.com
END:VEVENT
BEGIN:VEVENT
DTSTART;TZID=America/New_York:20240723T170000
DTEND;TZID=America/New_York:20240723T193000
DTSTAMP:20260423T070715
CREATED:20240713T011959Z
LAST-MODIFIED:20240723T124748Z
UID:10010191-1721754000-1721763000@savannahfoodtruckforce.com
SUMMARY:-
DESCRIPTION:
URL:https://savannahfoodtruckforce.com/schedule/50480/
LOCATION:The Carlyle at Godley Station – Pooler\, GA\, 385 Godley Station Blvd\,\, Pooler\, GA\, 31322\, United States
ORGANIZER;CN="Mac Attack":MAILTO:macattackfs@yahoo.com
END:VEVENT
BEGIN:VEVENT
DTSTART;TZID=America/New_York:20240605T170000
DTEND;TZID=America/New_York:20240605T193000
DTSTAMP:20260423T070715
CREATED:20240602T191656Z
LAST-MODIFIED:20240602T191656Z
UID:10009822-1717606800-1717615800@savannahfoodtruckforce.com
SUMMARY:-
DESCRIPTION:
URL:https://savannahfoodtruckforce.com/schedule/35884/
LOCATION:The Carlyle at Godley Station – Pooler\, GA\, 385 Godley Station Blvd\,\, Pooler\, GA\, 31322\, United States
END:VEVENT
BEGIN:VEVENT
DTSTART;TZID=America/New_York:20240522T170000
DTEND;TZID=America/New_York:20240522T193000
DTSTAMP:20260423T070715
CREATED:20240517T234434Z
LAST-MODIFIED:20240517T234434Z
UID:10009763-1716397200-1716406200@savannahfoodtruckforce.com
SUMMARY:-
DESCRIPTION:
URL:https://savannahfoodtruckforce.com/schedule/35736/
LOCATION:The Carlyle at Godley Station – Pooler\, GA\, 385 Godley Station Blvd\,\, Pooler\, GA\, 31322\, United States
ORGANIZER;CN="It's a Jerk Shack":MAILTO:itsajerkshack@gmail.com
END:VEVENT
BEGIN:VEVENT
DTSTART;TZID=America/New_York:20240410T170000
DTEND;TZID=America/New_York:20240410T193000
DTSTAMP:20260423T070715
CREATED:20240405T232307Z
LAST-MODIFIED:20240405T232307Z
UID:10009492-1712768400-1712777400@savannahfoodtruckforce.com
SUMMARY:-
DESCRIPTION:
URL:https://savannahfoodtruckforce.com/schedule/27687/
LOCATION:The Carlyle at Godley Station – Pooler\, GA\, 385 Godley Station Blvd\,\, Pooler\, GA\, 31322\, United States
ORGANIZER;CN="Bowtie Barbecue Co.":MAILTO:Danielle@donaldsonenterprises.com
END:VEVENT
BEGIN:VEVENT
DTSTART;TZID=America/New_York:20240305T170000
DTEND;TZID=America/New_York:20240305T193000
DTSTAMP:20260423T070715
CREATED:20240224T013426Z
LAST-MODIFIED:20240305T134108Z
UID:10009321-1709658000-1709667000@savannahfoodtruckforce.com
SUMMARY:-
DESCRIPTION:
URL:https://savannahfoodtruckforce.com/schedule/27275/
LOCATION:The Carlyle at Godley Station – Pooler\, GA\, 385 Godley Station Blvd\,\, Pooler\, GA\, 31322\, United States
ORGANIZER;CN="Chazitos Latin Cuisine":MAILTO:Chazitosfoodtruck@gmail.com
END:VEVENT
END:VCALENDAR