BEGIN:VCALENDAR
VERSION:2.0
PRODID:-//Savannah Food Truck Force - ECPv6.15.12.2//NONSGML v1.0//EN
CALSCALE:GREGORIAN
METHOD:PUBLISH
X-WR-CALNAME:Savannah Food Truck Force
X-ORIGINAL-URL:https://savannahfoodtruckforce.com
X-WR-CALDESC:Events for Savannah Food Truck Force
REFRESH-INTERVAL;VALUE=DURATION:PT1H
X-Robots-Tag:noindex
X-PUBLISHED-TTL:PT1H
BEGIN:VTIMEZONE
TZID:America/New_York
BEGIN:DAYLIGHT
TZOFFSETFROM:-0500
TZOFFSETTO:-0400
TZNAME:EDT
DTSTART:20230312T070000
END:DAYLIGHT
BEGIN:STANDARD
TZOFFSETFROM:-0400
TZOFFSETTO:-0500
TZNAME:EST
DTSTART:20231105T060000
END:STANDARD
BEGIN:DAYLIGHT
TZOFFSETFROM:-0500
TZOFFSETTO:-0400
TZNAME:EDT
DTSTART:20240310T070000
END:DAYLIGHT
BEGIN:STANDARD
TZOFFSETFROM:-0400
TZOFFSETTO:-0500
TZNAME:EST
DTSTART:20241103T060000
END:STANDARD
BEGIN:DAYLIGHT
TZOFFSETFROM:-0500
TZOFFSETTO:-0400
TZNAME:EDT
DTSTART:20250309T070000
END:DAYLIGHT
BEGIN:STANDARD
TZOFFSETFROM:-0400
TZOFFSETTO:-0500
TZNAME:EST
DTSTART:20251102T060000
END:STANDARD
BEGIN:DAYLIGHT
TZOFFSETFROM:-0500
TZOFFSETTO:-0400
TZNAME:EDT
DTSTART:20260308T070000
END:DAYLIGHT
BEGIN:STANDARD
TZOFFSETFROM:-0400
TZOFFSETTO:-0500
TZNAME:EST
DTSTART:20261101T060000
END:STANDARD
BEGIN:DAYLIGHT
TZOFFSETFROM:-0500
TZOFFSETTO:-0400
TZNAME:EDT
DTSTART:20270314T070000
END:DAYLIGHT
BEGIN:STANDARD
TZOFFSETFROM:-0400
TZOFFSETTO:-0500
TZNAME:EST
DTSTART:20271107T060000
END:STANDARD
END:VTIMEZONE
BEGIN:VEVENT
DTSTART;TZID=America/New_York:20260304T170000
DTEND;TZID=America/New_York:20260304T193000
DTSTAMP:20260421T062628
CREATED:20260220T150916Z
LAST-MODIFIED:20260220T150916Z
UID:10013270-1772643600-1772652600@savannahfoodtruckforce.com
SUMMARY:-
DESCRIPTION:
URL:https://savannahfoodtruckforce.com/schedule/59678/
LOCATION:The Retreat at Garden Lake\, 4024 Kessler Avenue\, Garden City\, GA\, 31408\, United States
ORGANIZER;CN="Bowtie Barbecue Co.":MAILTO:Danielle@donaldsonenterprises.com
END:VEVENT
BEGIN:VEVENT
DTSTART;TZID=America/New_York:20260128T170000
DTEND;TZID=America/New_York:20260128T193000
DTSTAMP:20260421T062628
CREATED:20260124T182053Z
LAST-MODIFIED:20260126T201439Z
UID:10013138-1769619600-1769628600@savannahfoodtruckforce.com
SUMMARY:-
DESCRIPTION:
URL:https://savannahfoodtruckforce.com/schedule/59386/
LOCATION:The Retreat at Garden Lake\, 4024 Kessler Avenue\, Garden City\, GA\, 31408\, United States
ORGANIZER;CN="Latin Chicks":MAILTO:latinchicks.bookings@gmail.com
END:VEVENT
BEGIN:VEVENT
DTSTART;TZID=America/New_York:20260115T170000
DTEND;TZID=America/New_York:20260115T193000
DTSTAMP:20260421T062628
CREATED:20260111T005604Z
LAST-MODIFIED:20260111T005604Z
UID:10013044-1768496400-1768505400@savannahfoodtruckforce.com
SUMMARY:-
DESCRIPTION:
URL:https://savannahfoodtruckforce.com/schedule/59198/
LOCATION:The Retreat at Garden Lake\, 4024 Kessler Avenue\, Garden City\, GA\, 31408\, United States
ORGANIZER;CN="Chazitos Latin Cuisine":MAILTO:Chazitosfoodtruck@gmail.com
END:VEVENT
BEGIN:VEVENT
DTSTART;TZID=America/New_York:20251208T170000
DTEND;TZID=America/New_York:20251208T193000
DTSTAMP:20260421T062628
CREATED:20251128T234734Z
LAST-MODIFIED:20251128T234734Z
UID:10012869-1765213200-1765222200@savannahfoodtruckforce.com
SUMMARY:-
DESCRIPTION:
URL:https://savannahfoodtruckforce.com/schedule/58744/
LOCATION:The Retreat at Garden Lake\, 4024 Kessler Avenue\, Garden City\, GA\, 31408\, United States
ORGANIZER;CN="Philly Boyz Cheese Steaks":MAILTO:phillyboyzga@gmail.com
END:VEVENT
BEGIN:VEVENT
DTSTART;TZID=America/New_York:20251104T170000
DTEND;TZID=America/New_York:20251104T193000
DTSTAMP:20260421T062628
CREATED:20251101T171414Z
LAST-MODIFIED:20251104T192527Z
UID:10012789-1762275600-1762284600@savannahfoodtruckforce.com
SUMMARY:-
DESCRIPTION:
URL:https://savannahfoodtruckforce.com/schedule/58578/
LOCATION:The Retreat at Garden Lake\, 4024 Kessler Avenue\, Garden City\, GA\, 31408\, United States
ORGANIZER;CN="Latin Chicks":MAILTO:latinchicks.bookings@gmail.com
END:VEVENT
BEGIN:VEVENT
DTSTART;TZID=America/New_York:20251022T170000
DTEND;TZID=America/New_York:20251022T193000
DTSTAMP:20260421T062628
CREATED:20251017T192346Z
LAST-MODIFIED:20251022T141750Z
UID:10012706-1761152400-1761161400@savannahfoodtruckforce.com
SUMMARY:-
DESCRIPTION:
URL:https://savannahfoodtruckforce.com/schedule/58409/
LOCATION:The Retreat at Garden Lake\, 4024 Kessler Avenue\, Garden City\, GA\, 31408\, United States
ORGANIZER;CN="Krazian":MAILTO:krazian2@gmail.com
END:VEVENT
BEGIN:VEVENT
DTSTART;TZID=America/New_York:20251008T170000
DTEND;TZID=America/New_York:20251008T193000
DTSTAMP:20260421T062628
CREATED:20251004T003828Z
LAST-MODIFIED:20251008T172025Z
UID:10012611-1759942800-1759951800@savannahfoodtruckforce.com
SUMMARY:-
DESCRIPTION:
URL:https://savannahfoodtruckforce.com/schedule/58216/
LOCATION:The Retreat at Garden Lake\, 4024 Kessler Avenue\, Garden City\, GA\, 31408\, United States
ORGANIZER;CN="Royal Tasty Avenue":MAILTO:royaltastyavenuefoodtruck@gmail.com
END:VEVENT
BEGIN:VEVENT
DTSTART;TZID=America/New_York:20250917T170000
DTEND;TZID=America/New_York:20250917T193000
DTSTAMP:20260421T062628
CREATED:20250907T162435Z
LAST-MODIFIED:20250915T124013Z
UID:10012479-1758128400-1758137400@savannahfoodtruckforce.com
SUMMARY:-
DESCRIPTION:
URL:https://savannahfoodtruckforce.com/schedule/55890/
LOCATION:The Retreat at Garden Lake\, 4024 Kessler Avenue\, Garden City\, GA\, 31408\, United States
ORGANIZER;CN="520 Wings":MAILTO:520wingssav@gmail.com
END:VEVENT
BEGIN:VEVENT
DTSTART;TZID=America/New_York:20250903T170000
DTEND;TZID=America/New_York:20250903T193000
DTSTAMP:20260421T062628
CREATED:20250822T215930Z
LAST-MODIFIED:20250822T215930Z
UID:10012381-1756918800-1756927800@savannahfoodtruckforce.com
SUMMARY:-
DESCRIPTION:
URL:https://savannahfoodtruckforce.com/schedule/55685/
LOCATION:The Retreat at Garden Lake\, 4024 Kessler Avenue\, Garden City\, GA\, 31408\, United States
ORGANIZER;CN="Ark Royal Burgers":MAILTO:arkroyalburgers@gmail.com
END:VEVENT
BEGIN:VEVENT
DTSTART;TZID=America/New_York:20250819T170000
DTEND;TZID=America/New_York:20250819T193000
DTSTAMP:20260421T062628
CREATED:20250805T183913Z
LAST-MODIFIED:20250805T183913Z
UID:10012276-1755622800-1755631800@savannahfoodtruckforce.com
SUMMARY:-
DESCRIPTION:
URL:https://savannahfoodtruckforce.com/schedule/55459/
LOCATION:The Retreat at Garden Lake\, 4024 Kessler Avenue\, Garden City\, GA\, 31408\, United States
ORGANIZER;CN="Chazitos Latin Cuisine":MAILTO:Chazitosfoodtruck@gmail.com
END:VEVENT
BEGIN:VEVENT
DTSTART;TZID=America/New_York:20250806T170000
DTEND;TZID=America/New_York:20250806T193000
DTSTAMP:20260421T062628
CREATED:20250728T005948Z
LAST-MODIFIED:20250728T005948Z
UID:10012199-1754499600-1754508600@savannahfoodtruckforce.com
SUMMARY:-
DESCRIPTION:
URL:https://savannahfoodtruckforce.com/schedule/55300/
LOCATION:The Retreat at Garden Lake\, 4024 Kessler Avenue\, Garden City\, GA\, 31408\, United States
ORGANIZER;CN="Philly Boyz Cheese Steaks":MAILTO:phillyboyzga@gmail.com
END:VEVENT
BEGIN:VEVENT
DTSTART;TZID=America/New_York:20250723T170000
DTEND;TZID=America/New_York:20250723T193000
DTSTAMP:20260421T062628
CREATED:20250712T001919Z
LAST-MODIFIED:20250723T194406Z
UID:10012124-1753290000-1753299000@savannahfoodtruckforce.com
SUMMARY:-
DESCRIPTION:
URL:https://savannahfoodtruckforce.com/schedule/55113/
LOCATION:The Retreat at Garden Lake\, 4024 Kessler Avenue\, Garden City\, GA\, 31408\, United States
ORGANIZER;CN="Latin Chicks":MAILTO:latinchicks.bookings@gmail.com
END:VEVENT
BEGIN:VEVENT
DTSTART;TZID=America/New_York:20250709T170000
DTEND;TZID=America/New_York:20250709T193000
DTSTAMP:20260421T062628
CREATED:20250628T162602Z
LAST-MODIFIED:20250628T162602Z
UID:10012084-1752080400-1752089400@savannahfoodtruckforce.com
SUMMARY:-
DESCRIPTION:
URL:https://savannahfoodtruckforce.com/schedule/55029/
LOCATION:The Retreat at Garden Lake\, 4024 Kessler Avenue\, Garden City\, GA\, 31408\, United States
ORGANIZER;CN="Mexicali Fresh":MAILTO:https://www.mexicalifresh.net/contact/
END:VEVENT
BEGIN:VEVENT
DTSTART;TZID=America/New_York:20250625T170000
DTEND;TZID=America/New_York:20250625T193000
DTSTAMP:20260421T062628
CREATED:20250615T194046Z
LAST-MODIFIED:20250615T194046Z
UID:10011967-1750870800-1750879800@savannahfoodtruckforce.com
SUMMARY:-
DESCRIPTION:
URL:https://savannahfoodtruckforce.com/schedule/54782/
LOCATION:The Retreat at Garden Lake\, 4024 Kessler Avenue\, Garden City\, GA\, 31408\, United States
ORGANIZER;CN="Royal Tasty Avenue":MAILTO:royaltastyavenuefoodtruck@gmail.com
END:VEVENT
BEGIN:VEVENT
DTSTART;TZID=America/New_York:20250611T170000
DTEND;TZID=America/New_York:20250611T193000
DTSTAMP:20260421T062628
CREATED:20250601T171159Z
LAST-MODIFIED:20250601T171159Z
UID:10011847-1749661200-1749670200@savannahfoodtruckforce.com
SUMMARY:-
DESCRIPTION:
URL:https://savannahfoodtruckforce.com/schedule/54524/
LOCATION:The Retreat at Garden Lake\, 4024 Kessler Avenue\, Garden City\, GA\, 31408\, United States
ORGANIZER;CN="Pie Society":MAILTO:hello@thebritishpiecompany.com
END:VEVENT
BEGIN:VEVENT
DTSTART;TZID=America/New_York:20250528T170000
DTEND;TZID=America/New_York:20250528T193000
DTSTAMP:20260421T062628
CREATED:20250517T142047Z
LAST-MODIFIED:20250517T142047Z
UID:10011783-1748451600-1748460600@savannahfoodtruckforce.com
SUMMARY:-
DESCRIPTION:
URL:https://savannahfoodtruckforce.com/schedule/54391/
LOCATION:The Retreat at Garden Lake\, 4024 Kessler Avenue\, Garden City\, GA\, 31408\, United States
ORGANIZER;CN="Ark Royal Burgers":MAILTO:arkroyalburgers@gmail.com
END:VEVENT
BEGIN:VEVENT
DTSTART;TZID=America/New_York:20250513T170000
DTEND;TZID=America/New_York:20250513T193000
DTSTAMP:20260421T062628
CREATED:20250503T230932Z
LAST-MODIFIED:20250503T230932Z
UID:10011755-1747155600-1747164600@savannahfoodtruckforce.com
SUMMARY:-
DESCRIPTION:
URL:https://savannahfoodtruckforce.com/schedule/54273/
LOCATION:The Retreat at Garden Lake\, 4024 Kessler Avenue\, Garden City\, GA\, 31408\, United States
ORGANIZER;CN="Top Dog":MAILTO:Topdogsfoodtruck@gmail.com
END:VEVENT
BEGIN:VEVENT
DTSTART;TZID=America/New_York:20250430T170000
DTEND;TZID=America/New_York:20250430T193000
DTSTAMP:20260421T062628
CREATED:20250420T012933Z
LAST-MODIFIED:20250420T012933Z
UID:10011677-1746032400-1746041400@savannahfoodtruckforce.com
SUMMARY:-
DESCRIPTION:
URL:https://savannahfoodtruckforce.com/schedule/54066/
LOCATION:The Retreat at Garden Lake\, 4024 Kessler Avenue\, Garden City\, GA\, 31408\, United States
ORGANIZER;CN="520 Wings":MAILTO:520wingssav@gmail.com
END:VEVENT
BEGIN:VEVENT
DTSTART;TZID=America/New_York:20250416T170000
DTEND;TZID=America/New_York:20250416T193000
DTSTAMP:20260421T062628
CREATED:20250405T202147Z
LAST-MODIFIED:20250415T232523Z
UID:10011596-1744822800-1744831800@savannahfoodtruckforce.com
SUMMARY:-
DESCRIPTION:
URL:https://savannahfoodtruckforce.com/schedule/53895/
LOCATION:The Retreat at Garden Lake\, 4024 Kessler Avenue\, Garden City\, GA\, 31408\, United States
ORGANIZER;CN="Top Dog":MAILTO:Topdogsfoodtruck@gmail.com
END:VEVENT
BEGIN:VEVENT
DTSTART;TZID=America/New_York:20250402T170000
DTEND;TZID=America/New_York:20250402T193000
DTSTAMP:20260421T062628
CREATED:20250322T002635Z
LAST-MODIFIED:20250322T002635Z
UID:10011479-1743613200-1743622200@savannahfoodtruckforce.com
SUMMARY:-
DESCRIPTION:
URL:https://savannahfoodtruckforce.com/schedule/53651/
LOCATION:The Retreat at Garden Lake\, 4024 Kessler Avenue\, Garden City\, GA\, 31408\, United States
ORGANIZER;CN="Oh Crepe!":MAILTO:ohcrepesav@gmail.com
END:VEVENT
BEGIN:VEVENT
DTSTART;TZID=America/New_York:20250319T170000
DTEND;TZID=America/New_York:20250319T193000
DTSTAMP:20260421T062628
CREATED:20250308T004938Z
LAST-MODIFIED:20250308T004938Z
UID:10011417-1742403600-1742412600@savannahfoodtruckforce.com
SUMMARY:-
DESCRIPTION:
URL:https://savannahfoodtruckforce.com/schedule/53522/
LOCATION:The Retreat at Garden Lake\, 4024 Kessler Avenue\, Garden City\, GA\, 31408\, United States
ORGANIZER;CN="Krazian":MAILTO:krazian2@gmail.com
END:VEVENT
BEGIN:VEVENT
DTSTART;TZID=America/New_York:20250227T170000
DTEND;TZID=America/New_York:20250227T193000
DTSTAMP:20260421T062628
CREATED:20250220T232527Z
LAST-MODIFIED:20250220T232527Z
UID:10011357-1740675600-1740684600@savannahfoodtruckforce.com
SUMMARY:-
DESCRIPTION:
URL:https://savannahfoodtruckforce.com/schedule/53396/
LOCATION:The Retreat at Garden Lake\, 4024 Kessler Avenue\, Garden City\, GA\, 31408\, United States
ORGANIZER;CN="It's a Jerk Shack":MAILTO:itsajerkshack@gmail.com
END:VEVENT
BEGIN:VEVENT
DTSTART;TZID=America/New_York:20250213T170000
DTEND;TZID=America/New_York:20250213T193000
DTSTAMP:20260421T062628
CREATED:20250208T231957Z
LAST-MODIFIED:20250208T231957Z
UID:10011274-1739466000-1739475000@savannahfoodtruckforce.com
SUMMARY:-
DESCRIPTION:
URL:https://savannahfoodtruckforce.com/schedule/53220/
LOCATION:The Retreat at Garden Lake\, 4024 Kessler Avenue\, Garden City\, GA\, 31408\, United States
ORGANIZER;CN="Royal Tasty Avenue":MAILTO:royaltastyavenuefoodtruck@gmail.com
END:VEVENT
BEGIN:VEVENT
DTSTART;TZID=America/New_York:20250122T170000
DTEND;TZID=America/New_York:20250122T193000
DTSTAMP:20260421T062628
CREATED:20250110T011918Z
LAST-MODIFIED:20250121T125049Z
UID:10011103-1737565200-1737574200@savannahfoodtruckforce.com
SUMMARY:-
DESCRIPTION:
URL:https://savannahfoodtruckforce.com/schedule/52823/
LOCATION:The Retreat at Garden Lake\, 4024 Kessler Avenue\, Garden City\, GA\, 31408\, United States
ORGANIZER;CN="Bowtie Barbecue Co.":MAILTO:Danielle@donaldsonenterprises.com
END:VEVENT
BEGIN:VEVENT
DTSTART;TZID=America/New_York:20250108T170000
DTEND;TZID=America/New_York:20250108T193000
DTSTAMP:20260421T062628
CREATED:20241228T145837Z
LAST-MODIFIED:20241228T145837Z
UID:10011054-1736355600-1736364600@savannahfoodtruckforce.com
SUMMARY:-
DESCRIPTION:
URL:https://savannahfoodtruckforce.com/schedule/52721/
LOCATION:The Retreat at Garden Lake\, 4024 Kessler Avenue\, Garden City\, GA\, 31408\, United States
ORGANIZER;CN="Latin Chicks":MAILTO:latinchicks.bookings@gmail.com
END:VEVENT
BEGIN:VEVENT
DTSTART;TZID=America/New_York:20241223T170000
DTEND;TZID=America/New_York:20241223T193000
DTSTAMP:20260421T062628
CREATED:20241214T154014Z
LAST-MODIFIED:20241214T154014Z
UID:10011003-1734973200-1734982200@savannahfoodtruckforce.com
SUMMARY:-
DESCRIPTION:
URL:https://savannahfoodtruckforce.com/schedule/52587/
LOCATION:The Retreat at Garden Lake\, 4024 Kessler Avenue\, Garden City\, GA\, 31408\, United States
ORGANIZER;CN="Pie Society":MAILTO:hello@thebritishpiecompany.com
END:VEVENT
BEGIN:VEVENT
DTSTART;TZID=America/New_York:20241219T170000
DTEND;TZID=America/New_York:20241219T193000
DTSTAMP:20260421T062628
CREATED:20241214T153959Z
LAST-MODIFIED:20241214T154204Z
UID:10011017-1734627600-1734636600@savannahfoodtruckforce.com
SUMMARY:-
DESCRIPTION:
URL:https://savannahfoodtruckforce.com/schedule/52615/
LOCATION:The Retreat at Garden Lake\, 4024 Kessler Avenue\, Garden City\, GA\, 31408\, United States
ORGANIZER;CN="Krazian":MAILTO:krazian2@gmail.com
END:VEVENT
BEGIN:VEVENT
DTSTART;TZID=America/New_York:20241121T170000
DTEND;TZID=America/New_York:20241121T193000
DTSTAMP:20260421T062628
CREATED:20241117T194805Z
LAST-MODIFIED:20241117T194805Z
UID:10010870-1732208400-1732217400@savannahfoodtruckforce.com
SUMMARY:-
DESCRIPTION:
URL:https://savannahfoodtruckforce.com/schedule/52301/
LOCATION:The Retreat at Garden Lake\, 4024 Kessler Avenue\, Garden City\, GA\, 31408\, United States
ORGANIZER;CN="Bayou Cafe":MAILTO:Bayousavannah@gmail.com
END:VEVENT
BEGIN:VEVENT
DTSTART;TZID=America/New_York:20241104T170000
DTEND;TZID=America/New_York:20241104T193000
DTSTAMP:20260421T062628
CREATED:20241104T191356Z
LAST-MODIFIED:20241104T191356Z
UID:10010861-1730739600-1730748600@savannahfoodtruckforce.com
SUMMARY:-
DESCRIPTION:
URL:https://savannahfoodtruckforce.com/schedule/52275/
LOCATION:The Retreat at Garden Lake\, 4024 Kessler Avenue\, Garden City\, GA\, 31408\, United States
ORGANIZER;CN="Top Dog":MAILTO:Topdogsfoodtruck@gmail.com
END:VEVENT
END:VCALENDAR