BEGIN:VCALENDAR
VERSION:2.0
PRODID:-//Savannah Food Truck Force - ECPv6.15.12.2//NONSGML v1.0//EN
CALSCALE:GREGORIAN
METHOD:PUBLISH
X-ORIGINAL-URL:https://savannahfoodtruckforce.com
X-WR-CALDESC:Events for Savannah Food Truck Force
REFRESH-INTERVAL;VALUE=DURATION:PT1H
X-Robots-Tag:noindex
X-PUBLISHED-TTL:PT1H
BEGIN:VTIMEZONE
TZID:America/New_York
BEGIN:DAYLIGHT
TZOFFSETFROM:-0500
TZOFFSETTO:-0400
TZNAME:EDT
DTSTART:20220313T070000
END:DAYLIGHT
BEGIN:STANDARD
TZOFFSETFROM:-0400
TZOFFSETTO:-0500
TZNAME:EST
DTSTART:20221106T060000
END:STANDARD
BEGIN:DAYLIGHT
TZOFFSETFROM:-0500
TZOFFSETTO:-0400
TZNAME:EDT
DTSTART:20230312T070000
END:DAYLIGHT
BEGIN:STANDARD
TZOFFSETFROM:-0400
TZOFFSETTO:-0500
TZNAME:EST
DTSTART:20231105T060000
END:STANDARD
BEGIN:DAYLIGHT
TZOFFSETFROM:-0500
TZOFFSETTO:-0400
TZNAME:EDT
DTSTART:20240310T070000
END:DAYLIGHT
BEGIN:STANDARD
TZOFFSETFROM:-0400
TZOFFSETTO:-0500
TZNAME:EST
DTSTART:20241103T060000
END:STANDARD
BEGIN:DAYLIGHT
TZOFFSETFROM:-0500
TZOFFSETTO:-0400
TZNAME:EDT
DTSTART:20250309T070000
END:DAYLIGHT
BEGIN:STANDARD
TZOFFSETFROM:-0400
TZOFFSETTO:-0500
TZNAME:EST
DTSTART:20251102T060000
END:STANDARD
BEGIN:DAYLIGHT
TZOFFSETFROM:-0500
TZOFFSETTO:-0400
TZNAME:EDT
DTSTART:20260308T070000
END:DAYLIGHT
BEGIN:STANDARD
TZOFFSETFROM:-0400
TZOFFSETTO:-0500
TZNAME:EST
DTSTART:20261101T060000
END:STANDARD
BEGIN:DAYLIGHT
TZOFFSETFROM:-0500
TZOFFSETTO:-0400
TZNAME:EDT
DTSTART:20270314T070000
END:DAYLIGHT
BEGIN:STANDARD
TZOFFSETFROM:-0400
TZOFFSETTO:-0500
TZNAME:EST
DTSTART:20271107T060000
END:STANDARD
END:VTIMEZONE
BEGIN:VEVENT
DTSTART;TZID=America/New_York:20260129T170000
DTEND;TZID=America/New_York:20260129T193000
DTSTAMP:20260421T060228
CREATED:20260124T182042Z
LAST-MODIFIED:20260124T182042Z
UID:10013152-1769706000-1769715000@savannahfoodtruckforce.com
SUMMARY:-
DESCRIPTION:
URL:https://savannahfoodtruckforce.com/schedule/59415/
LOCATION:Waverly Station\, 2155 Benton Blvd.\, Pooler\, GA\, 31407\, United States
END:VEVENT
BEGIN:VEVENT
DTSTART;TZID=America/New_York:20250924T170000
DTEND;TZID=America/New_York:20250924T193000
DTSTAMP:20260421T060228
CREATED:20250919T190110Z
LAST-MODIFIED:20250919T190110Z
UID:10012519-1758733200-1758742200@savannahfoodtruckforce.com
SUMMARY:-
DESCRIPTION:
URL:https://savannahfoodtruckforce.com/schedule/55972/
LOCATION:Waverly Station\, 2155 Benton Blvd.\, Pooler\, GA\, 31407\, United States
ORGANIZER;CN="It's a Jerk Shack":MAILTO:itsajerkshack@gmail.com
END:VEVENT
BEGIN:VEVENT
DTSTART;TZID=America/New_York:20250911T170000
DTEND;TZID=America/New_York:20250911T193000
DTSTAMP:20260421T060228
CREATED:20250907T162456Z
LAST-MODIFIED:20250911T213258Z
UID:10012460-1757610000-1757619000@savannahfoodtruckforce.com
SUMMARY:-
DESCRIPTION:
URL:https://savannahfoodtruckforce.com/schedule/55850/
LOCATION:Waverly Station\, 2155 Benton Blvd.\, Pooler\, GA\, 31407\, United States
ORGANIZER;CN="It's a Jerk Shack":MAILTO:itsajerkshack@gmail.com
END:VEVENT
BEGIN:VEVENT
DTSTART;TZID=America/New_York:20250812T170000
DTEND;TZID=America/New_York:20250812T193000
DTSTAMP:20260421T060228
CREATED:20250805T183849Z
LAST-MODIFIED:20250805T183849Z
UID:10012316-1755018000-1755027000@savannahfoodtruckforce.com
SUMMARY:-
DESCRIPTION:
URL:https://savannahfoodtruckforce.com/schedule/55539/
LOCATION:Waverly Station\, 2155 Benton Blvd.\, Pooler\, GA\, 31407\, United States
ORGANIZER;CN="Mexicali Fresh":MAILTO:https://www.mexicalifresh.net/contact/
END:VEVENT
BEGIN:VEVENT
DTSTART;TZID=America/New_York:20250731T170000
DTEND;TZID=America/New_York:20250731T193000
DTSTAMP:20260421T060228
CREATED:20250728T005836Z
LAST-MODIFIED:20250728T005836Z
UID:10012249-1753981200-1753990200@savannahfoodtruckforce.com
SUMMARY:-
DESCRIPTION:
URL:https://savannahfoodtruckforce.com/schedule/55404/
LOCATION:Waverly Station\, 2155 Benton Blvd.\, Pooler\, GA\, 31407\, United States
ORGANIZER;CN="520 Wings":MAILTO:520wingssav@gmail.com
END:VEVENT
BEGIN:VEVENT
DTSTART;TZID=America/New_York:20250718T170000
DTEND;TZID=America/New_York:20250718T193000
DTSTAMP:20260421T060228
CREATED:20250712T001853Z
LAST-MODIFIED:20250717T183731Z
UID:10012165-1752858000-1752867000@savannahfoodtruckforce.com
SUMMARY:-
DESCRIPTION:
URL:https://savannahfoodtruckforce.com/schedule/55202/
LOCATION:Waverly Station\, 2155 Benton Blvd.\, Pooler\, GA\, 31407\, United States
ORGANIZER;CN="Philly Boyz Cheese Steaks":MAILTO:phillyboyzga@gmail.com
END:VEVENT
BEGIN:VEVENT
DTSTART;TZID=America/New_York:20250703T170000
DTEND;TZID=America/New_York:20250703T193000
DTSTAMP:20260421T060228
CREATED:20250628T162520Z
LAST-MODIFIED:20250628T162520Z
UID:10012104-1751562000-1751571000@savannahfoodtruckforce.com
SUMMARY:-
DESCRIPTION:
URL:https://savannahfoodtruckforce.com/schedule/55069/
LOCATION:Waverly Station\, 2155 Benton Blvd.\, Pooler\, GA\, 31407\, United States
ORGANIZER;CN="Top Dog":MAILTO:Topdogsfoodtruck@gmail.com
END:VEVENT
BEGIN:VEVENT
DTSTART;TZID=America/New_York:20250623T170000
DTEND;TZID=America/New_York:20250623T193000
DTSTAMP:20260421T060228
CREATED:20250615T194012Z
LAST-MODIFIED:20250615T194012Z
UID:10012021-1750698000-1750707000@savannahfoodtruckforce.com
SUMMARY:-
DESCRIPTION:
URL:https://savannahfoodtruckforce.com/schedule/54893/
LOCATION:Waverly Station\, 2155 Benton Blvd.\, Pooler\, GA\, 31407\, United States
ORGANIZER;CN="Mexicali Fresh":MAILTO:https://www.mexicalifresh.net/contact/
END:VEVENT
BEGIN:VEVENT
DTSTART;TZID=America/New_York:20250429T170000
DTEND;TZID=America/New_York:20250429T193000
DTSTAMP:20260421T060228
CREATED:20250420T012933Z
LAST-MODIFIED:20250420T012933Z
UID:10011676-1745946000-1745955000@savannahfoodtruckforce.com
SUMMARY:-
DESCRIPTION:
URL:https://savannahfoodtruckforce.com/schedule/54064/
LOCATION:Waverly Station\, 2155 Benton Blvd.\, Pooler\, GA\, 31407\, United States
ORGANIZER;CN="520 Wings":MAILTO:520wingssav@gmail.com
END:VEVENT
BEGIN:VEVENT
DTSTART;TZID=America/New_York:20250403T170000
DTEND;TZID=America/New_York:20250403T193000
DTSTAMP:20260421T060228
CREATED:20250322T002622Z
LAST-MODIFIED:20250322T002622Z
UID:10011492-1743699600-1743708600@savannahfoodtruckforce.com
SUMMARY:-
DESCRIPTION:
URL:https://savannahfoodtruckforce.com/schedule/53677/
LOCATION:Waverly Station\, 2155 Benton Blvd.\, Pooler\, GA\, 31407\, United States
ORGANIZER;CN="Top Dog":MAILTO:Topdogsfoodtruck@gmail.com
END:VEVENT
BEGIN:VEVENT
DTSTART;TZID=America/New_York:20250305T170000
DTEND;TZID=America/New_York:20250305T193000
DTSTAMP:20260421T060228
CREATED:20250220T232454Z
LAST-MODIFIED:20250305T142227Z
UID:10011334-1741194000-1741203000@savannahfoodtruckforce.com
SUMMARY:-
DESCRIPTION:
URL:https://savannahfoodtruckforce.com/schedule/53350/
LOCATION:Waverly Station\, 2155 Benton Blvd.\, Pooler\, GA\, 31407\, United States
ORGANIZER;CN="Chazitos Latin Cuisine":MAILTO:Chazitosfoodtruck@gmail.com
END:VEVENT
BEGIN:VEVENT
DTSTART;TZID=America/New_York:20250220T170000
DTEND;TZID=America/New_York:20250220T193000
DTSTAMP:20260421T060228
CREATED:20250208T231949Z
LAST-MODIFIED:20250208T231949Z
UID:10011290-1740070800-1740079800@savannahfoodtruckforce.com
SUMMARY:-
DESCRIPTION:
URL:https://savannahfoodtruckforce.com/schedule/53258/
LOCATION:Waverly Station\, 2155 Benton Blvd.\, Pooler\, GA\, 31407\, United States
ORGANIZER;CN="It's a Jerk Shack":MAILTO:itsajerkshack@gmail.com
END:VEVENT
BEGIN:VEVENT
DTSTART;TZID=America/New_York:20250129T170000
DTEND;TZID=America/New_York:20250129T193000
DTSTAMP:20260421T060228
CREATED:20250124T214542Z
LAST-MODIFIED:20250124T214542Z
UID:10011222-1738170000-1738179000@savannahfoodtruckforce.com
SUMMARY:-
DESCRIPTION:
URL:https://savannahfoodtruckforce.com/schedule/53087/
LOCATION:Waverly Station\, 2155 Benton Blvd.\, Pooler\, GA\, 31407\, United States
ORGANIZER;CN="Top Dog":MAILTO:Topdogsfoodtruck@gmail.com
END:VEVENT
BEGIN:VEVENT
DTSTART;TZID=America/New_York:20250122T170000
DTEND;TZID=America/New_York:20250122T193000
DTSTAMP:20260421T060228
CREATED:20250110T011845Z
LAST-MODIFIED:20250122T145625Z
UID:10011156-1737565200-1737574200@savannahfoodtruckforce.com
SUMMARY:-
DESCRIPTION:
URL:https://savannahfoodtruckforce.com/schedule/52929/
LOCATION:Waverly Station\, 2155 Benton Blvd.\, Pooler\, GA\, 31407\, United States
ORGANIZER;CN="Top Dog":MAILTO:Topdogsfoodtruck@gmail.com
END:VEVENT
BEGIN:VEVENT
DTSTART;TZID=America/New_York:20241105T170000
DTEND;TZID=America/New_York:20241105T193000
DTSTAMP:20260421T060228
CREATED:20241103T220932Z
LAST-MODIFIED:20241103T220932Z
UID:10010852-1730826000-1730835000@savannahfoodtruckforce.com
SUMMARY:-
DESCRIPTION:
URL:https://savannahfoodtruckforce.com/schedule/52243/
LOCATION:Waverly Station\, 2155 Benton Blvd.\, Pooler\, GA\, 31407\, United States
ORGANIZER;CN="Oh Crepe!":MAILTO:ohcrepesav@gmail.com
END:VEVENT
BEGIN:VEVENT
DTSTART;TZID=America/New_York:20241002T170000
DTEND;TZID=America/New_York:20241002T193000
DTSTAMP:20260421T060228
CREATED:20240921T011012Z
LAST-MODIFIED:20240930T122834Z
UID:10010567-1727888400-1727897400@savannahfoodtruckforce.com
SUMMARY:-
DESCRIPTION:
URL:https://savannahfoodtruckforce.com/schedule/51663/
LOCATION:Waverly Station\, 2155 Benton Blvd.\, Pooler\, GA\, 31407\, United States
ORGANIZER;CN="Ark Royal Burgers":MAILTO:arkroyalburgers@gmail.com
END:VEVENT
BEGIN:VEVENT
DTSTART;TZID=America/New_York:20240828T170000
DTEND;TZID=America/New_York:20240828T193000
DTSTAMP:20260421T060228
CREATED:20240823T193518Z
LAST-MODIFIED:20240823T193518Z
UID:10010381-1724864400-1724873400@savannahfoodtruckforce.com
SUMMARY:-
DESCRIPTION:
URL:https://savannahfoodtruckforce.com/schedule/51156/
LOCATION:Waverly Station\, 2155 Benton Blvd.\, Pooler\, GA\, 31407\, United States
ORGANIZER;CN="Chazitos Latin Cuisine":MAILTO:Chazitosfoodtruck@gmail.com
END:VEVENT
BEGIN:VEVENT
DTSTART;TZID=America/New_York:20240820T170000
DTEND;TZID=America/New_York:20240820T193000
DTSTAMP:20260421T060228
CREATED:20240810T160438Z
LAST-MODIFIED:20240819T132643Z
UID:10010280-1724173200-1724182200@savannahfoodtruckforce.com
SUMMARY:-
DESCRIPTION:
URL:https://savannahfoodtruckforce.com/schedule/50917/
LOCATION:Waverly Station\, 2155 Benton Blvd.\, Pooler\, GA\, 31407\, United States
END:VEVENT
BEGIN:VEVENT
DTSTART;TZID=America/New_York:20240806T170000
DTEND;TZID=America/New_York:20240806T193000
DTSTAMP:20260421T060228
CREATED:20240726T000358Z
LAST-MODIFIED:20240805T160523Z
UID:10010204-1722963600-1722972600@savannahfoodtruckforce.com
SUMMARY:-
DESCRIPTION:
URL:https://savannahfoodtruckforce.com/schedule/50705/
LOCATION:Waverly Station\, 2155 Benton Blvd.\, Pooler\, GA\, 31407\, United States
END:VEVENT
BEGIN:VEVENT
DTSTART;TZID=America/New_York:20240717T170000
DTEND;TZID=America/New_York:20240717T193000
DTSTAMP:20260421T060228
CREATED:20240713T011915Z
LAST-MODIFIED:20240713T011915Z
UID:10010172-1721235600-1721244600@savannahfoodtruckforce.com
SUMMARY:-
DESCRIPTION:
URL:https://savannahfoodtruckforce.com/schedule/50441/
LOCATION:Waverly Station\, 2155 Benton Blvd.\, Pooler\, GA\, 31407\, United States
ORGANIZER;CN="It's a Jerk Shack":MAILTO:itsajerkshack@gmail.com
END:VEVENT
BEGIN:VEVENT
DTSTART;TZID=America/New_York:20240626T170000
DTEND;TZID=America/New_York:20240626T193000
DTSTAMP:20260421T060228
CREATED:20240614T133330Z
LAST-MODIFIED:20240614T133330Z
UID:10009955-1719421200-1719430200@savannahfoodtruckforce.com
SUMMARY:-
DESCRIPTION:
URL:https://savannahfoodtruckforce.com/schedule/36155/
LOCATION:Waverly Station\, 2155 Benton Blvd.\, Pooler\, GA\, 31407\, United States
ORGANIZER;CN="Bowtie Barbecue Co.":MAILTO:Danielle@donaldsonenterprises.com
END:VEVENT
BEGIN:VEVENT
DTSTART;TZID=America/New_York:20240610T170000
DTEND;TZID=America/New_York:20240610T193000
DTSTAMP:20260421T060228
CREATED:20240602T191550Z
LAST-MODIFIED:20240610T152523Z
UID:10009915-1718038800-1718047800@savannahfoodtruckforce.com
SUMMARY:-
DESCRIPTION:
URL:https://savannahfoodtruckforce.com/schedule/36071/
LOCATION:Waverly Station\, 2155 Benton Blvd.\, Pooler\, GA\, 31407\, United States
ORGANIZER;CN="Food Boxx":MAILTO:thefoodboxx@yahoo.com
END:VEVENT
BEGIN:VEVENT
DTSTART;TZID=America/New_York:20240529T170000
DTEND;TZID=America/New_York:20240529T193000
DTSTAMP:20260421T060228
CREATED:20240517T234443Z
LAST-MODIFIED:20240517T234443Z
UID:10009733-1717002000-1717011000@savannahfoodtruckforce.com
SUMMARY:-
DESCRIPTION:
URL:https://savannahfoodtruckforce.com/schedule/35675/
LOCATION:Waverly Station\, 2155 Benton Blvd.\, Pooler\, GA\, 31407\, United States
END:VEVENT
BEGIN:VEVENT
DTSTART;TZID=America/New_York:20240508T170000
DTEND;TZID=America/New_York:20240508T193000
DTSTAMP:20260421T060228
CREATED:20240506T141859Z
LAST-MODIFIED:20240506T225701Z
UID:10009665-1715187600-1715196600@savannahfoodtruckforce.com
SUMMARY:-
DESCRIPTION:
URL:https://savannahfoodtruckforce.com/schedule/35515/
LOCATION:Waverly Station\, 2155 Benton Blvd.\, Pooler\, GA\, 31407\, United States
ORGANIZER;CN="Latin Chicks":MAILTO:latinchicks.bookings@gmail.com
END:VEVENT
BEGIN:VEVENT
DTSTART;TZID=America/New_York:20240326T170000
DTEND;TZID=America/New_York:20240326T193000
DTSTAMP:20260421T060228
CREATED:20240324T172526Z
LAST-MODIFIED:20240327T110931Z
UID:10009438-1711472400-1711481400@savannahfoodtruckforce.com
SUMMARY:-
DESCRIPTION:
URL:https://savannahfoodtruckforce.com/schedule/27544/
LOCATION:Waverly Station\, 2155 Benton Blvd.\, Pooler\, GA\, 31407\, United States
ORGANIZER;CN="Chazitos Latin Cuisine":MAILTO:Chazitosfoodtruck@gmail.com
END:VEVENT
BEGIN:VEVENT
DTSTART;TZID=America/New_York:20240313T170000
DTEND;TZID=America/New_York:20240313T193000
DTSTAMP:20260421T060228
CREATED:20240309T204828Z
LAST-MODIFIED:20240309T204828Z
UID:10009368-1710349200-1710358200@savannahfoodtruckforce.com
SUMMARY:-
DESCRIPTION:
URL:https://savannahfoodtruckforce.com/schedule/27397/
LOCATION:Waverly Station\, 2155 Benton Blvd.\, Pooler\, GA\, 31407\, United States
ORGANIZER;CN="Bowtie Barbecue Co.":MAILTO:Danielle@donaldsonenterprises.com
END:VEVENT
BEGIN:VEVENT
DTSTART;TZID=America/New_York:20240223T170000
DTEND;TZID=America/New_York:20240223T193000
DTSTAMP:20260421T060228
CREATED:20240210T212721Z
LAST-MODIFIED:20240210T212721Z
UID:10009266-1708707600-1708716600@savannahfoodtruckforce.com
SUMMARY:-
DESCRIPTION:
URL:https://savannahfoodtruckforce.com/schedule/27156/
LOCATION:Waverly Station\, 2155 Benton Blvd.\, Pooler\, GA\, 31407\, United States
ORGANIZER;CN="La Chalupa":MAILTO:Restaurantlachalupa@gmail.com
END:VEVENT
BEGIN:VEVENT
DTSTART;TZID=America/New_York:20240201T170000
DTEND;TZID=America/New_York:20240201T193000
DTSTAMP:20260421T060228
CREATED:20240129T212342Z
LAST-MODIFIED:20240129T212342Z
UID:10009198-1706806800-1706815800@savannahfoodtruckforce.com
SUMMARY:-
DESCRIPTION:
URL:https://savannahfoodtruckforce.com/schedule/27009/
LOCATION:Waverly Station\, 2155 Benton Blvd.\, Pooler\, GA\, 31407\, United States
ORGANIZER;CN="520 Wings":MAILTO:520wingssav@gmail.com
END:VEVENT
BEGIN:VEVENT
DTSTART;TZID=America/New_York:20240110T170000
DTEND;TZID=America/New_York:20240110T193000
DTSTAMP:20260421T060228
CREATED:20231231T024424Z
LAST-MODIFIED:20231231T024424Z
UID:10009001-1704906000-1704915000@savannahfoodtruckforce.com
SUMMARY:-
DESCRIPTION:
URL:https://savannahfoodtruckforce.com/schedule/26595/
LOCATION:Waverly Station\, 2155 Benton Blvd.\, Pooler\, GA\, 31407\, United States
ORGANIZER;CN="Royal Tasty Avenue":MAILTO:royaltastyavenuefoodtruck@gmail.com
END:VEVENT
BEGIN:VEVENT
DTSTART;TZID=America/New_York:20231227T170000
DTEND;TZID=America/New_York:20231227T193000
DTSTAMP:20260421T060228
CREATED:20231216T234234Z
LAST-MODIFIED:20231216T234234Z
UID:10008909-1703696400-1703705400@savannahfoodtruckforce.com
SUMMARY:-
DESCRIPTION:
URL:https://savannahfoodtruckforce.com/schedule/26409/
LOCATION:Waverly Station\, 2155 Benton Blvd.\, Pooler\, GA\, 31407\, United States
ORGANIZER;CN="Chazitos Latin Cuisine":MAILTO:Chazitosfoodtruck@gmail.com
END:VEVENT
END:VCALENDAR