BEGIN:VCALENDAR
VERSION:2.0
PRODID:-//Savannah Food Truck Force - ECPv6.15.12.2//NONSGML v1.0//EN
CALSCALE:GREGORIAN
METHOD:PUBLISH
X-ORIGINAL-URL:https://savannahfoodtruckforce.com
X-WR-CALDESC:Events for Savannah Food Truck Force
REFRESH-INTERVAL;VALUE=DURATION:PT1H
X-Robots-Tag:noindex
X-PUBLISHED-TTL:PT1H
BEGIN:VTIMEZONE
TZID:America/New_York
BEGIN:DAYLIGHT
TZOFFSETFROM:-0500
TZOFFSETTO:-0400
TZNAME:EDT
DTSTART:20230312T070000
END:DAYLIGHT
BEGIN:STANDARD
TZOFFSETFROM:-0400
TZOFFSETTO:-0500
TZNAME:EST
DTSTART:20231105T060000
END:STANDARD
BEGIN:DAYLIGHT
TZOFFSETFROM:-0500
TZOFFSETTO:-0400
TZNAME:EDT
DTSTART:20240310T070000
END:DAYLIGHT
BEGIN:STANDARD
TZOFFSETFROM:-0400
TZOFFSETTO:-0500
TZNAME:EST
DTSTART:20241103T060000
END:STANDARD
BEGIN:DAYLIGHT
TZOFFSETFROM:-0500
TZOFFSETTO:-0400
TZNAME:EDT
DTSTART:20250309T070000
END:DAYLIGHT
BEGIN:STANDARD
TZOFFSETFROM:-0400
TZOFFSETTO:-0500
TZNAME:EST
DTSTART:20251102T060000
END:STANDARD
BEGIN:DAYLIGHT
TZOFFSETFROM:-0500
TZOFFSETTO:-0400
TZNAME:EDT
DTSTART:20260308T070000
END:DAYLIGHT
BEGIN:STANDARD
TZOFFSETFROM:-0400
TZOFFSETTO:-0500
TZNAME:EST
DTSTART:20261101T060000
END:STANDARD
BEGIN:DAYLIGHT
TZOFFSETFROM:-0500
TZOFFSETTO:-0400
TZNAME:EDT
DTSTART:20270314T070000
END:DAYLIGHT
BEGIN:STANDARD
TZOFFSETFROM:-0400
TZOFFSETTO:-0500
TZNAME:EST
DTSTART:20271107T060000
END:STANDARD
END:VTIMEZONE
BEGIN:VEVENT
DTSTART;TZID=America/New_York:20260409T170000
DTEND;TZID=America/New_York:20260409T193000
DTSTAMP:20260421T082413
CREATED:20260406T033752Z
LAST-MODIFIED:20260406T033752Z
UID:10013492-1775754000-1775763000@savannahfoodtruckforce.com
SUMMARY:-
DESCRIPTION:
URL:https://savannahfoodtruckforce.com/schedule/60134/
LOCATION:Wentworth Park Apartments\, 7450 Highway 21\, Port Wentworth\, GA\, 31407\, United States
ORGANIZER;CN="Ark Royal Burgers":MAILTO:arkroyalburgers@gmail.com
END:VEVENT
BEGIN:VEVENT
DTSTART;TZID=America/New_York:20260326T170000
DTEND;TZID=America/New_York:20260326T193000
DTSTAMP:20260421T082413
CREATED:20260324T005304Z
LAST-MODIFIED:20260324T005304Z
UID:10013435-1774544400-1774553400@savannahfoodtruckforce.com
SUMMARY:-
DESCRIPTION:
URL:https://savannahfoodtruckforce.com/schedule/60018/
LOCATION:Wentworth Park Apartments\, 7450 Highway 21\, Port Wentworth\, GA\, 31407\, United States
ORGANIZER;CN="It's a Jerk Shack":MAILTO:itsajerkshack@gmail.com
END:VEVENT
BEGIN:VEVENT
DTSTART;TZID=America/New_York:20260312T170000
DTEND;TZID=America/New_York:20260312T193000
DTSTAMP:20260421T082413
CREATED:20260306T222226Z
LAST-MODIFIED:20260306T222226Z
UID:10013360-1773334800-1773343800@savannahfoodtruckforce.com
SUMMARY:-
DESCRIPTION:
URL:https://savannahfoodtruckforce.com/schedule/59868/
LOCATION:Wentworth Park Apartments\, 7450 Highway 21\, Port Wentworth\, GA\, 31407\, United States
ORGANIZER;CN="Chazitos Latin Cuisine":MAILTO:Chazitosfoodtruck@gmail.com
END:VEVENT
BEGIN:VEVENT
DTSTART;TZID=America/New_York:20260219T170000
DTEND;TZID=America/New_York:20260219T193000
DTSTAMP:20260421T082413
CREATED:20260208T191929Z
LAST-MODIFIED:20260208T191959Z
UID:10013254-1771520400-1771529400@savannahfoodtruckforce.com
SUMMARY:-
DESCRIPTION:
URL:https://savannahfoodtruckforce.com/schedule/59625/
LOCATION:Wentworth Park Apartments\, 7450 Highway 21\, Port Wentworth\, GA\, 31407\, United States
ORGANIZER;CN="520 Wings":MAILTO:520wingssav@gmail.com
END:VEVENT
BEGIN:VEVENT
DTSTART;TZID=America/New_York:20260205T170000
DTEND;TZID=America/New_York:20260205T193000
DTSTAMP:20260421T082413
CREATED:20260124T182020Z
LAST-MODIFIED:20260204T175108Z
UID:10013188-1770310800-1770319800@savannahfoodtruckforce.com
SUMMARY:-
DESCRIPTION:
URL:https://savannahfoodtruckforce.com/schedule/59487/
LOCATION:Wentworth Park Apartments\, 7450 Highway 21\, Port Wentworth\, GA\, 31407\, United States
ORGANIZER;CN="Mac Attack":MAILTO:macattackfs@yahoo.com
END:VEVENT
BEGIN:VEVENT
DTSTART;TZID=America/New_York:20260122T170000
DTEND;TZID=America/New_York:20260122T193000
DTSTAMP:20260421T082413
CREATED:20260111T005530Z
LAST-MODIFIED:20260111T005530Z
UID:10013086-1769101200-1769110200@savannahfoodtruckforce.com
SUMMARY:-
DESCRIPTION:
URL:https://savannahfoodtruckforce.com/schedule/59282/
LOCATION:Wentworth Park Apartments\, 7450 Highway 21\, Port Wentworth\, GA\, 31407\, United States
ORGANIZER;CN="It's a Jerk Shack":MAILTO:itsajerkshack@gmail.com
END:VEVENT
BEGIN:VEVENT
DTSTART;TZID=America/New_York:20260108T170000
DTEND;TZID=America/New_York:20260108T193000
DTSTAMP:20260421T082413
CREATED:20251225T220800Z
LAST-MODIFIED:20260108T193328Z
UID:10012991-1767891600-1767900600@savannahfoodtruckforce.com
SUMMARY:-
DESCRIPTION:
URL:https://savannahfoodtruckforce.com/schedule/59086/
LOCATION:Wentworth Park Apartments\, 7450 Highway 21\, Port Wentworth\, GA\, 31407\, United States
ORGANIZER;CN="Philly Boyz Cheese Steaks":MAILTO:phillyboyzga@gmail.com
END:VEVENT
BEGIN:VEVENT
DTSTART;TZID=America/New_York:20251211T170000
DTEND;TZID=America/New_York:20251211T193000
DTSTAMP:20260421T082413
CREATED:20251128T234639Z
LAST-MODIFIED:20251128T234639Z
UID:10012906-1765472400-1765481400@savannahfoodtruckforce.com
SUMMARY:-
DESCRIPTION:
URL:https://savannahfoodtruckforce.com/schedule/58818/
LOCATION:Wentworth Park Apartments\, 7450 Highway 21\, Port Wentworth\, GA\, 31407\, United States
ORGANIZER;CN="Mexicali Fresh":MAILTO:https://www.mexicalifresh.net/contact/
END:VEVENT
BEGIN:VEVENT
DTSTART;TZID=America/New_York:20251113T170000
DTEND;TZID=America/New_York:20251113T193000
DTSTAMP:20260421T082413
CREATED:20251111T193004Z
LAST-MODIFIED:20251111T193004Z
UID:10012794-1763053200-1763062200@savannahfoodtruckforce.com
SUMMARY:-
DESCRIPTION:
URL:https://savannahfoodtruckforce.com/schedule/58588/
LOCATION:Wentworth Park Apartments\, 7450 Highway 21\, Port Wentworth\, GA\, 31407\, United States
ORGANIZER;CN="Bayou Cafe":MAILTO:Bayousavannah@gmail.com
END:VEVENT
BEGIN:VEVENT
DTSTART;TZID=America/New_York:20251030T170000
DTEND;TZID=America/New_York:20251030T193000
DTSTAMP:20260421T082413
CREATED:20251017T192324Z
LAST-MODIFIED:20251030T142353Z
UID:10012696-1761843600-1761852600@savannahfoodtruckforce.com
SUMMARY:-
DESCRIPTION:
URL:https://savannahfoodtruckforce.com/schedule/58389/
LOCATION:Wentworth Park Apartments\, 7450 Highway 21\, Port Wentworth\, GA\, 31407\, United States
ORGANIZER;CN="Royal Tasty Avenue":MAILTO:royaltastyavenuefoodtruck@gmail.com
END:VEVENT
BEGIN:VEVENT
DTSTART;TZID=America/New_York:20251016T170000
DTEND;TZID=America/New_York:20251016T193000
DTSTAMP:20260421T082413
CREATED:20251004T003750Z
LAST-MODIFIED:20251004T003750Z
UID:10012588-1760634000-1760643000@savannahfoodtruckforce.com
SUMMARY:-
DESCRIPTION:
URL:https://savannahfoodtruckforce.com/schedule/58170/
LOCATION:Wentworth Park Apartments\, 7450 Highway 21\, Port Wentworth\, GA\, 31407\, United States
ORGANIZER;CN="Chazitos Latin Cuisine":MAILTO:Chazitosfoodtruck@gmail.com
END:VEVENT
BEGIN:VEVENT
DTSTART;TZID=America/New_York:20251002T170000
DTEND;TZID=America/New_York:20251002T193000
DTSTAMP:20260421T082413
CREATED:20250919T190058Z
LAST-MODIFIED:20250919T190058Z
UID:10012553-1759424400-1759433400@savannahfoodtruckforce.com
SUMMARY:-
DESCRIPTION:
URL:https://savannahfoodtruckforce.com/schedule/56040/
LOCATION:Wentworth Park Apartments\, 7450 Highway 21\, Port Wentworth\, GA\, 31407\, United States
ORGANIZER;CN="Top Dog":MAILTO:Topdogsfoodtruck@gmail.com
END:VEVENT
BEGIN:VEVENT
DTSTART;TZID=America/New_York:20250918T170000
DTEND;TZID=America/New_York:20250918T193000
DTSTAMP:20260421T082413
CREATED:20250907T162424Z
LAST-MODIFIED:20250907T162424Z
UID:10012480-1758214800-1758223800@savannahfoodtruckforce.com
SUMMARY:-
DESCRIPTION:
URL:https://savannahfoodtruckforce.com/schedule/55892/
LOCATION:Wentworth Park Apartments\, 7450 Highway 21\, Port Wentworth\, GA\, 31407\, United States
ORGANIZER;CN="520 Wings":MAILTO:520wingssav@gmail.com
END:VEVENT
BEGIN:VEVENT
DTSTART;TZID=America/New_York:20250904T170000
DTEND;TZID=America/New_York:20250904T193000
DTSTAMP:20260421T082413
CREATED:20250822T215910Z
LAST-MODIFIED:20250822T215910Z
UID:10012396-1757005200-1757014200@savannahfoodtruckforce.com
SUMMARY:-
DESCRIPTION:
URL:https://savannahfoodtruckforce.com/schedule/55715/
LOCATION:Wentworth Park Apartments\, 7450 Highway 21\, Port Wentworth\, GA\, 31407\, United States
ORGANIZER;CN="It's a Jerk Shack":MAILTO:itsajerkshack@gmail.com
END:VEVENT
BEGIN:VEVENT
DTSTART;TZID=America/New_York:20250821T170000
DTEND;TZID=America/New_York:20250821T193000
DTSTAMP:20260421T082413
CREATED:20250805T183900Z
LAST-MODIFIED:20250805T183900Z
UID:10012294-1755795600-1755804600@savannahfoodtruckforce.com
SUMMARY:-
DESCRIPTION:
URL:https://savannahfoodtruckforce.com/schedule/55495/
LOCATION:Wentworth Park Apartments\, 7450 Highway 21\, Port Wentworth\, GA\, 31407\, United States
ORGANIZER;CN="Ark Royal Burgers":MAILTO:arkroyalburgers@gmail.com
END:VEVENT
BEGIN:VEVENT
DTSTART;TZID=America/New_York:20250807T170000
DTEND;TZID=America/New_York:20250807T193000
DTSTAMP:20260421T082413
CREATED:20250728T005929Z
LAST-MODIFIED:20250807T123447Z
UID:10012218-1754586000-1754595000@savannahfoodtruckforce.com
SUMMARY:-
DESCRIPTION:
URL:https://savannahfoodtruckforce.com/schedule/55338/
LOCATION:Wentworth Park Apartments\, 7450 Highway 21\, Port Wentworth\, GA\, 31407\, United States
ORGANIZER;CN="Royal Tasty Avenue":MAILTO:royaltastyavenuefoodtruck@gmail.com
END:VEVENT
BEGIN:VEVENT
DTSTART;TZID=America/New_York:20250722T170000
DTEND;TZID=America/New_York:20250722T193000
DTSTAMP:20260421T082413
CREATED:20250712T001905Z
LAST-MODIFIED:20250721T172353Z
UID:10012135-1753203600-1753212600@savannahfoodtruckforce.com
SUMMARY:-
DESCRIPTION:
URL:https://savannahfoodtruckforce.com/schedule/55142/
LOCATION:Wentworth Park Apartments\, 7450 Highway 21\, Port Wentworth\, GA\, 31407\, United States
ORGANIZER;CN="Philly Boyz Cheese Steaks":MAILTO:phillyboyzga@gmail.com
END:VEVENT
BEGIN:VEVENT
DTSTART;TZID=America/New_York:20250710T170000
DTEND;TZID=America/New_York:20250710T193000
DTSTAMP:20260421T082413
CREATED:20250628T162602Z
LAST-MODIFIED:20250628T162602Z
UID:10012085-1752166800-1752175800@savannahfoodtruckforce.com
SUMMARY:-
DESCRIPTION:
URL:https://savannahfoodtruckforce.com/schedule/55031/
LOCATION:Wentworth Park Apartments\, 7450 Highway 21\, Port Wentworth\, GA\, 31407\, United States
ORGANIZER;CN="Mexicali Fresh":MAILTO:https://www.mexicalifresh.net/contact/
END:VEVENT
BEGIN:VEVENT
DTSTART;TZID=America/New_York:20250626T170000
DTEND;TZID=America/New_York:20250626T193000
DTSTAMP:20260421T082413
CREATED:20250615T194046Z
LAST-MODIFIED:20250625T151816Z
UID:10011969-1750957200-1750966200@savannahfoodtruckforce.com
SUMMARY:-
DESCRIPTION:
URL:https://savannahfoodtruckforce.com/schedule/54786/
LOCATION:Wentworth Park Apartments\, 7450 Highway 21\, Port Wentworth\, GA\, 31407\, United States
ORGANIZER;CN="Royal Tasty Avenue":MAILTO:royaltastyavenuefoodtruck@gmail.com
END:VEVENT
BEGIN:VEVENT
DTSTART;TZID=America/New_York:20250612T170000
DTEND;TZID=America/New_York:20250612T193000
DTSTAMP:20260421T082413
CREATED:20250601T171208Z
LAST-MODIFIED:20250601T171208Z
UID:10011916-1749747600-1749756600@savannahfoodtruckforce.com
SUMMARY:-
DESCRIPTION:
URL:https://savannahfoodtruckforce.com/schedule/54667/
LOCATION:Wentworth Park Apartments\, 7450 Highway 21\, Port Wentworth\, GA\, 31407\, United States
ORGANIZER;CN="Top Dog":MAILTO:Topdogsfoodtruck@gmail.com
END:VEVENT
BEGIN:VEVENT
DTSTART;TZID=America/New_York:20250529T170000
DTEND;TZID=America/New_York:20250529T193000
DTSTAMP:20260421T082413
CREATED:20250517T142047Z
LAST-MODIFIED:20250517T142047Z
UID:10011784-1748538000-1748547000@savannahfoodtruckforce.com
SUMMARY:-
DESCRIPTION:
URL:https://savannahfoodtruckforce.com/schedule/54393/
LOCATION:Wentworth Park Apartments\, 7450 Highway 21\, Port Wentworth\, GA\, 31407\, United States
ORGANIZER;CN="Ark Royal Burgers":MAILTO:arkroyalburgers@gmail.com
END:VEVENT
BEGIN:VEVENT
DTSTART;TZID=America/New_York:20250501T170000
DTEND;TZID=America/New_York:20250501T193000
DTSTAMP:20260421T082413
CREATED:20250420T012933Z
LAST-MODIFIED:20250420T012933Z
UID:10011678-1746118800-1746127800@savannahfoodtruckforce.com
SUMMARY:-
DESCRIPTION:
URL:https://savannahfoodtruckforce.com/schedule/54068/
LOCATION:Wentworth Park Apartments\, 7450 Highway 21\, Port Wentworth\, GA\, 31407\, United States
ORGANIZER;CN="520 Wings":MAILTO:520wingssav@gmail.com
END:VEVENT
BEGIN:VEVENT
DTSTART;TZID=America/New_York:20250417T170000
DTEND;TZID=America/New_York:20250417T193000
DTSTAMP:20260421T082413
CREATED:20250405T202206Z
LAST-MODIFIED:20250417T175617Z
UID:10011548-1744909200-1744918200@savannahfoodtruckforce.com
SUMMARY:-
DESCRIPTION:
URL:https://savannahfoodtruckforce.com/schedule/53803/
LOCATION:Wentworth Park Apartments\, 7450 Highway 21\, Port Wentworth\, GA\, 31407\, United States
ORGANIZER;CN="Royal Tasty Avenue":MAILTO:royaltastyavenuefoodtruck@gmail.com
END:VEVENT
BEGIN:VEVENT
DTSTART;TZID=America/New_York:20250403T170000
DTEND;TZID=America/New_York:20250403T193000
DTSTAMP:20260421T082413
CREATED:20250322T002655Z
LAST-MODIFIED:20250322T002655Z
UID:10011469-1743699600-1743708600@savannahfoodtruckforce.com
SUMMARY:-
DESCRIPTION:
URL:https://savannahfoodtruckforce.com/schedule/53631/
LOCATION:Wentworth Park Apartments\, 7450 Highway 21\, Port Wentworth\, GA\, 31407\, United States
ORGANIZER;CN="It's a Jerk Shack":MAILTO:itsajerkshack@gmail.com
END:VEVENT
BEGIN:VEVENT
DTSTART;TZID=America/New_York:20250306T170000
DTEND;TZID=America/New_York:20250306T193000
DTSTAMP:20260421T082413
CREATED:20250220T232514Z
LAST-MODIFIED:20250220T232514Z
UID:10011381-1741280400-1741289400@savannahfoodtruckforce.com
SUMMARY:-
DESCRIPTION:
URL:https://savannahfoodtruckforce.com/schedule/53447/
LOCATION:Wentworth Park Apartments\, 7450 Highway 21\, Port Wentworth\, GA\, 31407\, United States
ORGANIZER;CN="520 Wings":MAILTO:520wingssav@gmail.com
END:VEVENT
BEGIN:VEVENT
DTSTART;TZID=America/New_York:20250220T170000
DTEND;TZID=America/New_York:20250220T193000
DTSTAMP:20260421T082413
CREATED:20250208T231957Z
LAST-MODIFIED:20250218T221553Z
UID:10011270-1740070800-1740079800@savannahfoodtruckforce.com
SUMMARY:-
DESCRIPTION:
URL:https://savannahfoodtruckforce.com/schedule/53208/
LOCATION:Wentworth Park Apartments\, 7450 Highway 21\, Port Wentworth\, GA\, 31407\, United States
ORGANIZER;CN="Pie Society":MAILTO:hello@thebritishpiecompany.com
END:VEVENT
BEGIN:VEVENT
DTSTART;TZID=America/New_York:20250206T170000
DTEND;TZID=America/New_York:20250206T193000
DTSTAMP:20260421T082413
CREATED:20250124T214541Z
LAST-MODIFIED:20250124T214541Z
UID:10011225-1738861200-1738870200@savannahfoodtruckforce.com
SUMMARY:-
DESCRIPTION:
URL:https://savannahfoodtruckforce.com/schedule/53093/
LOCATION:Wentworth Park Apartments\, 7450 Highway 21\, Port Wentworth\, GA\, 31407\, United States
ORGANIZER;CN="Top Dog":MAILTO:Topdogsfoodtruck@gmail.com
END:VEVENT
BEGIN:VEVENT
DTSTART;TZID=America/New_York:20250123T170000
DTEND;TZID=America/New_York:20250123T193000
DTSTAMP:20260421T082413
CREATED:20250110T011845Z
LAST-MODIFIED:20250123T152249Z
UID:10011157-1737651600-1737660600@savannahfoodtruckforce.com
SUMMARY:-
DESCRIPTION:
URL:https://savannahfoodtruckforce.com/schedule/52931/
LOCATION:Wentworth Park Apartments\, 7450 Highway 21\, Port Wentworth\, GA\, 31407\, United States
ORGANIZER;CN="Top Dog":MAILTO:Topdogsfoodtruck@gmail.com
END:VEVENT
BEGIN:VEVENT
DTSTART;TZID=America/New_York:20250109T170000
DTEND;TZID=America/New_York:20250109T193000
DTSTAMP:20260421T082413
CREATED:20241228T145905Z
LAST-MODIFIED:20241228T145905Z
UID:10011075-1736442000-1736451000@savannahfoodtruckforce.com
SUMMARY:-
DESCRIPTION:
URL:https://savannahfoodtruckforce.com/schedule/52765/
LOCATION:Wentworth Park Apartments\, 7450 Highway 21\, Port Wentworth\, GA\, 31407\, United States
ORGANIZER;CN="It's a Jerk Shack":MAILTO:itsajerkshack@gmail.com
END:VEVENT
BEGIN:VEVENT
DTSTART;TZID=America/New_York:20241209T170000
DTEND;TZID=America/New_York:20241209T193000
DTSTAMP:20260421T082413
CREATED:20241201T000505Z
LAST-MODIFIED:20241208T235044Z
UID:10010944-1733763600-1733772600@savannahfoodtruckforce.com
SUMMARY:-
DESCRIPTION:
URL:https://savannahfoodtruckforce.com/schedule/52464/
LOCATION:Wentworth Park Apartments\, 7450 Highway 21\, Port Wentworth\, GA\, 31407\, United States
ORGANIZER;CN="Royal Tasty Avenue":MAILTO:royaltastyavenuefoodtruck@gmail.com
END:VEVENT
END:VCALENDAR